BEGIN:VCALENDAR
VERSION:2.0
PRODID:-//Iz Prve Ruke - Koncerti u Americi i Kanadi | Lokalna Dešavanja - ECPv6.15.20//NONSGML v1.0//EN
CALSCALE:GREGORIAN
METHOD:PUBLISH
X-ORIGINAL-URL:https://izprveruke.com
X-WR-CALDESC:Events for Iz Prve Ruke - Koncerti u Americi i Kanadi | Lokalna Dešavanja
REFRESH-INTERVAL;VALUE=DURATION:PT1H
X-Robots-Tag:noindex
X-PUBLISHED-TTL:PT1H
BEGIN:VTIMEZONE
TZID:America/Los_Angeles
BEGIN:DAYLIGHT
TZOFFSETFROM:-0800
TZOFFSETTO:-0700
TZNAME:PDT
DTSTART:20210314T100000
END:DAYLIGHT
BEGIN:STANDARD
TZOFFSETFROM:-0700
TZOFFSETTO:-0800
TZNAME:PST
DTSTART:20211107T090000
END:STANDARD
BEGIN:DAYLIGHT
TZOFFSETFROM:-0800
TZOFFSETTO:-0700
TZNAME:PDT
DTSTART:20220313T100000
END:DAYLIGHT
BEGIN:STANDARD
TZOFFSETFROM:-0700
TZOFFSETTO:-0800
TZNAME:PST
DTSTART:20221106T090000
END:STANDARD
BEGIN:DAYLIGHT
TZOFFSETFROM:-0800
TZOFFSETTO:-0700
TZNAME:PDT
DTSTART:20230312T100000
END:DAYLIGHT
BEGIN:STANDARD
TZOFFSETFROM:-0700
TZOFFSETTO:-0800
TZNAME:PST
DTSTART:20231105T090000
END:STANDARD
BEGIN:DAYLIGHT
TZOFFSETFROM:-0800
TZOFFSETTO:-0700
TZNAME:PDT
DTSTART:20240310T100000
END:DAYLIGHT
BEGIN:STANDARD
TZOFFSETFROM:-0700
TZOFFSETTO:-0800
TZNAME:PST
DTSTART:20241103T090000
END:STANDARD
END:VTIMEZONE
BEGIN:VEVENT
DTSTART;TZID=America/Los_Angeles:20230218T203000
DTEND;TZID=America/Los_Angeles:20230218T235900
DTSTAMP:20260423T145930
CREATED:20230118T071314Z
LAST-MODIFIED:20230130T202445Z
UID:10001077-1676752200-1676764740@izprveruke.com
SUMMARY:Viki Miljkovic & Nermin Hadzic - Des Moines
DESCRIPTION:Vise informacija 515-867-8012
URL:https://izprveruke.com/event/viki-miljkovic-nermin-hadzic-des-moines/
LOCATION:West Des Moines Marriot\, 1250 Jordan Creek Parkway\, Des Moines\, 50266
CATEGORIES:Koncerti
ATTACH;FMTTYPE=image/png:https://izprveruke.com/wp-content/uploads/2022/11/viki_nerminhadzic.png
GEO:41.5886453;-93.8106005
X-APPLE-STRUCTURED-LOCATION;VALUE=URI;X-ADDRESS=West Des Moines Marriot 1250 Jordan Creek Parkway Des Moines 50266;X-APPLE-RADIUS=500;X-TITLE=1250 Jordan Creek Parkway:geo:-93.8106005,41.5886453
END:VEVENT
BEGIN:VEVENT
DTSTART;TZID=America/Los_Angeles:20221231T203000
DTEND;TZID=America/Los_Angeles:20221231T235900
DTSTAMP:20260423T145930
CREATED:20221205T010010Z
LAST-MODIFIED:20221205T010014Z
UID:10001004-1672518600-1672531140@izprveruke.com
SUMMARY:Benjamin Klicic - Docek Nove 2023 - Des Moines
DESCRIPTION:Muzicka pratnja Sanel Bajrami & DJ Ifro \n\n\n\nVise informacija i rezervacije 515-867-8012
URL:https://izprveruke.com/event/benjamin-klicic-docek-nove-2023-des-moines/
LOCATION:West Des Moines Marriot\, 1250 Jordan Creek Parkway\, Des Moines\, 50266
CATEGORIES:Koncerti
ATTACH;FMTTYPE=image/png:https://izprveruke.com/wp-content/uploads/2022/12/benjaminklicic.png
GEO:41.5886453;-93.8106005
X-APPLE-STRUCTURED-LOCATION;VALUE=URI;X-ADDRESS=West Des Moines Marriot 1250 Jordan Creek Parkway Des Moines 50266;X-APPLE-RADIUS=500;X-TITLE=1250 Jordan Creek Parkway:geo:-93.8106005,41.5886453
END:VEVENT
BEGIN:VEVENT
DTSTART;TZID=America/Los_Angeles:20221223T203000
DTEND;TZID=America/Los_Angeles:20221223T235900
DTSTAMP:20260423T145930
CREATED:20221130T170734Z
LAST-MODIFIED:20221130T170742Z
UID:10000992-1671827400-1671839940@izprveruke.com
SUMMARY:Hakala\, Azra & Aleksandar - Des Moines
DESCRIPTION:Vise informacija 515-778-8348
URL:https://izprveruke.com/event/hakala-azra-aleksandar-des-moines/
LOCATION:West Des Moines Marriot\, 1250 Jordan Creek Parkway\, Des Moines\, 50266
CATEGORIES:Koncerti
ATTACH;FMTTYPE=image/jpeg:https://izprveruke.com/wp-content/uploads/2022/11/hakala_azra_aleksandar.jpg
GEO:41.5886453;-93.8106005
X-APPLE-STRUCTURED-LOCATION;VALUE=URI;X-ADDRESS=West Des Moines Marriot 1250 Jordan Creek Parkway Des Moines 50266;X-APPLE-RADIUS=500;X-TITLE=1250 Jordan Creek Parkway:geo:-93.8106005,41.5886453
END:VEVENT
BEGIN:VEVENT
DTSTART;TZID=America/Los_Angeles:20221105T203000
DTEND;TZID=America/Los_Angeles:20221105T235900
DTSTAMP:20260423T145930
CREATED:20221102T062923Z
LAST-MODIFIED:20221102T062930Z
UID:10000957-1667680200-1667692740@izprveruke.com
SUMMARY:Hule - Des Moines
DESCRIPTION:Vise Informacija (515) 867-8012
URL:https://izprveruke.com/event/hule-des-moines/
LOCATION:West Des Moines Marriot\, 1250 Jordan Creek Parkway\, Des Moines\, 50266
CATEGORIES:Koncerti
ATTACH;FMTTYPE=image/png:https://izprveruke.com/wp-content/uploads/2022/10/hule.png
GEO:41.5886453;-93.8106005
X-APPLE-STRUCTURED-LOCATION;VALUE=URI;X-ADDRESS=West Des Moines Marriot 1250 Jordan Creek Parkway Des Moines 50266;X-APPLE-RADIUS=500;X-TITLE=1250 Jordan Creek Parkway:geo:-93.8106005,41.5886453
END:VEVENT
END:VCALENDAR