BEGIN:VCALENDAR
VERSION:2.0
PRODID:-//Iz Prve Ruke - Koncerti u Americi i Kanadi | Lokalna Dešavanja - ECPv6.15.20//NONSGML v1.0//EN
CALSCALE:GREGORIAN
METHOD:PUBLISH
X-WR-CALNAME:Iz Prve Ruke - Koncerti u Americi i Kanadi | Lokalna Dešavanja
X-ORIGINAL-URL:https://izprveruke.com
X-WR-CALDESC:Events for Iz Prve Ruke - Koncerti u Americi i Kanadi | Lokalna Dešavanja
REFRESH-INTERVAL;VALUE=DURATION:PT1H
X-Robots-Tag:noindex
X-PUBLISHED-TTL:PT1H
BEGIN:VTIMEZONE
TZID:America/Los_Angeles
BEGIN:DAYLIGHT
TZOFFSETFROM:-0800
TZOFFSETTO:-0700
TZNAME:PDT
DTSTART:20210314T100000
END:DAYLIGHT
BEGIN:STANDARD
TZOFFSETFROM:-0700
TZOFFSETTO:-0800
TZNAME:PST
DTSTART:20211107T090000
END:STANDARD
BEGIN:DAYLIGHT
TZOFFSETFROM:-0800
TZOFFSETTO:-0700
TZNAME:PDT
DTSTART:20220313T100000
END:DAYLIGHT
BEGIN:STANDARD
TZOFFSETFROM:-0700
TZOFFSETTO:-0800
TZNAME:PST
DTSTART:20221106T090000
END:STANDARD
BEGIN:DAYLIGHT
TZOFFSETFROM:-0800
TZOFFSETTO:-0700
TZNAME:PDT
DTSTART:20230312T100000
END:DAYLIGHT
BEGIN:STANDARD
TZOFFSETFROM:-0700
TZOFFSETTO:-0800
TZNAME:PST
DTSTART:20231105T090000
END:STANDARD
END:VTIMEZONE
BEGIN:VEVENT
DTSTART;TZID=America/Los_Angeles:20220305T203000
DTEND;TZID=America/Los_Angeles:20220305T235900
DTSTAMP:20260423T145817
CREATED:20220224T041038Z
LAST-MODIFIED:20220224T041043Z
UID:10000810-1646512200-1646524740@izprveruke.com
SUMMARY:Emina\, Fatmir\, Marina - Utica
DESCRIPTION:
URL:https://izprveruke.com/event/emina-fatmir-marina-utica/
LOCATION:Una Bar\, 620 Eagle St.\, Utica\, NY\, United States
CATEGORIES:Koncerti
ATTACH;FMTTYPE=image/jpeg:https://izprveruke.com/wp-content/uploads/2022/02/emina_fatmir_marina.jpg
GEO:43.0893226;-75.2249112
X-APPLE-STRUCTURED-LOCATION;VALUE=URI;X-ADDRESS=Una Bar 620 Eagle St. Utica NY United States;X-APPLE-RADIUS=500;X-TITLE=620 Eagle St.:geo:-75.2249112,43.0893226
END:VEVENT
BEGIN:VEVENT
DTSTART;TZID=America/Los_Angeles:20220212T203000
DTEND;TZID=America/Los_Angeles:20220212T235900
DTSTAMP:20260423T145817
CREATED:20220211T062719Z
LAST-MODIFIED:20220211T062723Z
UID:10000790-1644697800-1644710340@izprveruke.com
SUMMARY:Mirza Delic - Utica
DESCRIPTION:
URL:https://izprveruke.com/event/mirza-delic-utica/
LOCATION:Una Bar\, 620 Eagle St.\, Utica\, NY\, United States
CATEGORIES:Koncerti
ATTACH;FMTTYPE=image/jpeg:https://izprveruke.com/wp-content/uploads/2022/02/mirzadelic.jpg
GEO:43.0893226;-75.2249112
X-APPLE-STRUCTURED-LOCATION;VALUE=URI;X-ADDRESS=Una Bar 620 Eagle St. Utica NY United States;X-APPLE-RADIUS=500;X-TITLE=620 Eagle St.:geo:-75.2249112,43.0893226
END:VEVENT
END:VCALENDAR