BEGIN:VCALENDAR
VERSION:2.0
PRODID:-//Iz Prve Ruke - Koncerti u Americi i Kanadi | Lokalna Dešavanja - ECPv6.15.20//NONSGML v1.0//EN
CALSCALE:GREGORIAN
METHOD:PUBLISH
X-WR-CALNAME:Iz Prve Ruke - Koncerti u Americi i Kanadi | Lokalna Dešavanja
X-ORIGINAL-URL:https://izprveruke.com
X-WR-CALDESC:Events for Iz Prve Ruke - Koncerti u Americi i Kanadi | Lokalna Dešavanja
REFRESH-INTERVAL;VALUE=DURATION:PT1H
X-Robots-Tag:noindex
X-PUBLISHED-TTL:PT1H
BEGIN:VTIMEZONE
TZID:America/Los_Angeles
BEGIN:DAYLIGHT
TZOFFSETFROM:-0800
TZOFFSETTO:-0700
TZNAME:PDT
DTSTART:20210314T100000
END:DAYLIGHT
BEGIN:STANDARD
TZOFFSETFROM:-0700
TZOFFSETTO:-0800
TZNAME:PST
DTSTART:20211107T090000
END:STANDARD
BEGIN:DAYLIGHT
TZOFFSETFROM:-0800
TZOFFSETTO:-0700
TZNAME:PDT
DTSTART:20220313T100000
END:DAYLIGHT
BEGIN:STANDARD
TZOFFSETFROM:-0700
TZOFFSETTO:-0800
TZNAME:PST
DTSTART:20221106T090000
END:STANDARD
BEGIN:DAYLIGHT
TZOFFSETFROM:-0800
TZOFFSETTO:-0700
TZNAME:PDT
DTSTART:20230312T100000
END:DAYLIGHT
BEGIN:STANDARD
TZOFFSETFROM:-0700
TZOFFSETTO:-0800
TZNAME:PST
DTSTART:20231105T090000
END:STANDARD
BEGIN:DAYLIGHT
TZOFFSETFROM:-0800
TZOFFSETTO:-0700
TZNAME:PDT
DTSTART:20240310T100000
END:DAYLIGHT
BEGIN:STANDARD
TZOFFSETFROM:-0700
TZOFFSETTO:-0800
TZNAME:PST
DTSTART:20241103T090000
END:STANDARD
END:VTIMEZONE
BEGIN:VEVENT
DTSTART;TZID=America/Los_Angeles:20231125T203000
DTEND;TZID=America/Los_Angeles:20231125T235900
DTSTAMP:20260423T163441
CREATED:20231021T022836Z
LAST-MODIFIED:20231021T022838Z
UID:10001249-1700944200-1700956740@izprveruke.com
SUMMARY:Zeljko Samardzic - Toronto
DESCRIPTION:Zeljko Samardzic live in Toronto! Ages 19+
URL:https://izprveruke.com/event/zeljko-samardzic-toronto/
LOCATION:The Opera House\, 735 Queen St E\, Toronto\, Ontario\, Canada
CATEGORIES:Koncerti
ATTACH;FMTTYPE=image/jpeg:https://izprveruke.com/wp-content/uploads/2023/02/zeljkosamardzic.jpg
ORGANIZER;CN="Gremy":MAILTO:info@gremy.com
GEO:43.6588139;-79.3487126
X-APPLE-STRUCTURED-LOCATION;VALUE=URI;X-ADDRESS=The Opera House 735 Queen St E Toronto Ontario Canada;X-APPLE-RADIUS=500;X-TITLE=735 Queen St E:geo:-79.3487126,43.6588139
END:VEVENT
BEGIN:VEVENT
DTSTART;TZID=America/Los_Angeles:20230217T203000
DTEND;TZID=America/Los_Angeles:20230217T235900
DTSTAMP:20260423T163441
CREATED:20230111T085455Z
LAST-MODIFIED:20230206T065141Z
UID:10001061-1676665800-1676678340@izprveruke.com
SUMMARY:Zeljko Bebek - Toronto
DESCRIPTION:19+ | Vise informacija 416-993-2697
URL:https://izprveruke.com/event/zeljko-bebek-toronto/
LOCATION:The Opera House\, 735 Queen St E\, Toronto\, Ontario\, Canada
CATEGORIES:Koncerti
ATTACH;FMTTYPE=image/png:https://izprveruke.com/wp-content/uploads/2023/01/zeljkobebek.png
ORGANIZER;CN="Gremy":MAILTO:info@gremy.com
GEO:43.6588139;-79.3487126
X-APPLE-STRUCTURED-LOCATION;VALUE=URI;X-ADDRESS=The Opera House 735 Queen St E Toronto Ontario Canada;X-APPLE-RADIUS=500;X-TITLE=735 Queen St E:geo:-79.3487126,43.6588139
END:VEVENT
BEGIN:VEVENT
DTSTART;TZID=America/Los_Angeles:20220930T203000
DTEND;TZID=America/Los_Angeles:20220930T235900
DTSTAMP:20260423T163441
CREATED:20220904T195545Z
LAST-MODIFIED:20220904T195908Z
UID:10000900-1664569800-1664582340@izprveruke.com
SUMMARY:Riblja Corba & Van Gogh - Toronto
DESCRIPTION:The rare opportunity to see these 2 iconic bands perform decades of pure Rock & Roll hit’s on the same night. \n\n\n\nBuckle up!  
URL:https://izprveruke.com/event/riblja-corba-van-gogh-toronto/
LOCATION:The Opera House\, 735 Queen St E\, Toronto\, Ontario\, Canada
CATEGORIES:Koncerti
ATTACH;FMTTYPE=image/jpeg:https://izprveruke.com/wp-content/uploads/2022/09/ribljacorba_vangogh.jpg
ORGANIZER;CN="Pure Live Music":MAILTO:info@purelivemusic.com
GEO:43.6588139;-79.3487126
X-APPLE-STRUCTURED-LOCATION;VALUE=URI;X-ADDRESS=The Opera House 735 Queen St E Toronto Ontario Canada;X-APPLE-RADIUS=500;X-TITLE=735 Queen St E:geo:-79.3487126,43.6588139
END:VEVENT
BEGIN:VEVENT
DTSTART;TZID=America/Los_Angeles:20220923T203000
DTEND;TZID=America/Los_Angeles:20220923T235900
DTSTAMP:20260423T163441
CREATED:20220904T193158Z
LAST-MODIFIED:20230326T031323Z
UID:10000897-1663965000-1663977540@izprveruke.com
SUMMARY:Dr. Nele Karajlic - Toronto
DESCRIPTION:19+ Dr Nele Karajlic Sings Zabranjeno Pusenje Hits
URL:https://izprveruke.com/event/dr-nele-karajlic-toronto/
LOCATION:The Opera House\, 735 Queen St E\, Toronto\, Ontario\, Canada
CATEGORIES:Koncerti
ATTACH;FMTTYPE=image/jpeg:https://izprveruke.com/wp-content/uploads/2022/09/nele-e1680893111239.jpg
GEO:43.6588139;-79.3487126
X-APPLE-STRUCTURED-LOCATION;VALUE=URI;X-ADDRESS=The Opera House 735 Queen St E Toronto Ontario Canada;X-APPLE-RADIUS=500;X-TITLE=735 Queen St E:geo:-79.3487126,43.6588139
END:VEVENT
END:VCALENDAR