BEGIN:VCALENDAR
VERSION:2.0
PRODID:-//Iz Prve Ruke - Koncerti u Americi i Kanadi | Lokalna Dešavanja - ECPv6.15.20//NONSGML v1.0//EN
CALSCALE:GREGORIAN
METHOD:PUBLISH
X-WR-CALNAME:Iz Prve Ruke - Koncerti u Americi i Kanadi | Lokalna Dešavanja
X-ORIGINAL-URL:https://izprveruke.com
X-WR-CALDESC:Events for Iz Prve Ruke - Koncerti u Americi i Kanadi | Lokalna Dešavanja
REFRESH-INTERVAL;VALUE=DURATION:PT1H
X-Robots-Tag:noindex
X-PUBLISHED-TTL:PT1H
BEGIN:VTIMEZONE
TZID:America/Los_Angeles
BEGIN:DAYLIGHT
TZOFFSETFROM:-0800
TZOFFSETTO:-0700
TZNAME:PDT
DTSTART:20210314T100000
END:DAYLIGHT
BEGIN:STANDARD
TZOFFSETFROM:-0700
TZOFFSETTO:-0800
TZNAME:PST
DTSTART:20211107T090000
END:STANDARD
BEGIN:DAYLIGHT
TZOFFSETFROM:-0800
TZOFFSETTO:-0700
TZNAME:PDT
DTSTART:20220313T100000
END:DAYLIGHT
BEGIN:STANDARD
TZOFFSETFROM:-0700
TZOFFSETTO:-0800
TZNAME:PST
DTSTART:20221106T090000
END:STANDARD
BEGIN:DAYLIGHT
TZOFFSETFROM:-0800
TZOFFSETTO:-0700
TZNAME:PDT
DTSTART:20230312T100000
END:DAYLIGHT
BEGIN:STANDARD
TZOFFSETFROM:-0700
TZOFFSETTO:-0800
TZNAME:PST
DTSTART:20231105T090000
END:STANDARD
END:VTIMEZONE
BEGIN:VEVENT
DTSTART;TZID=America/Los_Angeles:20220513T203000
DTEND;TZID=America/Los_Angeles:20220513T235900
DTSTAMP:20260423T174814
CREATED:20220224T033742Z
LAST-MODIFIED:20220503T225924Z
UID:10000804-1652473800-1652486340@izprveruke.com
SUMMARY:Zdravko Colic - Los Angeles
DESCRIPTION:Ages 21+. Join us for an incredible evening with Zdravko Colic & his amazing band.
URL:https://izprveruke.com/event/zdravko-colic-los-angeles/
LOCATION:The Mayan Theater\, 1038 S Hill Street\, Los Angeles\, California\, United States
CATEGORIES:Koncerti
ATTACH;FMTTYPE=image/jpeg:https://izprveruke.com/wp-content/uploads/2022/02/zdravkocolic.jpg
ORGANIZER;CN="Pure Live Music":MAILTO:info@purelivemusic.com
GEO:34.0404736;-118.259021
X-APPLE-STRUCTURED-LOCATION;VALUE=URI;X-ADDRESS=The Mayan Theater 1038 S Hill Street Los Angeles California United States;X-APPLE-RADIUS=500;X-TITLE=1038 S Hill Street:geo:-118.259021,34.0404736
END:VEVENT
END:VCALENDAR