BEGIN:VCALENDAR
VERSION:2.0
PRODID:-//Iz Prve Ruke - Koncerti u Americi i Kanadi | Lokalna Dešavanja - ECPv6.15.20//NONSGML v1.0//EN
CALSCALE:GREGORIAN
METHOD:PUBLISH
X-WR-CALNAME:Iz Prve Ruke - Koncerti u Americi i Kanadi | Lokalna Dešavanja
X-ORIGINAL-URL:https://izprveruke.com
X-WR-CALDESC:Events for Iz Prve Ruke - Koncerti u Americi i Kanadi | Lokalna Dešavanja
REFRESH-INTERVAL;VALUE=DURATION:PT1H
X-Robots-Tag:noindex
X-PUBLISHED-TTL:PT1H
BEGIN:VTIMEZONE
TZID:America/Los_Angeles
BEGIN:DAYLIGHT
TZOFFSETFROM:-0800
TZOFFSETTO:-0700
TZNAME:PDT
DTSTART:20210314T100000
END:DAYLIGHT
BEGIN:STANDARD
TZOFFSETFROM:-0700
TZOFFSETTO:-0800
TZNAME:PST
DTSTART:20211107T090000
END:STANDARD
BEGIN:DAYLIGHT
TZOFFSETFROM:-0800
TZOFFSETTO:-0700
TZNAME:PDT
DTSTART:20220313T100000
END:DAYLIGHT
BEGIN:STANDARD
TZOFFSETFROM:-0700
TZOFFSETTO:-0800
TZNAME:PST
DTSTART:20221106T090000
END:STANDARD
BEGIN:DAYLIGHT
TZOFFSETFROM:-0800
TZOFFSETTO:-0700
TZNAME:PDT
DTSTART:20230312T100000
END:DAYLIGHT
BEGIN:STANDARD
TZOFFSETFROM:-0700
TZOFFSETTO:-0800
TZNAME:PST
DTSTART:20231105T090000
END:STANDARD
BEGIN:DAYLIGHT
TZOFFSETFROM:-0800
TZOFFSETTO:-0700
TZNAME:PDT
DTSTART:20240310T100000
END:DAYLIGHT
BEGIN:STANDARD
TZOFFSETFROM:-0700
TZOFFSETTO:-0800
TZNAME:PST
DTSTART:20241103T090000
END:STANDARD
END:VTIMEZONE
BEGIN:VEVENT
DTSTART;TZID=America/Los_Angeles:20230120T203000
DTEND;TZID=America/Los_Angeles:20230120T235900
DTSTAMP:20260423T145911
CREATED:20230106T082835Z
LAST-MODIFIED:20230106T082843Z
UID:10001051-1674246600-1674259140@izprveruke.com
SUMMARY:Denial Ahmetovic - Manchester
DESCRIPTION:Vise informacija 603-365-7451
URL:https://izprveruke.com/event/denial-ahmetovic-manchester/
LOCATION:The Bungalow Bar & Grill\, 333 Valley St.\, Manchester\, NH\, United States
CATEGORIES:Koncerti
ATTACH;FMTTYPE=image/png:https://izprveruke.com/wp-content/uploads/2022/12/denialahmeotovic.png
GEO:42.9810401;-71.4546575
X-APPLE-STRUCTURED-LOCATION;VALUE=URI;X-ADDRESS=The Bungalow Bar & Grill 333 Valley St. Manchester NH United States;X-APPLE-RADIUS=500;X-TITLE=333 Valley St.:geo:-71.4546575,42.9810401
END:VEVENT
BEGIN:VEVENT
DTSTART;TZID=America/Los_Angeles:20220304T203000
DTEND;TZID=America/Los_Angeles:20220304T235900
DTSTAMP:20260423T145911
CREATED:20220224T040845Z
LAST-MODIFIED:20220224T041526Z
UID:10000809-1646425800-1646438340@izprveruke.com
SUMMARY:Emina\, Fatmir\, Marina - Boston
DESCRIPTION:Vise informacija 603-365-7451
URL:https://izprveruke.com/event/emina-fatmir-marina-boston/
LOCATION:The Bungalow Bar & Grill\, 333 Valley St.\, Manchester\, NH\, United States
CATEGORIES:Koncerti
ATTACH;FMTTYPE=image/jpeg:https://izprveruke.com/wp-content/uploads/2022/02/emina_fatmir_marina.jpg
GEO:42.9810401;-71.4546575
X-APPLE-STRUCTURED-LOCATION;VALUE=URI;X-ADDRESS=The Bungalow Bar & Grill 333 Valley St. Manchester NH United States;X-APPLE-RADIUS=500;X-TITLE=333 Valley St.:geo:-71.4546575,42.9810401
END:VEVENT
BEGIN:VEVENT
DTSTART;TZID=America/Los_Angeles:20220211T203000
DTEND;TZID=America/Los_Angeles:20220211T235900
DTSTAMP:20260423T145911
CREATED:20220211T062453Z
LAST-MODIFIED:20220211T062457Z
UID:10000789-1644611400-1644623940@izprveruke.com
SUMMARY:Mirza Delic - Manchester
DESCRIPTION:Vise informacija 603-365-7451
URL:https://izprveruke.com/event/mirza-delic-manchester/
LOCATION:The Bungalow Bar & Grill\, 333 Valley St.\, Manchester\, NH\, United States
CATEGORIES:Koncerti
ATTACH;FMTTYPE=image/jpeg:https://izprveruke.com/wp-content/uploads/2022/02/mirzadelic.jpg
GEO:42.9810401;-71.4546575
X-APPLE-STRUCTURED-LOCATION;VALUE=URI;X-ADDRESS=The Bungalow Bar & Grill 333 Valley St. Manchester NH United States;X-APPLE-RADIUS=500;X-TITLE=333 Valley St.:geo:-71.4546575,42.9810401
END:VEVENT
END:VCALENDAR