BEGIN:VCALENDAR
VERSION:2.0
PRODID:-//Iz Prve Ruke - Koncerti u Americi i Kanadi | Lokalna Dešavanja - ECPv6.15.20//NONSGML v1.0//EN
CALSCALE:GREGORIAN
METHOD:PUBLISH
X-ORIGINAL-URL:https://izprveruke.com
X-WR-CALDESC:Events for Iz Prve Ruke - Koncerti u Americi i Kanadi | Lokalna Dešavanja
REFRESH-INTERVAL;VALUE=DURATION:PT1H
X-Robots-Tag:noindex
X-PUBLISHED-TTL:PT1H
BEGIN:VTIMEZONE
TZID:America/Los_Angeles
BEGIN:DAYLIGHT
TZOFFSETFROM:-0800
TZOFFSETTO:-0700
TZNAME:PDT
DTSTART:20210314T100000
END:DAYLIGHT
BEGIN:STANDARD
TZOFFSETFROM:-0700
TZOFFSETTO:-0800
TZNAME:PST
DTSTART:20211107T090000
END:STANDARD
BEGIN:DAYLIGHT
TZOFFSETFROM:-0800
TZOFFSETTO:-0700
TZNAME:PDT
DTSTART:20220313T100000
END:DAYLIGHT
BEGIN:STANDARD
TZOFFSETFROM:-0700
TZOFFSETTO:-0800
TZNAME:PST
DTSTART:20221106T090000
END:STANDARD
BEGIN:DAYLIGHT
TZOFFSETFROM:-0800
TZOFFSETTO:-0700
TZNAME:PDT
DTSTART:20230312T100000
END:DAYLIGHT
BEGIN:STANDARD
TZOFFSETFROM:-0700
TZOFFSETTO:-0800
TZNAME:PST
DTSTART:20231105T090000
END:STANDARD
END:VTIMEZONE
BEGIN:VEVENT
DTSTART;TZID=America/Los_Angeles:20220319T203000
DTEND;TZID=America/Los_Angeles:20220319T235900
DTSTAMP:20260423T160458
CREATED:20220309T073825Z
LAST-MODIFIED:20220309T073830Z
UID:10000828-1647721800-1647734340@izprveruke.com
SUMMARY:Ibro Bublin - Manchester
DESCRIPTION:Vise informacija 603-365-7451
URL:https://izprveruke.com/event/ibro-bublin-manchester/
LOCATION:The Bungalov Bar & Grill\, 333 Valley Street\, Manchester\, NH\, United States
CATEGORIES:Koncerti
ATTACH;FMTTYPE=image/png:https://izprveruke.com/wp-content/uploads/2022/03/ibrobublin.png
GEO:42.9810401;-71.4546575
X-APPLE-STRUCTURED-LOCATION;VALUE=URI;X-ADDRESS=The Bungalov Bar & Grill 333 Valley Street Manchester NH United States;X-APPLE-RADIUS=500;X-TITLE=333 Valley Street:geo:-71.4546575,42.9810401
END:VEVENT
END:VCALENDAR