BEGIN:VCALENDAR
VERSION:2.0
PRODID:-//Iz Prve Ruke - Koncerti u Americi i Kanadi | Lokalna Dešavanja - ECPv6.15.20//NONSGML v1.0//EN
CALSCALE:GREGORIAN
METHOD:PUBLISH
X-WR-CALNAME:Iz Prve Ruke - Koncerti u Americi i Kanadi | Lokalna Dešavanja
X-ORIGINAL-URL:https://izprveruke.com
X-WR-CALDESC:Events for Iz Prve Ruke - Koncerti u Americi i Kanadi | Lokalna Dešavanja
REFRESH-INTERVAL;VALUE=DURATION:PT1H
X-Robots-Tag:noindex
X-PUBLISHED-TTL:PT1H
BEGIN:VTIMEZONE
TZID:America/Los_Angeles
BEGIN:DAYLIGHT
TZOFFSETFROM:-0800
TZOFFSETTO:-0700
TZNAME:PDT
DTSTART:20220313T100000
END:DAYLIGHT
BEGIN:STANDARD
TZOFFSETFROM:-0700
TZOFFSETTO:-0800
TZNAME:PST
DTSTART:20221106T090000
END:STANDARD
BEGIN:DAYLIGHT
TZOFFSETFROM:-0800
TZOFFSETTO:-0700
TZNAME:PDT
DTSTART:20230312T100000
END:DAYLIGHT
BEGIN:STANDARD
TZOFFSETFROM:-0700
TZOFFSETTO:-0800
TZNAME:PST
DTSTART:20231105T090000
END:STANDARD
BEGIN:DAYLIGHT
TZOFFSETFROM:-0800
TZOFFSETTO:-0700
TZNAME:PDT
DTSTART:20240310T100000
END:DAYLIGHT
BEGIN:STANDARD
TZOFFSETFROM:-0700
TZOFFSETTO:-0800
TZNAME:PST
DTSTART:20241103T090000
END:STANDARD
BEGIN:DAYLIGHT
TZOFFSETFROM:-0800
TZOFFSETTO:-0700
TZNAME:PDT
DTSTART:20250309T100000
END:DAYLIGHT
BEGIN:STANDARD
TZOFFSETFROM:-0700
TZOFFSETTO:-0800
TZNAME:PST
DTSTART:20251102T090000
END:STANDARD
BEGIN:DAYLIGHT
TZOFFSETFROM:-0800
TZOFFSETTO:-0700
TZNAME:PDT
DTSTART:20260308T100000
END:DAYLIGHT
BEGIN:STANDARD
TZOFFSETFROM:-0700
TZOFFSETTO:-0800
TZNAME:PST
DTSTART:20261101T090000
END:STANDARD
END:VTIMEZONE
BEGIN:VEVENT
DTSTART;TZID=America/Los_Angeles:20250215T203000
DTEND;TZID=America/Los_Angeles:20250215T235900
DTSTAMP:20260423T121859
CREATED:20250111T035007Z
LAST-MODIFIED:20250111T035009Z
UID:10001453-1739651400-1739663940@izprveruke.com
SUMMARY:Zeljko Bebek - Calgary
DESCRIPTION:Zeljko Bebek live in Calgary. Vise informacija 403-607-2113
URL:https://izprveruke.com/event/zeljko-bebek-calgary-2/
LOCATION:The Back Alley\, 4630 Macleod Trail\, Calgary\, AB\, Canada
CATEGORIES:Koncerti
ATTACH;FMTTYPE=image/png:https://izprveruke.com/wp-content/uploads/2023/01/zeljkobebek.png
GEO:51.0120541;-114.064381
X-APPLE-STRUCTURED-LOCATION;VALUE=URI;X-ADDRESS=The Back Alley 4630 Macleod Trail Calgary AB Canada;X-APPLE-RADIUS=500;X-TITLE=4630 Macleod Trail:geo:-114.064381,51.0120541
END:VEVENT
BEGIN:VEVENT
DTSTART;TZID=America/Los_Angeles:20231006T203000
DTEND;TZID=America/Los_Angeles:20231006T235900
DTSTAMP:20260423T121859
CREATED:20230823T024118Z
LAST-MODIFIED:20230823T024126Z
UID:10001219-1696624200-1696636740@izprveruke.com
SUMMARY:Dragana Mirkovic - Calgary
DESCRIPTION:Dragana Mirkovic Live in Calgary. More information 403-607-2113
URL:https://izprveruke.com/event/dragana-mirkovic-calgary/
LOCATION:The Back Alley\, 4630 Macleod Trail\, Calgary\, AB\, Canada
CATEGORIES:Koncerti
ATTACH;FMTTYPE=image/png:https://izprveruke.com/wp-content/uploads/2023/01/draganamirkovic-e1673429271253.png
GEO:51.0120541;-114.064381
X-APPLE-STRUCTURED-LOCATION;VALUE=URI;X-ADDRESS=The Back Alley 4630 Macleod Trail Calgary AB Canada;X-APPLE-RADIUS=500;X-TITLE=4630 Macleod Trail:geo:-114.064381,51.0120541
END:VEVENT
BEGIN:VEVENT
DTSTART;TZID=America/Los_Angeles:20230219T203000
DTEND;TZID=America/Los_Angeles:20230219T235900
DTSTAMP:20260423T121859
CREATED:20230111T085558Z
LAST-MODIFIED:20230206T065806Z
UID:10001063-1676838600-1676851140@izprveruke.com
SUMMARY:Zeljko Bebek - Calgary
DESCRIPTION:18+ | Vise informacija 403-607-2113
URL:https://izprveruke.com/event/zeljko-bebek-calgary/
LOCATION:The Back Alley\, 4630 Macleod Trail\, Calgary\, AB\, Canada
CATEGORIES:Koncerti
ATTACH;FMTTYPE=image/png:https://izprveruke.com/wp-content/uploads/2023/01/zeljkobebek.png
GEO:51.0120541;-114.064381
X-APPLE-STRUCTURED-LOCATION;VALUE=URI;X-ADDRESS=The Back Alley 4630 Macleod Trail Calgary AB Canada;X-APPLE-RADIUS=500;X-TITLE=4630 Macleod Trail:geo:-114.064381,51.0120541
END:VEVENT
END:VCALENDAR