BEGIN:VCALENDAR
VERSION:2.0
PRODID:-//Iz Prve Ruke - Koncerti u Americi i Kanadi | Lokalna Dešavanja - ECPv6.15.20//NONSGML v1.0//EN
CALSCALE:GREGORIAN
METHOD:PUBLISH
X-WR-CALNAME:Iz Prve Ruke - Koncerti u Americi i Kanadi | Lokalna Dešavanja
X-ORIGINAL-URL:https://izprveruke.com
X-WR-CALDESC:Events for Iz Prve Ruke - Koncerti u Americi i Kanadi | Lokalna Dešavanja
REFRESH-INTERVAL;VALUE=DURATION:PT1H
X-Robots-Tag:noindex
X-PUBLISHED-TTL:PT1H
BEGIN:VTIMEZONE
TZID:America/Los_Angeles
BEGIN:DAYLIGHT
TZOFFSETFROM:-0800
TZOFFSETTO:-0700
TZNAME:PDT
DTSTART:20210314T100000
END:DAYLIGHT
BEGIN:STANDARD
TZOFFSETFROM:-0700
TZOFFSETTO:-0800
TZNAME:PST
DTSTART:20211107T090000
END:STANDARD
BEGIN:DAYLIGHT
TZOFFSETFROM:-0800
TZOFFSETTO:-0700
TZNAME:PDT
DTSTART:20220313T100000
END:DAYLIGHT
BEGIN:STANDARD
TZOFFSETFROM:-0700
TZOFFSETTO:-0800
TZNAME:PST
DTSTART:20221106T090000
END:STANDARD
BEGIN:DAYLIGHT
TZOFFSETFROM:-0800
TZOFFSETTO:-0700
TZNAME:PDT
DTSTART:20230312T100000
END:DAYLIGHT
BEGIN:STANDARD
TZOFFSETFROM:-0700
TZOFFSETTO:-0800
TZNAME:PST
DTSTART:20231105T090000
END:STANDARD
BEGIN:DAYLIGHT
TZOFFSETFROM:-0800
TZOFFSETTO:-0700
TZNAME:PDT
DTSTART:20240310T100000
END:DAYLIGHT
BEGIN:STANDARD
TZOFFSETFROM:-0700
TZOFFSETTO:-0800
TZNAME:PST
DTSTART:20241103T090000
END:STANDARD
BEGIN:DAYLIGHT
TZOFFSETFROM:-0800
TZOFFSETTO:-0700
TZNAME:PDT
DTSTART:20250309T100000
END:DAYLIGHT
BEGIN:STANDARD
TZOFFSETFROM:-0700
TZOFFSETTO:-0800
TZNAME:PST
DTSTART:20251102T090000
END:STANDARD
END:VTIMEZONE
BEGIN:VEVENT
DTSTART;TZID=America/Los_Angeles:20240128T203000
DTEND;TZID=America/Los_Angeles:20240128T235900
DTSTAMP:20260423T195808
CREATED:20240122T051848Z
LAST-MODIFIED:20240122T051934Z
UID:10001351-1706473800-1706486340@izprveruke.com
SUMMARY:Neda Ukraden - San Diego
DESCRIPTION:Neda Ukraden live in San Diego.
URL:https://izprveruke.com/event/neda-ukraden-san-diego/
LOCATION:St. Petka Serbian Orthodox Church\, 1854 Knob Hill Rd.\, San Marcos\, CA\, 92069\, United States
CATEGORIES:Koncerti
ATTACH;FMTTYPE=image/jpeg:https://izprveruke.com/wp-content/uploads/2022/02/nedaukraden.jpg
GEO:33.1398864;-117.1184238
X-APPLE-STRUCTURED-LOCATION;VALUE=URI;X-ADDRESS=St. Petka Serbian Orthodox Church 1854 Knob Hill Rd. San Marcos CA 92069 United States;X-APPLE-RADIUS=500;X-TITLE=1854 Knob Hill Rd.:geo:-117.1184238,33.1398864
END:VEVENT
BEGIN:VEVENT
DTSTART;TZID=America/Los_Angeles:20220924T120000
DTEND;TZID=America/Los_Angeles:20220925T180000
DTSTAMP:20260423T195808
CREATED:20220911T202457Z
LAST-MODIFIED:20220911T202516Z
UID:10000904-1664020800-1664128800@izprveruke.com
SUMMARY:Serb Fest - San Marcos
DESCRIPTION:San Marcos Serb Fest is back! Sept 24-25\, 2022
URL:https://izprveruke.com/event/2022-san-marcos-serb-fest/
LOCATION:St. Petka Serbian Orthodox Church\, 1854 Knob Hill Rd.\, San Marcos\, CA\, 92069\, United States
CATEGORIES:Festivali
ORGANIZER;CN="St Petka Serbian Orthodox Church%2C San Marcos":MAILTO:tkatanic@me.com
GEO:33.1398864;-117.1184238
X-APPLE-STRUCTURED-LOCATION;VALUE=URI;X-ADDRESS=St. Petka Serbian Orthodox Church 1854 Knob Hill Rd. San Marcos CA 92069 United States;X-APPLE-RADIUS=500;X-TITLE=1854 Knob Hill Rd.:geo:-117.1184238,33.1398864
END:VEVENT
END:VCALENDAR