BEGIN:VCALENDAR
VERSION:2.0
PRODID:-//Iz Prve Ruke - Koncerti u Americi i Kanadi | Lokalna Dešavanja - ECPv6.15.20//NONSGML v1.0//EN
CALSCALE:GREGORIAN
METHOD:PUBLISH
X-WR-CALNAME:Iz Prve Ruke - Koncerti u Americi i Kanadi | Lokalna Dešavanja
X-ORIGINAL-URL:https://izprveruke.com
X-WR-CALDESC:Events for Iz Prve Ruke - Koncerti u Americi i Kanadi | Lokalna Dešavanja
REFRESH-INTERVAL;VALUE=DURATION:PT1H
X-Robots-Tag:noindex
X-PUBLISHED-TTL:PT1H
BEGIN:VTIMEZONE
TZID:America/Los_Angeles
BEGIN:DAYLIGHT
TZOFFSETFROM:-0800
TZOFFSETTO:-0700
TZNAME:PDT
DTSTART:20210314T100000
END:DAYLIGHT
BEGIN:STANDARD
TZOFFSETFROM:-0700
TZOFFSETTO:-0800
TZNAME:PST
DTSTART:20211107T090000
END:STANDARD
BEGIN:DAYLIGHT
TZOFFSETFROM:-0800
TZOFFSETTO:-0700
TZNAME:PDT
DTSTART:20220313T100000
END:DAYLIGHT
BEGIN:STANDARD
TZOFFSETFROM:-0700
TZOFFSETTO:-0800
TZNAME:PST
DTSTART:20221106T090000
END:STANDARD
BEGIN:DAYLIGHT
TZOFFSETFROM:-0800
TZOFFSETTO:-0700
TZNAME:PDT
DTSTART:20230312T100000
END:DAYLIGHT
BEGIN:STANDARD
TZOFFSETFROM:-0700
TZOFFSETTO:-0800
TZNAME:PST
DTSTART:20231105T090000
END:STANDARD
BEGIN:DAYLIGHT
TZOFFSETFROM:-0800
TZOFFSETTO:-0700
TZNAME:PDT
DTSTART:20240310T100000
END:DAYLIGHT
BEGIN:STANDARD
TZOFFSETFROM:-0700
TZOFFSETTO:-0800
TZNAME:PST
DTSTART:20241103T090000
END:STANDARD
END:VTIMEZONE
BEGIN:VEVENT
DTSTART;TZID=America/Los_Angeles:20230701T203000
DTEND;TZID=America/Los_Angeles:20230701T235900
DTSTAMP:20260423T133550
CREATED:20230615T002035Z
LAST-MODIFIED:20230615T002040Z
UID:10001174-1688243400-1688255940@izprveruke.com
SUMMARY:Nenad Osmanovic - St. Louis
DESCRIPTION:Vise informacija 314-488-9240
URL:https://izprveruke.com/event/nenad-osmanovic-st-louis/
LOCATION:Skala Bar\, 5051 Gravois Ave.\, St. Louis\, MO\, United States
CATEGORIES:Koncerti
ATTACH;FMTTYPE=image/png:https://izprveruke.com/wp-content/uploads/2023/05/nenadosmanovic.png
GEO:38.5803607;-90.2688449
X-APPLE-STRUCTURED-LOCATION;VALUE=URI;X-ADDRESS=Skala Bar 5051 Gravois Ave. St. Louis MO United States;X-APPLE-RADIUS=500;X-TITLE=5051 Gravois Ave.:geo:-90.2688449,38.5803607
END:VEVENT
BEGIN:VEVENT
DTSTART;TZID=America/Los_Angeles:20230303T203000
DTEND;TZID=America/Los_Angeles:20230303T235900
DTSTAMP:20260423T133550
CREATED:20230228T193946Z
LAST-MODIFIED:20230228T194042Z
UID:10001097-1677875400-1677887940@izprveruke.com
SUMMARY:Mirza Delic - St. Louis
DESCRIPTION:Muzicka pratnja: Nedo
URL:https://izprveruke.com/event/mirza-delic-st-louis-2/
LOCATION:Skala Bar\, 5051 Gravois Ave.\, St. Louis\, MO\, United States
CATEGORIES:Koncerti
ATTACH;FMTTYPE=image/jpeg:https://izprveruke.com/wp-content/uploads/2022/02/mirzadelic.jpg
GEO:38.5803607;-90.2688449
X-APPLE-STRUCTURED-LOCATION;VALUE=URI;X-ADDRESS=Skala Bar 5051 Gravois Ave. St. Louis MO United States;X-APPLE-RADIUS=500;X-TITLE=5051 Gravois Ave.:geo:-90.2688449,38.5803607
END:VEVENT
BEGIN:VEVENT
DTSTART;TZID=America/Los_Angeles:20220304T203000
DTEND;TZID=America/Los_Angeles:20220304T235900
DTSTAMP:20260423T133550
CREATED:20220211T063945Z
LAST-MODIFIED:20220211T063949Z
UID:10000794-1646425800-1646438340@izprveruke.com
SUMMARY:Mirza Delic - St. Louis
DESCRIPTION:Vise informacija 314-457-1787
URL:https://izprveruke.com/event/mirza-delic-st-louis/
LOCATION:Skala Bar\, 5051 Gravois Ave.\, St. Louis\, MO\, United States
CATEGORIES:Koncerti
ATTACH;FMTTYPE=image/jpeg:https://izprveruke.com/wp-content/uploads/2022/02/mirzadelic.jpg
GEO:38.5803607;-90.2688449
X-APPLE-STRUCTURED-LOCATION;VALUE=URI;X-ADDRESS=Skala Bar 5051 Gravois Ave. St. Louis MO United States;X-APPLE-RADIUS=500;X-TITLE=5051 Gravois Ave.:geo:-90.2688449,38.5803607
END:VEVENT
END:VCALENDAR