BEGIN:VCALENDAR
VERSION:2.0
PRODID:-//Iz Prve Ruke - Koncerti u Americi i Kanadi | Lokalna Dešavanja - ECPv6.15.20//NONSGML v1.0//EN
CALSCALE:GREGORIAN
METHOD:PUBLISH
X-WR-CALNAME:Iz Prve Ruke - Koncerti u Americi i Kanadi | Lokalna Dešavanja
X-ORIGINAL-URL:https://izprveruke.com
X-WR-CALDESC:Events for Iz Prve Ruke - Koncerti u Americi i Kanadi | Lokalna Dešavanja
REFRESH-INTERVAL;VALUE=DURATION:PT1H
X-Robots-Tag:noindex
X-PUBLISHED-TTL:PT1H
BEGIN:VTIMEZONE
TZID:America/Los_Angeles
BEGIN:DAYLIGHT
TZOFFSETFROM:-0800
TZOFFSETTO:-0700
TZNAME:PDT
DTSTART:20210314T100000
END:DAYLIGHT
BEGIN:STANDARD
TZOFFSETFROM:-0700
TZOFFSETTO:-0800
TZNAME:PST
DTSTART:20211107T090000
END:STANDARD
BEGIN:DAYLIGHT
TZOFFSETFROM:-0800
TZOFFSETTO:-0700
TZNAME:PDT
DTSTART:20220313T100000
END:DAYLIGHT
BEGIN:STANDARD
TZOFFSETFROM:-0700
TZOFFSETTO:-0800
TZNAME:PST
DTSTART:20221106T090000
END:STANDARD
BEGIN:DAYLIGHT
TZOFFSETFROM:-0800
TZOFFSETTO:-0700
TZNAME:PDT
DTSTART:20230312T100000
END:DAYLIGHT
BEGIN:STANDARD
TZOFFSETFROM:-0700
TZOFFSETTO:-0800
TZNAME:PST
DTSTART:20231105T090000
END:STANDARD
END:VTIMEZONE
BEGIN:VEVENT
DTSTART;TZID=America/Los_Angeles:20221217T203000
DTEND;TZID=America/Los_Angeles:20221217T233000
DTSTAMP:20260423T163441
CREATED:20221214T075542Z
LAST-MODIFIED:20221214T075545Z
UID:10001012-1671309000-1671319800@izprveruke.com
SUMMARY:Adnan Babajic - St. Louis
DESCRIPTION:Adnan Babajic i specijalni gost DJ Edy Balkan \n\n\n\nVise informacija 314-853-3211
URL:https://izprveruke.com/event/adnan-babajic-st-louis-3/
LOCATION:Scorpion Cafe & Bar\, 4632 Gravois Ave.\, St. Louis\, Missouri\, United States
CATEGORIES:Koncerti
ATTACH;FMTTYPE=image/png:https://izprveruke.com/wp-content/uploads/2022/12/adnanbabajic.png
GEO:38.5831506;-90.2645941
X-APPLE-STRUCTURED-LOCATION;VALUE=URI;X-ADDRESS=Scorpion Cafe & Bar 4632 Gravois Ave. St. Louis Missouri United States;X-APPLE-RADIUS=500;X-TITLE=4632 Gravois Ave.:geo:-90.2645941,38.5831506
END:VEVENT
BEGIN:VEVENT
DTSTART;TZID=America/Los_Angeles:20221216T203000
DTEND;TZID=America/Los_Angeles:20221216T233000
DTSTAMP:20260423T163441
CREATED:20221214T075031Z
LAST-MODIFIED:20221214T075519Z
UID:10001006-1671222600-1671233400@izprveruke.com
SUMMARY:Adnan Babajic - St. Louis
DESCRIPTION:Adnan Babajic i specijalni gost DJ Edy Balkan \n\n\n\nVise informacija 314-853-3211
URL:https://izprveruke.com/event/adnan-babajic-st-louis-2/
LOCATION:Scorpion Cafe & Bar\, 4632 Gravois Ave.\, St. Louis\, Missouri\, United States
CATEGORIES:Koncerti
ATTACH;FMTTYPE=image/png:https://izprveruke.com/wp-content/uploads/2022/12/adnanbabajic.png
GEO:38.5831506;-90.2645941
X-APPLE-STRUCTURED-LOCATION;VALUE=URI;X-ADDRESS=Scorpion Cafe & Bar 4632 Gravois Ave. St. Louis Missouri United States;X-APPLE-RADIUS=500;X-TITLE=4632 Gravois Ave.:geo:-90.2645941,38.5831506
END:VEVENT
END:VCALENDAR