BEGIN:VCALENDAR
VERSION:2.0
PRODID:-//Iz Prve Ruke - Koncerti u Americi i Kanadi | Lokalna Dešavanja - ECPv6.15.20//NONSGML v1.0//EN
CALSCALE:GREGORIAN
METHOD:PUBLISH
X-ORIGINAL-URL:https://izprveruke.com
X-WR-CALDESC:Events for Iz Prve Ruke - Koncerti u Americi i Kanadi | Lokalna Dešavanja
REFRESH-INTERVAL;VALUE=DURATION:PT1H
X-Robots-Tag:noindex
X-PUBLISHED-TTL:PT1H
BEGIN:VTIMEZONE
TZID:America/Los_Angeles
BEGIN:DAYLIGHT
TZOFFSETFROM:-0800
TZOFFSETTO:-0700
TZNAME:PDT
DTSTART:20210314T100000
END:DAYLIGHT
BEGIN:STANDARD
TZOFFSETFROM:-0700
TZOFFSETTO:-0800
TZNAME:PST
DTSTART:20211107T090000
END:STANDARD
BEGIN:DAYLIGHT
TZOFFSETFROM:-0800
TZOFFSETTO:-0700
TZNAME:PDT
DTSTART:20220313T100000
END:DAYLIGHT
BEGIN:STANDARD
TZOFFSETFROM:-0700
TZOFFSETTO:-0800
TZNAME:PST
DTSTART:20221106T090000
END:STANDARD
BEGIN:DAYLIGHT
TZOFFSETFROM:-0800
TZOFFSETTO:-0700
TZNAME:PDT
DTSTART:20230312T100000
END:DAYLIGHT
BEGIN:STANDARD
TZOFFSETFROM:-0700
TZOFFSETTO:-0800
TZNAME:PST
DTSTART:20231105T090000
END:STANDARD
END:VTIMEZONE
BEGIN:VEVENT
DTSTART;TZID=America/Los_Angeles:20220205T203000
DTEND;TZID=America/Los_Angeles:20220205T203000
DTSTAMP:20260423T235053
CREATED:20220202T055759Z
LAST-MODIFIED:20220207T031018Z
UID:10000749-1644093000-1644093000@izprveruke.com
SUMMARY:Neda Ukraden - Orlando
DESCRIPTION:Neda Ukraden i specijalni gost Adnan Babajic.Rock Band “Otpisani”Vise informacija 407-312-8297
URL:https://izprveruke.com/event/neda-ukraden-orlando/
LOCATION:Sanford Garden Club\, 200 Fairmont Dr.\, Sanford\, FL\, United States
CATEGORIES:Koncerti
ATTACH;FMTTYPE=image/jpeg:https://izprveruke.com/wp-content/uploads/2022/02/nedaukraden.jpg
GEO:28.7526508;-81.2884431
X-APPLE-STRUCTURED-LOCATION;VALUE=URI;X-ADDRESS=Sanford Garden Club 200 Fairmont Dr. Sanford FL United States;X-APPLE-RADIUS=500;X-TITLE=200 Fairmont Dr.:geo:-81.2884431,28.7526508
END:VEVENT
END:VCALENDAR