BEGIN:VCALENDAR
VERSION:2.0
PRODID:-//Iz Prve Ruke - Koncerti u Americi i Kanadi | Lokalna Dešavanja - ECPv6.15.20//NONSGML v1.0//EN
CALSCALE:GREGORIAN
METHOD:PUBLISH
X-WR-CALNAME:Iz Prve Ruke - Koncerti u Americi i Kanadi | Lokalna Dešavanja
X-ORIGINAL-URL:https://izprveruke.com
X-WR-CALDESC:Events for Iz Prve Ruke - Koncerti u Americi i Kanadi | Lokalna Dešavanja
REFRESH-INTERVAL;VALUE=DURATION:PT1H
X-Robots-Tag:noindex
X-PUBLISHED-TTL:PT1H
BEGIN:VTIMEZONE
TZID:America/Los_Angeles
BEGIN:DAYLIGHT
TZOFFSETFROM:-0800
TZOFFSETTO:-0700
TZNAME:PDT
DTSTART:20210314T100000
END:DAYLIGHT
BEGIN:STANDARD
TZOFFSETFROM:-0700
TZOFFSETTO:-0800
TZNAME:PST
DTSTART:20211107T090000
END:STANDARD
BEGIN:DAYLIGHT
TZOFFSETFROM:-0800
TZOFFSETTO:-0700
TZNAME:PDT
DTSTART:20220313T100000
END:DAYLIGHT
BEGIN:STANDARD
TZOFFSETFROM:-0700
TZOFFSETTO:-0800
TZNAME:PST
DTSTART:20221106T090000
END:STANDARD
BEGIN:DAYLIGHT
TZOFFSETFROM:-0800
TZOFFSETTO:-0700
TZNAME:PDT
DTSTART:20230312T100000
END:DAYLIGHT
BEGIN:STANDARD
TZOFFSETFROM:-0700
TZOFFSETTO:-0800
TZNAME:PST
DTSTART:20231105T090000
END:STANDARD
BEGIN:DAYLIGHT
TZOFFSETFROM:-0800
TZOFFSETTO:-0700
TZNAME:PDT
DTSTART:20240310T100000
END:DAYLIGHT
BEGIN:STANDARD
TZOFFSETFROM:-0700
TZOFFSETTO:-0800
TZNAME:PST
DTSTART:20241103T090000
END:STANDARD
END:VTIMEZONE
BEGIN:VEVENT
DTSTART;TZID=America/Los_Angeles:20231110T203000
DTEND;TZID=America/Los_Angeles:20231110T235900
DTSTAMP:20260423T164747
CREATED:20231026T044313Z
LAST-MODIFIED:20231026T051619Z
UID:10001253-1699648200-1699660740@izprveruke.com
SUMMARY:Rade Lackovic - Des Moines
DESCRIPTION:Rade Lackovic live in Des Moines. Vise informacija 515-778-8348 & 315-601-1228
URL:https://izprveruke.com/event/rade-lackovic-des-moines/
LOCATION:Ramada\, 5000 Merle Hay Rd.\, Des Moines\, IA\, United States
CATEGORIES:Koncerti
ATTACH;FMTTYPE=image/jpeg:https://izprveruke.com/wp-content/uploads/2023/10/radelackovic.jpg
GEO:41.650424;-93.6992533
X-APPLE-STRUCTURED-LOCATION;VALUE=URI;X-ADDRESS=Ramada 5000 Merle Hay Rd. Des Moines IA United States;X-APPLE-RADIUS=500;X-TITLE=5000 Merle Hay Rd.:geo:-93.6992533,41.650424
END:VEVENT
BEGIN:VEVENT
DTSTART;TZID=America/Los_Angeles:20231014T203000
DTEND;TZID=America/Los_Angeles:20231014T235900
DTSTAMP:20260423T164747
CREATED:20230918T055202Z
LAST-MODIFIED:20230918T055203Z
UID:10001233-1697315400-1697327940@izprveruke.com
SUMMARY:Elena & Mile Kitic - Des Moines
DESCRIPTION:Mile Kitic live in Des Moines. Vise informacija 515-249-0258
URL:https://izprveruke.com/event/elena-mile-kitic-des-moines/
LOCATION:Ramada\, 5000 Merle Hay Rd.\, Des Moines\, IA\, United States
CATEGORIES:Koncerti
ATTACH;FMTTYPE=image/jpeg:https://izprveruke.com/wp-content/uploads/2023/09/elena_mile_kitic.jpg
GEO:41.650424;-93.6992533
X-APPLE-STRUCTURED-LOCATION;VALUE=URI;X-ADDRESS=Ramada 5000 Merle Hay Rd. Des Moines IA United States;X-APPLE-RADIUS=500;X-TITLE=5000 Merle Hay Rd.:geo:-93.6992533,41.650424
END:VEVENT
BEGIN:VEVENT
DTSTART;TZID=America/Los_Angeles:20230915T203000
DTEND;TZID=America/Los_Angeles:20230915T235900
DTSTAMP:20260423T164747
CREATED:20230724T021155Z
LAST-MODIFIED:20230821T051356Z
UID:10001195-1694809800-1694822340@izprveruke.com
SUMMARY:Emir Djulovic - Des Moines
DESCRIPTION:Emir Djulovic live in Des Moines.  \n\n\n\nVise informacija 515-778-8348
URL:https://izprveruke.com/event/emir-djulovic-des-moines/
LOCATION:Ramada\, 5000 Merle Hay Rd.\, Des Moines\, IA\, United States
CATEGORIES:Koncerti
ATTACH;FMTTYPE=image/jpeg:https://izprveruke.com/wp-content/uploads/2023/07/emirdjulovic.jpg
GEO:41.650424;-93.6992533
X-APPLE-STRUCTURED-LOCATION;VALUE=URI;X-ADDRESS=Ramada 5000 Merle Hay Rd. Des Moines IA United States;X-APPLE-RADIUS=500;X-TITLE=5000 Merle Hay Rd.:geo:-93.6992533,41.650424
END:VEVENT
BEGIN:VEVENT
DTSTART;TZID=America/Los_Angeles:20220219T203000
DTEND;TZID=America/Los_Angeles:20220219T235900
DTSTAMP:20260423T164747
CREATED:20220208T070318Z
LAST-MODIFIED:20220208T080009Z
UID:10000777-1645302600-1645315140@izprveruke.com
SUMMARY:Emina\, Fatmir\, Marina - Des Moines
DESCRIPTION:Vise informacija 515-778-8348
URL:https://izprveruke.com/event/emina-fatmir-marina-des-moines/
LOCATION:Ramada\, 5000 Merle Hay Rd.\, Des Moines\, IA\, United States
CATEGORIES:Koncerti
ATTACH;FMTTYPE=image/jpeg:https://izprveruke.com/wp-content/uploads/2022/02/emina_fatmir_marina.jpg
GEO:41.650424;-93.6992533
X-APPLE-STRUCTURED-LOCATION;VALUE=URI;X-ADDRESS=Ramada 5000 Merle Hay Rd. Des Moines IA United States;X-APPLE-RADIUS=500;X-TITLE=5000 Merle Hay Rd.:geo:-93.6992533,41.650424
END:VEVENT
END:VCALENDAR