BEGIN:VCALENDAR
VERSION:2.0
PRODID:-//Iz Prve Ruke - Koncerti u Americi i Kanadi | Lokalna Dešavanja - ECPv6.15.20//NONSGML v1.0//EN
CALSCALE:GREGORIAN
METHOD:PUBLISH
X-ORIGINAL-URL:https://izprveruke.com
X-WR-CALDESC:Events for Iz Prve Ruke - Koncerti u Americi i Kanadi | Lokalna Dešavanja
REFRESH-INTERVAL;VALUE=DURATION:PT1H
X-Robots-Tag:noindex
X-PUBLISHED-TTL:PT1H
BEGIN:VTIMEZONE
TZID:America/Los_Angeles
BEGIN:DAYLIGHT
TZOFFSETFROM:-0800
TZOFFSETTO:-0700
TZNAME:PDT
DTSTART:20220313T100000
END:DAYLIGHT
BEGIN:STANDARD
TZOFFSETFROM:-0700
TZOFFSETTO:-0800
TZNAME:PST
DTSTART:20221106T090000
END:STANDARD
BEGIN:DAYLIGHT
TZOFFSETFROM:-0800
TZOFFSETTO:-0700
TZNAME:PDT
DTSTART:20230312T100000
END:DAYLIGHT
BEGIN:STANDARD
TZOFFSETFROM:-0700
TZOFFSETTO:-0800
TZNAME:PST
DTSTART:20231105T090000
END:STANDARD
BEGIN:DAYLIGHT
TZOFFSETFROM:-0800
TZOFFSETTO:-0700
TZNAME:PDT
DTSTART:20240310T100000
END:DAYLIGHT
BEGIN:STANDARD
TZOFFSETFROM:-0700
TZOFFSETTO:-0800
TZNAME:PST
DTSTART:20241103T090000
END:STANDARD
END:VTIMEZONE
BEGIN:VEVENT
DTSTART;TZID=America/Los_Angeles:20230514T203000
DTEND;TZID=America/Los_Angeles:20230514T235900
DTSTAMP:20260423T145926
CREATED:20230321T021431Z
LAST-MODIFIED:20230321T030722Z
UID:10001110-1684096200-1684108740@izprveruke.com
SUMMARY:Crvena Jabuka - Washington\, DC
DESCRIPTION:19+ | Crvena Jabuka live in Washington\, DC.
URL:https://izprveruke.com/event/crvena-jabuka-washington-dc/
LOCATION:Privilege DC Nightclub & Lounge\, 115 U St NW Suite A\, Washington\, DC\, United States
CATEGORIES:Koncerti
ATTACH;FMTTYPE=image/jpeg:https://izprveruke.com/wp-content/uploads/2023/03/crvenajabuka.jpg
GEO:38.9172035;-77.0127873
X-APPLE-STRUCTURED-LOCATION;VALUE=URI;X-ADDRESS=Privilege DC Nightclub & Lounge 115 U St NW Suite A Washington DC United States;X-APPLE-RADIUS=500;X-TITLE=115 U St NW Suite A:geo:-77.0127873,38.9172035
END:VEVENT
BEGIN:VEVENT
DTSTART;TZID=America/Los_Angeles:20230409T203000
DTEND;TZID=America/Los_Angeles:20230409T235900
DTSTAMP:20260423T145926
CREATED:20230326T031813Z
LAST-MODIFIED:20230404T025434Z
UID:10001128-1681072200-1681084740@izprveruke.com
SUMMARY:Dr. Nele Karajlic - Washington\, DC
DESCRIPTION:21+ | Dr Nele Karajlic Sings Zabranjeno Pusenje Hits
URL:https://izprveruke.com/event/dr-nele-karajlic-washington-dc/
LOCATION:Privilege DC Nightclub & Lounge\, 115 U St NW Suite A\, Washington\, DC\, United States
CATEGORIES:Koncerti
ATTACH;FMTTYPE=image/jpeg:https://izprveruke.com/wp-content/uploads/2022/09/nele-e1680893111239.jpg
GEO:38.9172035;-77.0127873
X-APPLE-STRUCTURED-LOCATION;VALUE=URI;X-ADDRESS=Privilege DC Nightclub & Lounge 115 U St NW Suite A Washington DC United States;X-APPLE-RADIUS=500;X-TITLE=115 U St NW Suite A:geo:-77.0127873,38.9172035
END:VEVENT
END:VCALENDAR