BEGIN:VCALENDAR
VERSION:2.0
PRODID:-//Iz Prve Ruke - Koncerti u Americi i Kanadi | Lokalna Dešavanja - ECPv6.15.20//NONSGML v1.0//EN
CALSCALE:GREGORIAN
METHOD:PUBLISH
X-ORIGINAL-URL:https://izprveruke.com
X-WR-CALDESC:Events for Iz Prve Ruke - Koncerti u Americi i Kanadi | Lokalna Dešavanja
REFRESH-INTERVAL;VALUE=DURATION:PT1H
X-Robots-Tag:noindex
X-PUBLISHED-TTL:PT1H
BEGIN:VTIMEZONE
TZID:America/Los_Angeles
BEGIN:DAYLIGHT
TZOFFSETFROM:-0800
TZOFFSETTO:-0700
TZNAME:PDT
DTSTART:20210314T100000
END:DAYLIGHT
BEGIN:STANDARD
TZOFFSETFROM:-0700
TZOFFSETTO:-0800
TZNAME:PST
DTSTART:20211107T090000
END:STANDARD
BEGIN:DAYLIGHT
TZOFFSETFROM:-0800
TZOFFSETTO:-0700
TZNAME:PDT
DTSTART:20220313T100000
END:DAYLIGHT
BEGIN:STANDARD
TZOFFSETFROM:-0700
TZOFFSETTO:-0800
TZNAME:PST
DTSTART:20221106T090000
END:STANDARD
BEGIN:DAYLIGHT
TZOFFSETFROM:-0800
TZOFFSETTO:-0700
TZNAME:PDT
DTSTART:20230312T100000
END:DAYLIGHT
BEGIN:STANDARD
TZOFFSETFROM:-0700
TZOFFSETTO:-0800
TZNAME:PST
DTSTART:20231105T090000
END:STANDARD
BEGIN:DAYLIGHT
TZOFFSETFROM:-0800
TZOFFSETTO:-0700
TZNAME:PDT
DTSTART:20240310T100000
END:DAYLIGHT
BEGIN:STANDARD
TZOFFSETFROM:-0700
TZOFFSETTO:-0800
TZNAME:PST
DTSTART:20241103T090000
END:STANDARD
BEGIN:DAYLIGHT
TZOFFSETFROM:-0800
TZOFFSETTO:-0700
TZNAME:PDT
DTSTART:20250309T100000
END:DAYLIGHT
BEGIN:STANDARD
TZOFFSETFROM:-0700
TZOFFSETTO:-0800
TZNAME:PST
DTSTART:20251102T090000
END:STANDARD
BEGIN:DAYLIGHT
TZOFFSETFROM:-0800
TZOFFSETTO:-0700
TZNAME:PDT
DTSTART:20260308T100000
END:DAYLIGHT
BEGIN:STANDARD
TZOFFSETFROM:-0700
TZOFFSETTO:-0800
TZNAME:PST
DTSTART:20261101T090000
END:STANDARD
BEGIN:DAYLIGHT
TZOFFSETFROM:-0800
TZOFFSETTO:-0700
TZNAME:PDT
DTSTART:20270314T100000
END:DAYLIGHT
BEGIN:STANDARD
TZOFFSETFROM:-0700
TZOFFSETTO:-0800
TZNAME:PST
DTSTART:20271107T090000
END:STANDARD
END:VTIMEZONE
BEGIN:VEVENT
DTSTART;TZID=America/Los_Angeles:20260320T203000
DTEND;TZID=America/Los_Angeles:20260320T235900
DTSTAMP:20260423T111403
CREATED:20260105T020003Z
LAST-MODIFIED:20260116T064306Z
UID:10001568-1774038600-1774051140@izprveruke.com
SUMMARY:Jelena Rozga - Toronto
DESCRIPTION:Jelena Rozga live in Toronto.
URL:https://izprveruke.com/event/jelena-rozga-toronto/
LOCATION:Phoenix Concert Theatre\, 410 Sherbourne St.\, Toronto\, ON\, Canada
ATTACH;FMTTYPE=image/png:https://izprveruke.com/wp-content/uploads/2026/01/jelendarozga.png
ORGANIZER;CN="BuraBeat Entertainment":MAILTO:info@burabeat.com
GEO:43.6646816;-79.3741437
X-APPLE-STRUCTURED-LOCATION;VALUE=URI;X-ADDRESS=Phoenix Concert Theatre 410 Sherbourne St. Toronto ON Canada;X-APPLE-RADIUS=500;X-TITLE=410 Sherbourne St.:geo:-79.3741437,43.6646816
END:VEVENT
BEGIN:VEVENT
DTSTART;TZID=America/Los_Angeles:20250301T203000
DTEND;TZID=America/Los_Angeles:20250301T235900
DTSTAMP:20260423T111403
CREATED:20250112T023433Z
LAST-MODIFIED:20250112T023435Z
UID:10001477-1740861000-1740873540@izprveruke.com
SUMMARY:Jelena Rozga & Petar Graso - Toronto
DESCRIPTION:19+ | Join us on Saturday\, March 1\, 2025\, for an unforgettable evening featuring sensational Jelena Rozga and incredible Petar Grašo. Two stars\, one stage\, don’t miss this magical night of music and energy.
URL:https://izprveruke.com/event/jelena-rozga-petar-graso-toronto/
LOCATION:Phoenix Concert Theatre\, 410 Sherbourne St.\, Toronto\, ON\, Canada
CATEGORIES:Koncerti
ATTACH;FMTTYPE=image/jpeg:https://izprveruke.com/wp-content/uploads/2025/01/rozga_graso.jpg
GEO:43.6646816;-79.3741437
X-APPLE-STRUCTURED-LOCATION;VALUE=URI;X-ADDRESS=Phoenix Concert Theatre 410 Sherbourne St. Toronto ON Canada;X-APPLE-RADIUS=500;X-TITLE=410 Sherbourne St.:geo:-79.3741437,43.6646816
END:VEVENT
BEGIN:VEVENT
DTSTART;TZID=America/Los_Angeles:20250216T203000
DTEND;TZID=America/Los_Angeles:20250216T235900
DTSTAMP:20260423T111403
CREATED:20250111T035109Z
LAST-MODIFIED:20250111T035110Z
UID:10001454-1739737800-1739750340@izprveruke.com
SUMMARY:Zeljko Bebek - Toronto
DESCRIPTION:Zeljko Bebek live in Toronto. Vise informacija 403-607-2113
URL:https://izprveruke.com/event/zeljko-bebek-toronto-2/
LOCATION:Phoenix Concert Theatre\, 410 Sherbourne St.\, Toronto\, ON\, Canada
CATEGORIES:Koncerti
ATTACH;FMTTYPE=image/png:https://izprveruke.com/wp-content/uploads/2023/01/zeljkobebek.png
GEO:43.6646816;-79.3741437
X-APPLE-STRUCTURED-LOCATION;VALUE=URI;X-ADDRESS=Phoenix Concert Theatre 410 Sherbourne St. Toronto ON Canada;X-APPLE-RADIUS=500;X-TITLE=410 Sherbourne St.:geo:-79.3741437,43.6646816
END:VEVENT
BEGIN:VEVENT
DTSTART;TZID=America/Los_Angeles:20241102T200000
DTEND;TZID=America/Los_Angeles:20241102T235900
DTSTAMP:20260423T111403
CREATED:20240910T024521Z
LAST-MODIFIED:20240910T025731Z
UID:10001396-1730577600-1730591940@izprveruke.com
SUMMARY:Bajaga & Instruktori - Toronto
DESCRIPTION:Dodjite da proslavimo zajedno 40 godina ljubavi i muzike uz spektakularanu scenu i zvuk\, i nezaboravno putovanje kroz 40 godina hitova.
URL:https://izprveruke.com/event/bajaga-toronto/
LOCATION:Phoenix Concert Theatre\, 410 Sherbourne St.\, Toronto\, ON\, Canada
CATEGORIES:Koncerti
ATTACH;FMTTYPE=image/jpeg:https://izprveruke.com/wp-content/uploads/2024/09/bajaga.jpg
GEO:43.6646816;-79.3741437
X-APPLE-STRUCTURED-LOCATION;VALUE=URI;X-ADDRESS=Phoenix Concert Theatre 410 Sherbourne St. Toronto ON Canada;X-APPLE-RADIUS=500;X-TITLE=410 Sherbourne St.:geo:-79.3741437,43.6646816
END:VEVENT
BEGIN:VEVENT
DTSTART;TZID=America/Los_Angeles:20240406T203000
DTEND;TZID=America/Los_Angeles:20240406T235900
DTSTAMP:20260423T111403
CREATED:20240305T022921Z
LAST-MODIFIED:20240305T022922Z
UID:10001366-1712435400-1712447940@izprveruke.com
SUMMARY:Petar Graso - Toronto
DESCRIPTION:Dalmacija Night with Petar Graso and the band.
URL:https://izprveruke.com/event/petar-graso-toronto/
LOCATION:Phoenix Concert Theatre\, 410 Sherbourne St.\, Toronto\, ON\, Canada
CATEGORIES:Koncerti
ATTACH;FMTTYPE=image/jpeg:https://izprveruke.com/wp-content/uploads/2024/03/petargraso.jpg
GEO:43.6646816;-79.3741437
X-APPLE-STRUCTURED-LOCATION;VALUE=URI;X-ADDRESS=Phoenix Concert Theatre 410 Sherbourne St. Toronto ON Canada;X-APPLE-RADIUS=500;X-TITLE=410 Sherbourne St.:geo:-79.3741437,43.6646816
END:VEVENT
BEGIN:VEVENT
DTSTART;TZID=America/Los_Angeles:20231125T203000
DTEND;TZID=America/Los_Angeles:20231125T235900
DTSTAMP:20260423T111403
CREATED:20230909T165828Z
LAST-MODIFIED:20231016T185449Z
UID:10001224-1700944200-1700956740@izprveruke.com
SUMMARY:Senidah - Toronto
DESCRIPTION:Senidah live in Toronto. All ages.
URL:https://izprveruke.com/event/senidah-toronto/
LOCATION:Phoenix Concert Theatre\, 410 Sherbourne St.\, Toronto\, ON\, Canada
CATEGORIES:Koncerti
ATTACH;FMTTYPE=image/png:https://izprveruke.com/wp-content/uploads/2022/09/senidah.png
GEO:43.6646816;-79.3741437
X-APPLE-STRUCTURED-LOCATION;VALUE=URI;X-ADDRESS=Phoenix Concert Theatre 410 Sherbourne St. Toronto ON Canada;X-APPLE-RADIUS=500;X-TITLE=410 Sherbourne St.:geo:-79.3741437,43.6646816
END:VEVENT
BEGIN:VEVENT
DTSTART;TZID=America/Los_Angeles:20230422T203000
DTEND;TZID=America/Los_Angeles:20230422T235900
DTSTAMP:20260423T111403
CREATED:20230321T020211Z
LAST-MODIFIED:20230321T020318Z
UID:10001104-1682195400-1682207940@izprveruke.com
SUMMARY:Crvena Jabuka - Toronto
DESCRIPTION:19+ | Crvena Jabuka live in Toronto.
URL:https://izprveruke.com/event/crvena-jabuka-toronto/
LOCATION:Phoenix Concert Theatre\, 410 Sherbourne St.\, Toronto\, ON\, Canada
CATEGORIES:Koncerti
ATTACH;FMTTYPE=image/jpeg:https://izprveruke.com/wp-content/uploads/2023/03/crvenajabuka.jpg
GEO:43.6646816;-79.3741437
X-APPLE-STRUCTURED-LOCATION;VALUE=URI;X-ADDRESS=Phoenix Concert Theatre 410 Sherbourne St. Toronto ON Canada;X-APPLE-RADIUS=500;X-TITLE=410 Sherbourne St.:geo:-79.3741437,43.6646816
END:VEVENT
BEGIN:VEVENT
DTSTART;TZID=America/Los_Angeles:20221112T203000
DTEND;TZID=America/Los_Angeles:20221112T235900
DTSTAMP:20260423T111403
CREATED:20221002T052815Z
LAST-MODIFIED:20221002T053013Z
UID:10000930-1668285000-1668297540@izprveruke.com
SUMMARY:Bajaga & Instruktori - Toronto
DESCRIPTION:Bajaga & Instruktori Live in Toronto.  \n\n\n\nThis event is age restricted\, 19+.
URL:https://izprveruke.com/event/bajaga-instruktori-toronto/
LOCATION:Phoenix Concert Theatre\, 410 Sherbourne St.\, Toronto\, ON\, Canada
CATEGORIES:Koncerti
ATTACH;FMTTYPE=image/jpeg:https://izprveruke.com/wp-content/uploads/2022/10/bajaga.jpg
GEO:43.6646816;-79.3741437
X-APPLE-STRUCTURED-LOCATION;VALUE=URI;X-ADDRESS=Phoenix Concert Theatre 410 Sherbourne St. Toronto ON Canada;X-APPLE-RADIUS=500;X-TITLE=410 Sherbourne St.:geo:-79.3741437,43.6646816
END:VEVENT
END:VCALENDAR