BEGIN:VCALENDAR
VERSION:2.0
PRODID:-//Iz Prve Ruke - Koncerti u Americi i Kanadi | Lokalna Dešavanja - ECPv6.15.20//NONSGML v1.0//EN
CALSCALE:GREGORIAN
METHOD:PUBLISH
X-WR-CALNAME:Iz Prve Ruke - Koncerti u Americi i Kanadi | Lokalna Dešavanja
X-ORIGINAL-URL:https://izprveruke.com
X-WR-CALDESC:Events for Iz Prve Ruke - Koncerti u Americi i Kanadi | Lokalna Dešavanja
REFRESH-INTERVAL;VALUE=DURATION:PT1H
X-Robots-Tag:noindex
X-PUBLISHED-TTL:PT1H
BEGIN:VTIMEZONE
TZID:America/Los_Angeles
BEGIN:DAYLIGHT
TZOFFSETFROM:-0800
TZOFFSETTO:-0700
TZNAME:PDT
DTSTART:20210314T100000
END:DAYLIGHT
BEGIN:STANDARD
TZOFFSETFROM:-0700
TZOFFSETTO:-0800
TZNAME:PST
DTSTART:20211107T090000
END:STANDARD
BEGIN:DAYLIGHT
TZOFFSETFROM:-0800
TZOFFSETTO:-0700
TZNAME:PDT
DTSTART:20220313T100000
END:DAYLIGHT
BEGIN:STANDARD
TZOFFSETFROM:-0700
TZOFFSETTO:-0800
TZNAME:PST
DTSTART:20221106T090000
END:STANDARD
BEGIN:DAYLIGHT
TZOFFSETFROM:-0800
TZOFFSETTO:-0700
TZNAME:PDT
DTSTART:20230312T100000
END:DAYLIGHT
BEGIN:STANDARD
TZOFFSETFROM:-0700
TZOFFSETTO:-0800
TZNAME:PST
DTSTART:20231105T090000
END:STANDARD
BEGIN:DAYLIGHT
TZOFFSETFROM:-0800
TZOFFSETTO:-0700
TZNAME:PDT
DTSTART:20240310T100000
END:DAYLIGHT
BEGIN:STANDARD
TZOFFSETFROM:-0700
TZOFFSETTO:-0800
TZNAME:PST
DTSTART:20241103T090000
END:STANDARD
END:VTIMEZONE
BEGIN:VEVENT
DTSTART;TZID=America/Los_Angeles:20231215T203000
DTEND;TZID=America/Los_Angeles:20231215T235900
DTSTAMP:20260423T133548
CREATED:20231122T052305Z
LAST-MODIFIED:20231122T052307Z
UID:10001282-1702672200-1702684740@izprveruke.com
SUMMARY:Tanja Savic & Armin Dedic - Phoenix
DESCRIPTION:Tanja Savic & Armin Dedic live in Phoenix. \n\n\n\nVise informacija 602-327-7251
URL:https://izprveruke.com/event/tanja-savic-armin-dedic-phoenix/
LOCATION:MoonLight Restaurant 2\, 5686 W Bell Rd.\, Glendale\, AZ\, United States
CATEGORIES:Koncerti
ATTACH;FMTTYPE=image/jpeg:https://izprveruke.com/wp-content/uploads/2023/11/tanjasavic_armindedic.jpg
GEO:33.6402549;-112.1817237
X-APPLE-STRUCTURED-LOCATION;VALUE=URI;X-ADDRESS=MoonLight Restaurant 2 5686 W Bell Rd. Glendale AZ United States;X-APPLE-RADIUS=500;X-TITLE=5686 W Bell Rd.:geo:-112.1817237,33.6402549
END:VEVENT
BEGIN:VEVENT
DTSTART;TZID=America/Los_Angeles:20230224T203000
DTEND;TZID=America/Los_Angeles:20230224T235900
DTSTAMP:20260423T133548
CREATED:20230118T071359Z
LAST-MODIFIED:20230130T202853Z
UID:10001079-1677270600-1677283140@izprveruke.com
SUMMARY:Viki Miljkovic & Nermin Hadzic - Phoenix
DESCRIPTION:Vise informacija 602-327-7251
URL:https://izprveruke.com/event/viki-miljkovic-nermin-hadzic-phoenix/
LOCATION:MoonLight Restaurant 2\, 5686 W Bell Rd.\, Glendale\, AZ\, United States
CATEGORIES:Koncerti
ATTACH;FMTTYPE=image/png:https://izprveruke.com/wp-content/uploads/2022/11/viki_nerminhadzic.png
GEO:33.6402549;-112.1817237
X-APPLE-STRUCTURED-LOCATION;VALUE=URI;X-ADDRESS=MoonLight Restaurant 2 5686 W Bell Rd. Glendale AZ United States;X-APPLE-RADIUS=500;X-TITLE=5686 W Bell Rd.:geo:-112.1817237,33.6402549
END:VEVENT
BEGIN:VEVENT
DTSTART;TZID=America/Los_Angeles:20221119T203000
DTEND;TZID=America/Los_Angeles:20221119T235900
DTSTAMP:20260423T133548
CREATED:20221014T054530Z
LAST-MODIFIED:20221014T063919Z
UID:10000947-1668889800-1668902340@izprveruke.com
SUMMARY:Sadik & Sandzak Tapani i Melisa Imsirovic - Phoenix
DESCRIPTION:Sadik & Sandzak Tapani i Melisa Imsirovic. \n\n\n\nVise informacija 602-327-7251
URL:https://izprveruke.com/event/sadik-sandzak-tapani-phoenix/
LOCATION:MoonLight Restaurant 2\, 5686 W Bell Rd.\, Glendale\, AZ\, United States
CATEGORIES:Koncerti
ATTACH;FMTTYPE=image/jpeg:https://izprveruke.com/wp-content/uploads/2022/10/sadik.jpg
GEO:33.6402549;-112.1817237
X-APPLE-STRUCTURED-LOCATION;VALUE=URI;X-ADDRESS=MoonLight Restaurant 2 5686 W Bell Rd. Glendale AZ United States;X-APPLE-RADIUS=500;X-TITLE=5686 W Bell Rd.:geo:-112.1817237,33.6402549
END:VEVENT
BEGIN:VEVENT
DTSTART;TZID=America/Los_Angeles:20220325T203000
DTEND;TZID=America/Los_Angeles:20220325T235900
DTSTAMP:20260423T133548
CREATED:20220309T074826Z
LAST-MODIFIED:20220309T074831Z
UID:10000829-1648240200-1648252740@izprveruke.com
SUMMARY:Ibro Bublin & Denis Kadric - Phoenix
DESCRIPTION:Ibro Bublin & Denis Kadric \n\n\n\nVise informacija 602-405-5587
URL:https://izprveruke.com/event/ibro-bublin-denis-kadric-phoenix/
LOCATION:MoonLight Restaurant 2\, 5686 W Bell Rd.\, Glendale\, AZ\, United States
CATEGORIES:Koncerti
ATTACH;FMTTYPE=image/png:https://izprveruke.com/wp-content/uploads/2022/03/ibrobublin.png
GEO:33.6402549;-112.1817237
X-APPLE-STRUCTURED-LOCATION;VALUE=URI;X-ADDRESS=MoonLight Restaurant 2 5686 W Bell Rd. Glendale AZ United States;X-APPLE-RADIUS=500;X-TITLE=5686 W Bell Rd.:geo:-112.1817237,33.6402549
END:VEVENT
END:VCALENDAR