BEGIN:VCALENDAR
VERSION:2.0
PRODID:-//Iz Prve Ruke - Koncerti u Americi i Kanadi | Lokalna Dešavanja - ECPv6.15.20//NONSGML v1.0//EN
CALSCALE:GREGORIAN
METHOD:PUBLISH
X-ORIGINAL-URL:https://izprveruke.com
X-WR-CALDESC:Events for Iz Prve Ruke - Koncerti u Americi i Kanadi | Lokalna Dešavanja
REFRESH-INTERVAL;VALUE=DURATION:PT1H
X-Robots-Tag:noindex
X-PUBLISHED-TTL:PT1H
BEGIN:VTIMEZONE
TZID:America/Los_Angeles
BEGIN:DAYLIGHT
TZOFFSETFROM:-0800
TZOFFSETTO:-0700
TZNAME:PDT
DTSTART:20210314T100000
END:DAYLIGHT
BEGIN:STANDARD
TZOFFSETFROM:-0700
TZOFFSETTO:-0800
TZNAME:PST
DTSTART:20211107T090000
END:STANDARD
BEGIN:DAYLIGHT
TZOFFSETFROM:-0800
TZOFFSETTO:-0700
TZNAME:PDT
DTSTART:20220313T100000
END:DAYLIGHT
BEGIN:STANDARD
TZOFFSETFROM:-0700
TZOFFSETTO:-0800
TZNAME:PST
DTSTART:20221106T090000
END:STANDARD
BEGIN:DAYLIGHT
TZOFFSETFROM:-0800
TZOFFSETTO:-0700
TZNAME:PDT
DTSTART:20230312T100000
END:DAYLIGHT
BEGIN:STANDARD
TZOFFSETFROM:-0700
TZOFFSETTO:-0800
TZNAME:PST
DTSTART:20231105T090000
END:STANDARD
END:VTIMEZONE
BEGIN:VEVENT
DTSTART;TZID=America/Los_Angeles:20221209T203000
DTEND;TZID=America/Los_Angeles:20221209T235900
DTSTAMP:20260423T145931
CREATED:20221205T003250Z
LAST-MODIFIED:20221205T003258Z
UID:10000998-1670617800-1670630340@izprveruke.com
SUMMARY:Djula & Fedja - Nashville
DESCRIPTION:Muzicka pratnja Enes Velic\, Kriger \n\n\n\nVise informacija 607-206-0885
URL:https://izprveruke.com/event/djula-fedja-nashville/
LOCATION:Misty Blue Event Venue\, 6978 Lebanon Rd.\, Mount Juliet\, Tennessee\, United States
CATEGORIES:Koncerti
ATTACH;FMTTYPE=image/png:https://izprveruke.com/wp-content/uploads/2022/12/djula_fedja.png
GEO:36.2329468;-86.4406342
X-APPLE-STRUCTURED-LOCATION;VALUE=URI;X-ADDRESS=Misty Blue Event Venue 6978 Lebanon Rd. Mount Juliet Tennessee United States;X-APPLE-RADIUS=500;X-TITLE=6978 Lebanon Rd.:geo:-86.4406342,36.2329468
END:VEVENT
END:VCALENDAR