BEGIN:VCALENDAR
VERSION:2.0
PRODID:-//Iz Prve Ruke - Koncerti u Americi i Kanadi | Lokalna Dešavanja - ECPv6.15.20//NONSGML v1.0//EN
CALSCALE:GREGORIAN
METHOD:PUBLISH
X-ORIGINAL-URL:https://izprveruke.com
X-WR-CALDESC:Events for Iz Prve Ruke - Koncerti u Americi i Kanadi | Lokalna Dešavanja
REFRESH-INTERVAL;VALUE=DURATION:PT1H
X-Robots-Tag:noindex
X-PUBLISHED-TTL:PT1H
BEGIN:VTIMEZONE
TZID:America/Los_Angeles
BEGIN:DAYLIGHT
TZOFFSETFROM:-0800
TZOFFSETTO:-0700
TZNAME:PDT
DTSTART:20220313T100000
END:DAYLIGHT
BEGIN:STANDARD
TZOFFSETFROM:-0700
TZOFFSETTO:-0800
TZNAME:PST
DTSTART:20221106T090000
END:STANDARD
BEGIN:DAYLIGHT
TZOFFSETFROM:-0800
TZOFFSETTO:-0700
TZNAME:PDT
DTSTART:20230312T100000
END:DAYLIGHT
BEGIN:STANDARD
TZOFFSETFROM:-0700
TZOFFSETTO:-0800
TZNAME:PST
DTSTART:20231105T090000
END:STANDARD
BEGIN:DAYLIGHT
TZOFFSETFROM:-0800
TZOFFSETTO:-0700
TZNAME:PDT
DTSTART:20240310T100000
END:DAYLIGHT
BEGIN:STANDARD
TZOFFSETFROM:-0700
TZOFFSETTO:-0800
TZNAME:PST
DTSTART:20241103T090000
END:STANDARD
END:VTIMEZONE
BEGIN:VEVENT
DTSTART;TZID=America/Los_Angeles:20230927T203000
DTEND;TZID=America/Los_Angeles:20230927T235900
DTSTAMP:20260423T134857
CREATED:20230724T024829Z
LAST-MODIFIED:20230915T023516Z
UID:10001207-1695846600-1695859140@izprveruke.com
SUMMARY:Emir Djulovic - Miami
DESCRIPTION:Emir Djulovic live in Miami.  \n\n\n\nVise informacija 305-922-3779
URL:https://izprveruke.com/event/emir-djulovic-miami/
LOCATION:Maxine’s\, 1756 Collins Ave.\, Miami Beach\, Florida\, United States
CATEGORIES:Koncerti
ATTACH;FMTTYPE=image/jpeg:https://izprveruke.com/wp-content/uploads/2023/07/emirdjulovic.jpg
GEO:25.7934453;-80.1299915
X-APPLE-STRUCTURED-LOCATION;VALUE=URI;X-ADDRESS=Maxine’s 1756 Collins Ave. Miami Beach Florida United States;X-APPLE-RADIUS=500;X-TITLE=1756 Collins Ave.:geo:-80.1299915,25.7934453
END:VEVENT
END:VCALENDAR