BEGIN:VCALENDAR
VERSION:2.0
PRODID:-//Iz Prve Ruke - Koncerti u Americi i Kanadi | Lokalna Dešavanja - ECPv6.15.20//NONSGML v1.0//EN
CALSCALE:GREGORIAN
METHOD:PUBLISH
X-WR-CALNAME:Iz Prve Ruke - Koncerti u Americi i Kanadi | Lokalna Dešavanja
X-ORIGINAL-URL:https://izprveruke.com
X-WR-CALDESC:Events for Iz Prve Ruke - Koncerti u Americi i Kanadi | Lokalna Dešavanja
REFRESH-INTERVAL;VALUE=DURATION:PT1H
X-Robots-Tag:noindex
X-PUBLISHED-TTL:PT1H
BEGIN:VTIMEZONE
TZID:America/Los_Angeles
BEGIN:DAYLIGHT
TZOFFSETFROM:-0800
TZOFFSETTO:-0700
TZNAME:PDT
DTSTART:20220313T100000
END:DAYLIGHT
BEGIN:STANDARD
TZOFFSETFROM:-0700
TZOFFSETTO:-0800
TZNAME:PST
DTSTART:20221106T090000
END:STANDARD
BEGIN:DAYLIGHT
TZOFFSETFROM:-0800
TZOFFSETTO:-0700
TZNAME:PDT
DTSTART:20230312T100000
END:DAYLIGHT
BEGIN:STANDARD
TZOFFSETFROM:-0700
TZOFFSETTO:-0800
TZNAME:PST
DTSTART:20231105T090000
END:STANDARD
BEGIN:DAYLIGHT
TZOFFSETFROM:-0800
TZOFFSETTO:-0700
TZNAME:PDT
DTSTART:20240310T100000
END:DAYLIGHT
BEGIN:STANDARD
TZOFFSETFROM:-0700
TZOFFSETTO:-0800
TZNAME:PST
DTSTART:20241103T090000
END:STANDARD
END:VTIMEZONE
BEGIN:VEVENT
DTSTART;TZID=America/Los_Angeles:20230506T203000
DTEND;TZID=America/Los_Angeles:20230506T235900
DTSTAMP:20260423T142624
CREATED:20230406T035151Z
LAST-MODIFIED:20230406T035156Z
UID:10001131-1683405000-1683417540@izprveruke.com
SUMMARY:Zeljko Bebek - St. Petersburg
DESCRIPTION:Zeljko Bebek & Band live in St. Petersburg.  \n\n\n\nVise informacija 727-558-8232 & 727-221-2182
URL:https://izprveruke.com/event/zeljko-bebek-st-petersburg/
LOCATION:Lithuanian American Hall\, 4880 46th Ave. N\, St. Petersburg\, Florida\, United States
CATEGORIES:Koncerti
ATTACH;FMTTYPE=image/png:https://izprveruke.com/wp-content/uploads/2023/01/zeljkobebek.png
GEO:27.8131442;-82.6990493
X-APPLE-STRUCTURED-LOCATION;VALUE=URI;X-ADDRESS=Lithuanian American Hall 4880 46th Ave. N St. Petersburg Florida United States;X-APPLE-RADIUS=500;X-TITLE=4880 46th Ave. N:geo:-82.6990493,27.8131442
END:VEVENT
END:VCALENDAR