BEGIN:VCALENDAR
VERSION:2.0
PRODID:-//Iz Prve Ruke - Koncerti u Americi i Kanadi | Lokalna Dešavanja - ECPv6.15.20//NONSGML v1.0//EN
CALSCALE:GREGORIAN
METHOD:PUBLISH
X-WR-CALNAME:Iz Prve Ruke - Koncerti u Americi i Kanadi | Lokalna Dešavanja
X-ORIGINAL-URL:https://izprveruke.com
X-WR-CALDESC:Events for Iz Prve Ruke - Koncerti u Americi i Kanadi | Lokalna Dešavanja
REFRESH-INTERVAL;VALUE=DURATION:PT1H
X-Robots-Tag:noindex
X-PUBLISHED-TTL:PT1H
BEGIN:VTIMEZONE
TZID:America/Los_Angeles
BEGIN:DAYLIGHT
TZOFFSETFROM:-0800
TZOFFSETTO:-0700
TZNAME:PDT
DTSTART:20220313T100000
END:DAYLIGHT
BEGIN:STANDARD
TZOFFSETFROM:-0700
TZOFFSETTO:-0800
TZNAME:PST
DTSTART:20221106T090000
END:STANDARD
BEGIN:DAYLIGHT
TZOFFSETFROM:-0800
TZOFFSETTO:-0700
TZNAME:PDT
DTSTART:20230312T100000
END:DAYLIGHT
BEGIN:STANDARD
TZOFFSETFROM:-0700
TZOFFSETTO:-0800
TZNAME:PST
DTSTART:20231105T090000
END:STANDARD
BEGIN:DAYLIGHT
TZOFFSETFROM:-0800
TZOFFSETTO:-0700
TZNAME:PDT
DTSTART:20240310T100000
END:DAYLIGHT
BEGIN:STANDARD
TZOFFSETFROM:-0700
TZOFFSETTO:-0800
TZNAME:PST
DTSTART:20241103T090000
END:STANDARD
END:VTIMEZONE
BEGIN:VEVENT
DTSTART;TZID=America/Los_Angeles:20230623T203000
DTEND;TZID=America/Los_Angeles:20230623T235900
DTSTAMP:20260423T211040
CREATED:20230615T003155Z
LAST-MODIFIED:20230615T003200Z
UID:10001181-1687552200-1687564740@izprveruke.com
SUMMARY:Davor Badrov - Jacksonville
DESCRIPTION:Vise informacija 904-866-2733
URL:https://izprveruke.com/event/davor-badrov-jacksonville/
LOCATION:Jax Event and Lounge\, 9750 Deer Lake Court\, Jacksonville\, Florida\, United States
CATEGORIES:Koncerti
ATTACH;FMTTYPE=image/jpeg:https://izprveruke.com/wp-content/uploads/2023/06/davorbadrov.jpg
GEO:30.2654422;-81.5543722
X-APPLE-STRUCTURED-LOCATION;VALUE=URI;X-ADDRESS=Jax Event and Lounge 9750 Deer Lake Court Jacksonville Florida United States;X-APPLE-RADIUS=500;X-TITLE=9750 Deer Lake Court:geo:-81.5543722,30.2654422
END:VEVENT
END:VCALENDAR