BEGIN:VCALENDAR
VERSION:2.0
PRODID:-//Iz Prve Ruke - Koncerti u Americi i Kanadi | Lokalna Dešavanja - ECPv6.15.20//NONSGML v1.0//EN
CALSCALE:GREGORIAN
METHOD:PUBLISH
X-WR-CALNAME:Iz Prve Ruke - Koncerti u Americi i Kanadi | Lokalna Dešavanja
X-ORIGINAL-URL:https://izprveruke.com
X-WR-CALDESC:Events for Iz Prve Ruke - Koncerti u Americi i Kanadi | Lokalna Dešavanja
REFRESH-INTERVAL;VALUE=DURATION:PT1H
X-Robots-Tag:noindex
X-PUBLISHED-TTL:PT1H
BEGIN:VTIMEZONE
TZID:America/Los_Angeles
BEGIN:DAYLIGHT
TZOFFSETFROM:-0800
TZOFFSETTO:-0700
TZNAME:PDT
DTSTART:20230312T100000
END:DAYLIGHT
BEGIN:STANDARD
TZOFFSETFROM:-0700
TZOFFSETTO:-0800
TZNAME:PST
DTSTART:20231105T090000
END:STANDARD
BEGIN:DAYLIGHT
TZOFFSETFROM:-0800
TZOFFSETTO:-0700
TZNAME:PDT
DTSTART:20240310T100000
END:DAYLIGHT
BEGIN:STANDARD
TZOFFSETFROM:-0700
TZOFFSETTO:-0800
TZNAME:PST
DTSTART:20241103T090000
END:STANDARD
BEGIN:DAYLIGHT
TZOFFSETFROM:-0800
TZOFFSETTO:-0700
TZNAME:PDT
DTSTART:20250309T100000
END:DAYLIGHT
BEGIN:STANDARD
TZOFFSETFROM:-0700
TZOFFSETTO:-0800
TZNAME:PST
DTSTART:20251102T090000
END:STANDARD
BEGIN:DAYLIGHT
TZOFFSETFROM:-0800
TZOFFSETTO:-0700
TZNAME:PDT
DTSTART:20260308T100000
END:DAYLIGHT
BEGIN:STANDARD
TZOFFSETFROM:-0700
TZOFFSETTO:-0800
TZNAME:PST
DTSTART:20261101T090000
END:STANDARD
END:VTIMEZONE
BEGIN:VEVENT
DTSTART;TZID=America/Los_Angeles:20251003T190000
DTEND;TZID=America/Los_Angeles:20251003T235900
DTSTAMP:20260423T133623
CREATED:20250924T013744Z
LAST-MODIFIED:20250924T014147Z
UID:10001519-1759518000-1759535940@izprveruke.com
SUMMARY:Amira Medunjanin - Toronto
DESCRIPTION:Amira Medunjanin live in Toronto
URL:https://izprveruke.com/event/amira-medunjanin-toronto/
LOCATION:Isabel Bader Theatre\, 93 Charles Street West\, Toronto\, Toronto\, M5S 1K6\, Canada
CATEGORIES:Koncerti
ATTACH;FMTTYPE=image/jpeg:https://izprveruke.com/wp-content/uploads/2025/09/amiramedunjanin.jpg
GEO:43.6673237;-79.3925648
X-APPLE-STRUCTURED-LOCATION;VALUE=URI;X-ADDRESS=Isabel Bader Theatre 93 Charles Street West Toronto Toronto M5S 1K6 Canada;X-APPLE-RADIUS=500;X-TITLE=93 Charles Street West:geo:-79.3925648,43.6673237
END:VEVENT
BEGIN:VEVENT
DTSTART;TZID=America/Los_Angeles:20250406T193000
DTEND;TZID=America/Los_Angeles:20250406T213000
DTSTAMP:20260423T133623
CREATED:20250325T231032Z
LAST-MODIFIED:20250325T231314Z
UID:10001492-1743967800-1743975000@izprveruke.com
SUMMARY:The Balkan Brain - Toronto
DESCRIPTION:Pedja Bajović\, pionir i veteran domaće scene komedije s nogu zaokružuje 20 godina karijere turnejom\, koja je bila krenula kroz osam glavnih ex-YU gradova! Posle ex-YU i USA turneje dolazi i u KANADU\, pa će svoju predstavu NAJBOLJI’ sat i kusur našoj kanadskoj publici ponuditi od 1. aprila.
URL:https://izprveruke.com/event/the-balkan-brain-toronto/
LOCATION:Isabel Bader Theatre\, 93 Charles Street West\, Toronto\, Toronto\, M5S 1K6\, Canada
CATEGORIES:Predstave
ATTACH;FMTTYPE=image/png:https://izprveruke.com/wp-content/uploads/2025/03/pedjabajovic.png
GEO:43.6673237;-79.3925648
X-APPLE-STRUCTURED-LOCATION;VALUE=URI;X-ADDRESS=Isabel Bader Theatre 93 Charles Street West Toronto Toronto M5S 1K6 Canada;X-APPLE-RADIUS=500;X-TITLE=93 Charles Street West:geo:-79.3925648,43.6673237
END:VEVENT
BEGIN:VEVENT
DTSTART;TZID=America/Los_Angeles:20240921T200000
DTEND;TZID=America/Los_Angeles:20240921T235900
DTSTAMP:20260423T133623
CREATED:20240910T032343Z
LAST-MODIFIED:20240910T032345Z
UID:10001401-1726948800-1726963140@izprveruke.com
SUMMARY:Za Danas Toliko - Toronto
DESCRIPTION:Bajka o srecnim ljudima. Film Marka DjordjevicaZa Danas Toliko \n\n\n\nSpremanjem omiljenih mu kolača – čupavaca\, Šarenci uspevaju da namame najstarijeg brata da dođe kući. Vreme kao da prestaje da postoji i počinje bajka o srećnim ljudima. Naizgled obični letnji dani postaju neobični. Zaljubljeni u život\, oni uzdižu realnost iznad tla\, rasterujući tamne oblake vedrinom.
URL:https://izprveruke.com/event/za-danas-toliko-toronto/
LOCATION:Isabel Bader Theatre\, 93 Charles Street West\, Toronto\, Toronto\, M5S 1K6\, Canada
CATEGORIES:Filmovi
ATTACH;FMTTYPE=image/jpeg:https://izprveruke.com/wp-content/uploads/2024/09/zadanastoliko.jpg
GEO:43.6673237;-79.3925648
X-APPLE-STRUCTURED-LOCATION;VALUE=URI;X-ADDRESS=Isabel Bader Theatre 93 Charles Street West Toronto Toronto M5S 1K6 Canada;X-APPLE-RADIUS=500;X-TITLE=93 Charles Street West:geo:-79.3925648,43.6673237
END:VEVENT
END:VCALENDAR