BEGIN:VCALENDAR
VERSION:2.0
PRODID:-//Iz Prve Ruke - Koncerti u Americi i Kanadi | Lokalna Dešavanja - ECPv6.15.20//NONSGML v1.0//EN
CALSCALE:GREGORIAN
METHOD:PUBLISH
X-WR-CALNAME:Iz Prve Ruke - Koncerti u Americi i Kanadi | Lokalna Dešavanja
X-ORIGINAL-URL:https://izprveruke.com
X-WR-CALDESC:Events for Iz Prve Ruke - Koncerti u Americi i Kanadi | Lokalna Dešavanja
REFRESH-INTERVAL;VALUE=DURATION:PT1H
X-Robots-Tag:noindex
X-PUBLISHED-TTL:PT1H
BEGIN:VTIMEZONE
TZID:America/Los_Angeles
BEGIN:DAYLIGHT
TZOFFSETFROM:-0800
TZOFFSETTO:-0700
TZNAME:PDT
DTSTART:20220313T100000
END:DAYLIGHT
BEGIN:STANDARD
TZOFFSETFROM:-0700
TZOFFSETTO:-0800
TZNAME:PST
DTSTART:20221106T090000
END:STANDARD
BEGIN:DAYLIGHT
TZOFFSETFROM:-0800
TZOFFSETTO:-0700
TZNAME:PDT
DTSTART:20230312T100000
END:DAYLIGHT
BEGIN:STANDARD
TZOFFSETFROM:-0700
TZOFFSETTO:-0800
TZNAME:PST
DTSTART:20231105T090000
END:STANDARD
BEGIN:DAYLIGHT
TZOFFSETFROM:-0800
TZOFFSETTO:-0700
TZNAME:PDT
DTSTART:20240310T100000
END:DAYLIGHT
BEGIN:STANDARD
TZOFFSETFROM:-0700
TZOFFSETTO:-0800
TZNAME:PST
DTSTART:20241103T090000
END:STANDARD
END:VTIMEZONE
BEGIN:VEVENT
DTSTART;TZID=America/Los_Angeles:20231013T203000
DTEND;TZID=America/Los_Angeles:20231013T235900
DTSTAMP:20260423T153459
CREATED:20230724T023242Z
LAST-MODIFIED:20230815T040247Z
UID:10001204-1697229000-1697241540@izprveruke.com
SUMMARY:Emir Djulovic - Detroit
DESCRIPTION:Emir Djulovic live in Motor City.  \n\n\n\nVise informacija 586-873-3945
URL:https://izprveruke.com/event/emir-djulovic-detroit/
LOCATION:Imperial House\, 34701 Groesbeck Hwy.\, Clinton Twp\, Michigan\, United States
CATEGORIES:Koncerti
ATTACH;FMTTYPE=image/jpeg:https://izprveruke.com/wp-content/uploads/2023/07/emirdjulovic.jpg
GEO:42.5512531;-82.9268663
X-APPLE-STRUCTURED-LOCATION;VALUE=URI;X-ADDRESS=Imperial House 34701 Groesbeck Hwy. Clinton Twp Michigan United States;X-APPLE-RADIUS=500;X-TITLE=34701 Groesbeck Hwy.:geo:-82.9268663,42.5512531
END:VEVENT
BEGIN:VEVENT
DTSTART;TZID=America/Los_Angeles:20230922T203000
DTEND;TZID=America/Los_Angeles:20230922T235900
DTSTAMP:20260423T153459
CREATED:20230722T023226Z
LAST-MODIFIED:20230813T002015Z
UID:10001188-1695414600-1695427140@izprveruke.com
SUMMARY:Tea Tairovic - Detroit
DESCRIPTION:Tea Tairovic live in Detroit.
URL:https://izprveruke.com/event/tea-tairovic-detroit/
LOCATION:Imperial House\, 34701 Groesbeck Hwy.\, Clinton Twp\, Michigan\, United States
CATEGORIES:Koncerti
ATTACH;FMTTYPE=image/jpeg:https://izprveruke.com/wp-content/uploads/2023/07/teatairovic.jpg
GEO:42.5512531;-82.9268663
X-APPLE-STRUCTURED-LOCATION;VALUE=URI;X-ADDRESS=Imperial House 34701 Groesbeck Hwy. Clinton Twp Michigan United States;X-APPLE-RADIUS=500;X-TITLE=34701 Groesbeck Hwy.:geo:-82.9268663,42.5512531
END:VEVENT
BEGIN:VEVENT
DTSTART;TZID=America/Los_Angeles:20230908T203000
DTEND;TZID=America/Los_Angeles:20230908T235900
DTSTAMP:20260423T153459
CREATED:20230812T233857Z
LAST-MODIFIED:20230828T004409Z
UID:10001210-1694205000-1694217540@izprveruke.com
SUMMARY:Vesna\, Ana\, Mitar - Detroit
DESCRIPTION:Evergreen Stars live in Detroit. \n\n\n\nVesna Zmijanac\, Ana Bekuta\, Mitar Miric & Mladja Cvetanovic
URL:https://izprveruke.com/event/vesna-ana-mitar-detroit/
LOCATION:Imperial House\, 34701 Groesbeck Hwy.\, Clinton Twp\, Michigan\, United States
CATEGORIES:Koncerti
ATTACH;FMTTYPE=image/jpeg:https://izprveruke.com/wp-content/uploads/2023/08/vesna_ana_mitar.jpg
GEO:42.5512531;-82.9268663
X-APPLE-STRUCTURED-LOCATION;VALUE=URI;X-ADDRESS=Imperial House 34701 Groesbeck Hwy. Clinton Twp Michigan United States;X-APPLE-RADIUS=500;X-TITLE=34701 Groesbeck Hwy.:geo:-82.9268663,42.5512531
END:VEVENT
END:VCALENDAR