BEGIN:VCALENDAR
VERSION:2.0
PRODID:-//Iz Prve Ruke - Koncerti u Americi i Kanadi | Lokalna Dešavanja - ECPv6.15.20//NONSGML v1.0//EN
CALSCALE:GREGORIAN
METHOD:PUBLISH
X-ORIGINAL-URL:https://izprveruke.com
X-WR-CALDESC:Events for Iz Prve Ruke - Koncerti u Americi i Kanadi | Lokalna Dešavanja
REFRESH-INTERVAL;VALUE=DURATION:PT1H
X-Robots-Tag:noindex
X-PUBLISHED-TTL:PT1H
BEGIN:VTIMEZONE
TZID:America/Los_Angeles
BEGIN:DAYLIGHT
TZOFFSETFROM:-0800
TZOFFSETTO:-0700
TZNAME:PDT
DTSTART:20210314T100000
END:DAYLIGHT
BEGIN:STANDARD
TZOFFSETFROM:-0700
TZOFFSETTO:-0800
TZNAME:PST
DTSTART:20211107T090000
END:STANDARD
BEGIN:DAYLIGHT
TZOFFSETFROM:-0800
TZOFFSETTO:-0700
TZNAME:PDT
DTSTART:20220313T100000
END:DAYLIGHT
BEGIN:STANDARD
TZOFFSETFROM:-0700
TZOFFSETTO:-0800
TZNAME:PST
DTSTART:20221106T090000
END:STANDARD
BEGIN:DAYLIGHT
TZOFFSETFROM:-0800
TZOFFSETTO:-0700
TZNAME:PDT
DTSTART:20230312T100000
END:DAYLIGHT
BEGIN:STANDARD
TZOFFSETFROM:-0700
TZOFFSETTO:-0800
TZNAME:PST
DTSTART:20231105T090000
END:STANDARD
END:VTIMEZONE
BEGIN:VEVENT
DTSTART;TZID=America/Los_Angeles:20220507T203000
DTEND;TZID=America/Los_Angeles:20220507T235900
DTSTAMP:20260424T014017
CREATED:20220505T201502Z
LAST-MODIFIED:20220505T201506Z
UID:10000854-1651955400-1651967940@izprveruke.com
SUMMARY:Neda Ukraden - Winnipeg
DESCRIPTION:Vise informacija 204-955-4326
URL:https://izprveruke.com/event/neda-ukraden-winnipeg/
LOCATION:Holy Eucharist Parish Center\, 460 Munroe Ave\, Winnipeg\, MB\, Canada
CATEGORIES:Koncerti
ATTACH;FMTTYPE=image/jpeg:https://izprveruke.com/wp-content/uploads/2022/02/nedaukraden.jpg
GEO:49.9177053;-97.0995995
X-APPLE-STRUCTURED-LOCATION;VALUE=URI;X-ADDRESS=Holy Eucharist Parish Center 460 Munroe Ave Winnipeg MB Canada;X-APPLE-RADIUS=500;X-TITLE=460 Munroe Ave:geo:-97.0995995,49.9177053
END:VEVENT
END:VCALENDAR