BEGIN:VCALENDAR
VERSION:2.0
PRODID:-//Iz Prve Ruke - Koncerti u Americi i Kanadi | Lokalna Dešavanja - ECPv6.15.20//NONSGML v1.0//EN
CALSCALE:GREGORIAN
METHOD:PUBLISH
X-WR-CALNAME:Iz Prve Ruke - Koncerti u Americi i Kanadi | Lokalna Dešavanja
X-ORIGINAL-URL:https://izprveruke.com
X-WR-CALDESC:Events for Iz Prve Ruke - Koncerti u Americi i Kanadi | Lokalna Dešavanja
REFRESH-INTERVAL;VALUE=DURATION:PT1H
X-Robots-Tag:noindex
X-PUBLISHED-TTL:PT1H
BEGIN:VTIMEZONE
TZID:America/Los_Angeles
BEGIN:DAYLIGHT
TZOFFSETFROM:-0800
TZOFFSETTO:-0700
TZNAME:PDT
DTSTART:20210314T100000
END:DAYLIGHT
BEGIN:STANDARD
TZOFFSETFROM:-0700
TZOFFSETTO:-0800
TZNAME:PST
DTSTART:20211107T090000
END:STANDARD
BEGIN:DAYLIGHT
TZOFFSETFROM:-0800
TZOFFSETTO:-0700
TZNAME:PDT
DTSTART:20220313T100000
END:DAYLIGHT
BEGIN:STANDARD
TZOFFSETFROM:-0700
TZOFFSETTO:-0800
TZNAME:PST
DTSTART:20221106T090000
END:STANDARD
BEGIN:DAYLIGHT
TZOFFSETFROM:-0800
TZOFFSETTO:-0700
TZNAME:PDT
DTSTART:20230312T100000
END:DAYLIGHT
BEGIN:STANDARD
TZOFFSETFROM:-0700
TZOFFSETTO:-0800
TZNAME:PST
DTSTART:20231105T090000
END:STANDARD
END:VTIMEZONE
BEGIN:VEVENT
DTSTART;TZID=America/Los_Angeles:20221104T203000
DTEND;TZID=America/Los_Angeles:20221104T235900
DTSTAMP:20260423T195633
CREATED:20220911T202920Z
LAST-MODIFIED:20220911T202926Z
UID:10000905-1667593800-1667606340@izprveruke.com
SUMMARY:Sasa Matic - Toronto
DESCRIPTION:Sasa Matic & Bend \n\n\n\nDoors at 8pm | Concert at 10pm \n\n\n\nOpening music by Dj Miljan \n\n\n\n19+ event | ID mandatory \n\n\n\nFree parking at the venue
URL:https://izprveruke.com/event/sasa-matic-toronto-2/
LOCATION:Grand Bizarre\, 15 Saskatchewan Rd.\, Toronto\, ON\, Canada
CATEGORIES:Koncerti
ATTACH;FMTTYPE=image/jpeg:https://izprveruke.com/wp-content/uploads/2022/06/sasamatic.jpg
GEO:43.6324976;-79.4237069
X-APPLE-STRUCTURED-LOCATION;VALUE=URI;X-ADDRESS=Grand Bizarre 15 Saskatchewan Rd. Toronto ON Canada;X-APPLE-RADIUS=500;X-TITLE=15 Saskatchewan Rd.:geo:-79.4237069,43.6324976
END:VEVENT
END:VCALENDAR