BEGIN:VCALENDAR
VERSION:2.0
PRODID:-//Iz Prve Ruke - Koncerti u Americi i Kanadi | Lokalna Dešavanja - ECPv6.15.20//NONSGML v1.0//EN
CALSCALE:GREGORIAN
METHOD:PUBLISH
X-WR-CALNAME:Iz Prve Ruke - Koncerti u Americi i Kanadi | Lokalna Dešavanja
X-ORIGINAL-URL:https://izprveruke.com
X-WR-CALDESC:Events for Iz Prve Ruke - Koncerti u Americi i Kanadi | Lokalna Dešavanja
REFRESH-INTERVAL;VALUE=DURATION:PT1H
X-Robots-Tag:noindex
X-PUBLISHED-TTL:PT1H
BEGIN:VTIMEZONE
TZID:America/Los_Angeles
BEGIN:DAYLIGHT
TZOFFSETFROM:-0800
TZOFFSETTO:-0700
TZNAME:PDT
DTSTART:20210314T100000
END:DAYLIGHT
BEGIN:STANDARD
TZOFFSETFROM:-0700
TZOFFSETTO:-0800
TZNAME:PST
DTSTART:20211107T090000
END:STANDARD
BEGIN:DAYLIGHT
TZOFFSETFROM:-0800
TZOFFSETTO:-0700
TZNAME:PDT
DTSTART:20220313T100000
END:DAYLIGHT
BEGIN:STANDARD
TZOFFSETFROM:-0700
TZOFFSETTO:-0800
TZNAME:PST
DTSTART:20221106T090000
END:STANDARD
BEGIN:DAYLIGHT
TZOFFSETFROM:-0800
TZOFFSETTO:-0700
TZNAME:PDT
DTSTART:20230312T100000
END:DAYLIGHT
BEGIN:STANDARD
TZOFFSETFROM:-0700
TZOFFSETTO:-0800
TZNAME:PST
DTSTART:20231105T090000
END:STANDARD
BEGIN:DAYLIGHT
TZOFFSETFROM:-0800
TZOFFSETTO:-0700
TZNAME:PDT
DTSTART:20240310T100000
END:DAYLIGHT
BEGIN:STANDARD
TZOFFSETFROM:-0700
TZOFFSETTO:-0800
TZNAME:PST
DTSTART:20241103T090000
END:STANDARD
BEGIN:DAYLIGHT
TZOFFSETFROM:-0800
TZOFFSETTO:-0700
TZNAME:PDT
DTSTART:20250309T100000
END:DAYLIGHT
BEGIN:STANDARD
TZOFFSETFROM:-0700
TZOFFSETTO:-0800
TZNAME:PST
DTSTART:20251102T090000
END:STANDARD
BEGIN:DAYLIGHT
TZOFFSETFROM:-0800
TZOFFSETTO:-0700
TZNAME:PDT
DTSTART:20260308T100000
END:DAYLIGHT
BEGIN:STANDARD
TZOFFSETFROM:-0700
TZOFFSETTO:-0800
TZNAME:PST
DTSTART:20261101T090000
END:STANDARD
END:VTIMEZONE
BEGIN:VEVENT
DTSTART;TZID=America/Los_Angeles:20251226T203000
DTEND;TZID=America/Los_Angeles:20251226T235900
DTSTAMP:20260423T121949
CREATED:20251116T060301Z
LAST-MODIFIED:20251116T060803Z
UID:10001542-1766781000-1766793540@izprveruke.com
SUMMARY:Haris\, Dada & Lejla - New Britain
DESCRIPTION:Haris Berkovic\, Dada Mesaljic & Lejla Zahirovic live in New Britain. Vise informacija 860-296-7923 & 860-296-1177
URL:https://izprveruke.com/event/haris-dada-lejla-new-britain/
LOCATION:Grand Alure Ballroom\, 1375 E Street\, New Britain\, Connecticut\, United States
CATEGORIES:Koncerti
ATTACH;FMTTYPE=image/jpeg:https://izprveruke.com/wp-content/uploads/2025/11/haris_dada_lejla.jpg
GEO:41.6900603;-72.7593573
X-APPLE-STRUCTURED-LOCATION;VALUE=URI;X-ADDRESS=Grand Alure Ballroom 1375 E Street New Britain Connecticut United States;X-APPLE-RADIUS=500;X-TITLE=1375 E Street:geo:-72.7593573,41.6900603
END:VEVENT
BEGIN:VEVENT
DTSTART;TZID=America/Los_Angeles:20241224T203000
DTEND;TZID=America/Los_Angeles:20241224T235900
DTSTAMP:20260423T121949
CREATED:20241031T014337Z
LAST-MODIFIED:20241111T042645Z
UID:10001419-1735072200-1735084740@izprveruke.com
SUMMARY:Enes Begovic - Hartford
DESCRIPTION:Enes Begovic & gosti. Vise informacija 860-833-2812 & 860-753-0023
URL:https://izprveruke.com/event/enes-begovic-hartford/
LOCATION:Grand Alure Ballroom\, 1375 E Street\, New Britain\, Connecticut\, United States
CATEGORIES:Koncerti
ATTACH;FMTTYPE=image/jpeg:https://izprveruke.com/wp-content/uploads/2024/10/enesbegovic.jpg
GEO:41.6900603;-72.7593573
X-APPLE-STRUCTURED-LOCATION;VALUE=URI;X-ADDRESS=Grand Alure Ballroom 1375 E Street New Britain Connecticut United States;X-APPLE-RADIUS=500;X-TITLE=1375 E Street:geo:-72.7593573,41.6900603
END:VEVENT
BEGIN:VEVENT
DTSTART;TZID=America/Los_Angeles:20221210T203000
DTEND;TZID=America/Los_Angeles:20221210T235900
DTSTAMP:20260423T121949
CREATED:20221117T085803Z
LAST-MODIFIED:20221117T085811Z
UID:10000976-1670704200-1670716740@izprveruke.com
SUMMARY:Hakala\, Azra & Aleksandar - New Britain
DESCRIPTION:Vise informacija 860-794-5599
URL:https://izprveruke.com/event/hakala-azra-aleksandar-new-britain/
LOCATION:Grand Alure Ballroom\, 1375 E Street\, New Britain\, Connecticut\, United States
CATEGORIES:Koncerti
ATTACH;FMTTYPE=image/jpeg:https://izprveruke.com/wp-content/uploads/2022/11/hakala_azra_aleksandar.jpg
GEO:41.6900603;-72.7593573
X-APPLE-STRUCTURED-LOCATION;VALUE=URI;X-ADDRESS=Grand Alure Ballroom 1375 E Street New Britain Connecticut United States;X-APPLE-RADIUS=500;X-TITLE=1375 E Street:geo:-72.7593573,41.6900603
END:VEVENT
BEGIN:VEVENT
DTSTART;TZID=America/Los_Angeles:20221125T203000
DTEND;TZID=America/Los_Angeles:20221125T235900
DTSTAMP:20260423T121949
CREATED:20221102T063908Z
LAST-MODIFIED:20221102T063916Z
UID:10000961-1669408200-1669420740@izprveruke.com
SUMMARY:Hule - Hartford
DESCRIPTION:Vise informacija 860-794-5599
URL:https://izprveruke.com/event/hule-hartford/
LOCATION:Grand Alure Ballroom\, 1375 E Street\, New Britain\, Connecticut\, United States
CATEGORIES:Koncerti
ATTACH;FMTTYPE=image/png:https://izprveruke.com/wp-content/uploads/2022/10/hule.png
GEO:41.6900603;-72.7593573
X-APPLE-STRUCTURED-LOCATION;VALUE=URI;X-ADDRESS=Grand Alure Ballroom 1375 E Street New Britain Connecticut United States;X-APPLE-RADIUS=500;X-TITLE=1375 E Street:geo:-72.7593573,41.6900603
END:VEVENT
END:VCALENDAR