BEGIN:VCALENDAR
VERSION:2.0
PRODID:-//Iz Prve Ruke - Koncerti u Americi i Kanadi | Lokalna Dešavanja - ECPv6.15.20//NONSGML v1.0//EN
CALSCALE:GREGORIAN
METHOD:PUBLISH
X-WR-CALNAME:Iz Prve Ruke - Koncerti u Americi i Kanadi | Lokalna Dešavanja
X-ORIGINAL-URL:https://izprveruke.com
X-WR-CALDESC:Events for Iz Prve Ruke - Koncerti u Americi i Kanadi | Lokalna Dešavanja
REFRESH-INTERVAL;VALUE=DURATION:PT1H
X-Robots-Tag:noindex
X-PUBLISHED-TTL:PT1H
BEGIN:VTIMEZONE
TZID:America/Los_Angeles
BEGIN:DAYLIGHT
TZOFFSETFROM:-0800
TZOFFSETTO:-0700
TZNAME:PDT
DTSTART:20210314T100000
END:DAYLIGHT
BEGIN:STANDARD
TZOFFSETFROM:-0700
TZOFFSETTO:-0800
TZNAME:PST
DTSTART:20211107T090000
END:STANDARD
BEGIN:DAYLIGHT
TZOFFSETFROM:-0800
TZOFFSETTO:-0700
TZNAME:PDT
DTSTART:20220313T100000
END:DAYLIGHT
BEGIN:STANDARD
TZOFFSETFROM:-0700
TZOFFSETTO:-0800
TZNAME:PST
DTSTART:20221106T090000
END:STANDARD
BEGIN:DAYLIGHT
TZOFFSETFROM:-0800
TZOFFSETTO:-0700
TZNAME:PDT
DTSTART:20230312T100000
END:DAYLIGHT
BEGIN:STANDARD
TZOFFSETFROM:-0700
TZOFFSETTO:-0800
TZNAME:PST
DTSTART:20231105T090000
END:STANDARD
BEGIN:DAYLIGHT
TZOFFSETFROM:-0800
TZOFFSETTO:-0700
TZNAME:PDT
DTSTART:20240310T100000
END:DAYLIGHT
BEGIN:STANDARD
TZOFFSETFROM:-0700
TZOFFSETTO:-0800
TZNAME:PST
DTSTART:20241103T090000
END:STANDARD
BEGIN:DAYLIGHT
TZOFFSETFROM:-0800
TZOFFSETTO:-0700
TZNAME:PDT
DTSTART:20250309T100000
END:DAYLIGHT
BEGIN:STANDARD
TZOFFSETFROM:-0700
TZOFFSETTO:-0800
TZNAME:PST
DTSTART:20251102T090000
END:STANDARD
BEGIN:DAYLIGHT
TZOFFSETFROM:-0800
TZOFFSETTO:-0700
TZNAME:PDT
DTSTART:20260308T100000
END:DAYLIGHT
BEGIN:STANDARD
TZOFFSETFROM:-0700
TZOFFSETTO:-0800
TZNAME:PST
DTSTART:20261101T090000
END:STANDARD
END:VTIMEZONE
BEGIN:VEVENT
DTSTART;TZID=America/Los_Angeles:20251231T203000
DTEND;TZID=America/Los_Angeles:20251231T235900
DTSTAMP:20260423T120422
CREATED:20251116T055233Z
LAST-MODIFIED:20251117T032218Z
UID:10001537-1767213000-1767225540@izprveruke.com
SUMMARY:Haris\, Dada & Dusan - Docek Nove 2026. - Dallas
DESCRIPTION:Docek Nove godine u Dallas. Haris Berkovic\, Dada Mesaljic & Dusan Mijailovic. Vise informacija i rezervacije 713-336-3605 & 469-314-6626
URL:https://izprveruke.com/event/haris-berkovic-dada-mesaljic-docek-nove-2026-dallas/
LOCATION:Garland Convention Center\, 1931 E Centerville Rd.\, Garland\, Texas\, United States
CATEGORIES:Koncerti
ATTACH;FMTTYPE=image/jpeg:https://izprveruke.com/wp-content/uploads/2025/11/haris_dada_dusan.jpg
GEO:32.8931731;-96.6046196
X-APPLE-STRUCTURED-LOCATION;VALUE=URI;X-ADDRESS=Garland Convention Center 1931 E Centerville Rd. Garland Texas United States;X-APPLE-RADIUS=500;X-TITLE=1931 E Centerville Rd.:geo:-96.6046196,32.8931731
END:VEVENT
BEGIN:VEVENT
DTSTART;TZID=America/Los_Angeles:20250426T203000
DTEND;TZID=America/Los_Angeles:20250426T235900
DTSTAMP:20260423T120422
CREATED:20250312T011246Z
LAST-MODIFIED:20250312T011248Z
UID:10001485-1745699400-1745711940@izprveruke.com
SUMMARY:Enes Begovic - Dallas
DESCRIPTION:Enes Begovic live in Dallas. Vise informacija 713-336-3605
URL:https://izprveruke.com/event/enes-begovic-dallas/
LOCATION:Garland Convention Center\, 1931 E Centerville Rd.\, Garland\, Texas\, United States
CATEGORIES:Koncerti
ATTACH;FMTTYPE=image/jpeg:https://izprveruke.com/wp-content/uploads/2024/10/enesbegovic.jpg
GEO:32.8931731;-96.6046196
X-APPLE-STRUCTURED-LOCATION;VALUE=URI;X-ADDRESS=Garland Convention Center 1931 E Centerville Rd. Garland Texas United States;X-APPLE-RADIUS=500;X-TITLE=1931 E Centerville Rd.:geo:-96.6046196,32.8931731
END:VEVENT
BEGIN:VEVENT
DTSTART;TZID=America/Los_Angeles:20221216T203000
DTEND;TZID=America/Los_Angeles:20221216T235900
DTSTAMP:20260423T120422
CREATED:20221117T090144Z
LAST-MODIFIED:20221117T090152Z
UID:10000977-1671222600-1671235140@izprveruke.com
SUMMARY:Hakala\, Azra & Aleksandar - Dallas
DESCRIPTION:Vise informacija 713-336-3605 & 469-314-6626
URL:https://izprveruke.com/event/hakala-azra-aleksandar-dallas/
LOCATION:Garland Convention Center\, 1931 E Centerville Rd.\, Garland\, Texas\, United States
CATEGORIES:Koncerti
ATTACH;FMTTYPE=image/jpeg:https://izprveruke.com/wp-content/uploads/2022/11/hakala_azra_aleksandar.jpg
GEO:32.8931731;-96.6046196
X-APPLE-STRUCTURED-LOCATION;VALUE=URI;X-ADDRESS=Garland Convention Center 1931 E Centerville Rd. Garland Texas United States;X-APPLE-RADIUS=500;X-TITLE=1931 E Centerville Rd.:geo:-96.6046196,32.8931731
END:VEVENT
BEGIN:VEVENT
DTSTART;TZID=America/Los_Angeles:20221126T203000
DTEND;TZID=America/Los_Angeles:20221126T235900
DTSTAMP:20260423T120422
CREATED:20221117T091108Z
LAST-MODIFIED:20221117T091115Z
UID:10000979-1669494600-1669507140@izprveruke.com
SUMMARY:Aleksandar Josifovski - Houston
DESCRIPTION:Vise informacija 713-336-3605 & 469-314-6626
URL:https://izprveruke.com/event/aleksandar-josifovski-houston/
LOCATION:Garland Convention Center\, 1931 E Centerville Rd.\, Garland\, Texas\, United States
CATEGORIES:Koncerti
ATTACH;FMTTYPE=image/jpeg:https://izprveruke.com/wp-content/uploads/2022/11/josifovski-1.jpg
GEO:32.8931731;-96.6046196
X-APPLE-STRUCTURED-LOCATION;VALUE=URI;X-ADDRESS=Garland Convention Center 1931 E Centerville Rd. Garland Texas United States;X-APPLE-RADIUS=500;X-TITLE=1931 E Centerville Rd.:geo:-96.6046196,32.8931731
END:VEVENT
END:VCALENDAR