BEGIN:VCALENDAR
VERSION:2.0
PRODID:-//Iz Prve Ruke - Koncerti u Americi i Kanadi | Lokalna Dešavanja - ECPv6.15.20//NONSGML v1.0//EN
CALSCALE:GREGORIAN
METHOD:PUBLISH
X-ORIGINAL-URL:https://izprveruke.com
X-WR-CALDESC:Events for Iz Prve Ruke - Koncerti u Americi i Kanadi | Lokalna Dešavanja
REFRESH-INTERVAL;VALUE=DURATION:PT1H
X-Robots-Tag:noindex
X-PUBLISHED-TTL:PT1H
BEGIN:VTIMEZONE
TZID:America/Los_Angeles
BEGIN:DAYLIGHT
TZOFFSETFROM:-0800
TZOFFSETTO:-0700
TZNAME:PDT
DTSTART:20220313T100000
END:DAYLIGHT
BEGIN:STANDARD
TZOFFSETFROM:-0700
TZOFFSETTO:-0800
TZNAME:PST
DTSTART:20221106T090000
END:STANDARD
BEGIN:DAYLIGHT
TZOFFSETFROM:-0800
TZOFFSETTO:-0700
TZNAME:PDT
DTSTART:20230312T100000
END:DAYLIGHT
BEGIN:STANDARD
TZOFFSETFROM:-0700
TZOFFSETTO:-0800
TZNAME:PST
DTSTART:20231105T090000
END:STANDARD
BEGIN:DAYLIGHT
TZOFFSETFROM:-0800
TZOFFSETTO:-0700
TZNAME:PDT
DTSTART:20240310T100000
END:DAYLIGHT
BEGIN:STANDARD
TZOFFSETFROM:-0700
TZOFFSETTO:-0800
TZNAME:PST
DTSTART:20241103T090000
END:STANDARD
END:VTIMEZONE
BEGIN:VEVENT
DTSTART;TZID=America/Los_Angeles:20230211T203000
DTEND;TZID=America/Los_Angeles:20230211T235900
DTSTAMP:20260423T150840
CREATED:20230118T071135Z
LAST-MODIFIED:20230130T200956Z
UID:10001074-1676147400-1676159940@izprveruke.com
SUMMARY:Viki Miljkovic & Nermin Hadzic - Grand Rapids
DESCRIPTION:Vise informacija 616-272-1523
URL:https://izprveruke.com/event/viki-miljkovic-nermin-hadzic-grand-rapids/
LOCATION:DoubleTree Grand Rapids\, 4747 28th St. SE\, Grand Rapids\, Michigan\, United States
CATEGORIES:Koncerti
ATTACH;FMTTYPE=image/png:https://izprveruke.com/wp-content/uploads/2022/11/viki_nerminhadzic.png
GEO:42.9138458;-85.54971
X-APPLE-STRUCTURED-LOCATION;VALUE=URI;X-ADDRESS=DoubleTree Grand Rapids 4747 28th St. SE Grand Rapids Michigan United States;X-APPLE-RADIUS=500;X-TITLE=4747 28th St. SE:geo:-85.54971,42.9138458
END:VEVENT
END:VCALENDAR