BEGIN:VCALENDAR
VERSION:2.0
PRODID:-//Iz Prve Ruke - Koncerti u Americi i Kanadi | Lokalna Dešavanja - ECPv6.15.20//NONSGML v1.0//EN
CALSCALE:GREGORIAN
METHOD:PUBLISH
X-WR-CALNAME:Iz Prve Ruke - Koncerti u Americi i Kanadi | Lokalna Dešavanja
X-ORIGINAL-URL:https://izprveruke.com
X-WR-CALDESC:Events for Iz Prve Ruke - Koncerti u Americi i Kanadi | Lokalna Dešavanja
REFRESH-INTERVAL;VALUE=DURATION:PT1H
X-Robots-Tag:noindex
X-PUBLISHED-TTL:PT1H
BEGIN:VTIMEZONE
TZID:America/Los_Angeles
BEGIN:DAYLIGHT
TZOFFSETFROM:-0800
TZOFFSETTO:-0700
TZNAME:PDT
DTSTART:20210314T100000
END:DAYLIGHT
BEGIN:STANDARD
TZOFFSETFROM:-0700
TZOFFSETTO:-0800
TZNAME:PST
DTSTART:20211107T090000
END:STANDARD
BEGIN:DAYLIGHT
TZOFFSETFROM:-0800
TZOFFSETTO:-0700
TZNAME:PDT
DTSTART:20220313T100000
END:DAYLIGHT
BEGIN:STANDARD
TZOFFSETFROM:-0700
TZOFFSETTO:-0800
TZNAME:PST
DTSTART:20221106T090000
END:STANDARD
BEGIN:DAYLIGHT
TZOFFSETFROM:-0800
TZOFFSETTO:-0700
TZNAME:PDT
DTSTART:20230312T100000
END:DAYLIGHT
BEGIN:STANDARD
TZOFFSETFROM:-0700
TZOFFSETTO:-0800
TZNAME:PST
DTSTART:20231105T090000
END:STANDARD
END:VTIMEZONE
BEGIN:VEVENT
DTSTART;TZID=America/Los_Angeles:20221113T203000
DTEND;TZID=America/Los_Angeles:20221113T235900
DTSTAMP:20260423T152715
CREATED:20221014T054139Z
LAST-MODIFIED:20221014T063941Z
UID:10000945-1668371400-1668383940@izprveruke.com
SUMMARY:Sadik & Sandzak Tapani i Melisa Imsirovic - Spokane
DESCRIPTION:Sadik & Sandzak Tapani i Melisa Imsirovic. \n\n\n\nVise informacija (509) 768-0395 & (509) 919-7740
URL:https://izprveruke.com/event/sadik-sandzak-tapani-spokane/
LOCATION:Deutsches Haus\, 25 W 3rd Ave.\, Spokane\, Washington\, United States
CATEGORIES:Koncerti
ATTACH;FMTTYPE=image/jpeg:https://izprveruke.com/wp-content/uploads/2022/10/sadik.jpg
GEO:47.6532877;-117.4123402
X-APPLE-STRUCTURED-LOCATION;VALUE=URI;X-ADDRESS=Deutsches Haus 25 W 3rd Ave. Spokane Washington United States;X-APPLE-RADIUS=500;X-TITLE=25 W 3rd Ave.:geo:-117.4123402,47.6532877
END:VEVENT
END:VCALENDAR