BEGIN:VCALENDAR
VERSION:2.0
PRODID:-//Iz Prve Ruke - Koncerti u Americi i Kanadi | Lokalna Dešavanja - ECPv6.15.20//NONSGML v1.0//EN
CALSCALE:GREGORIAN
METHOD:PUBLISH
X-WR-CALNAME:Iz Prve Ruke - Koncerti u Americi i Kanadi | Lokalna Dešavanja
X-ORIGINAL-URL:https://izprveruke.com
X-WR-CALDESC:Events for Iz Prve Ruke - Koncerti u Americi i Kanadi | Lokalna Dešavanja
REFRESH-INTERVAL;VALUE=DURATION:PT1H
X-Robots-Tag:noindex
X-PUBLISHED-TTL:PT1H
BEGIN:VTIMEZONE
TZID:America/Los_Angeles
BEGIN:DAYLIGHT
TZOFFSETFROM:-0800
TZOFFSETTO:-0700
TZNAME:PDT
DTSTART:20220313T100000
END:DAYLIGHT
BEGIN:STANDARD
TZOFFSETFROM:-0700
TZOFFSETTO:-0800
TZNAME:PST
DTSTART:20221106T090000
END:STANDARD
BEGIN:DAYLIGHT
TZOFFSETFROM:-0800
TZOFFSETTO:-0700
TZNAME:PDT
DTSTART:20230312T100000
END:DAYLIGHT
BEGIN:STANDARD
TZOFFSETFROM:-0700
TZOFFSETTO:-0800
TZNAME:PST
DTSTART:20231105T090000
END:STANDARD
BEGIN:DAYLIGHT
TZOFFSETFROM:-0800
TZOFFSETTO:-0700
TZNAME:PDT
DTSTART:20240310T100000
END:DAYLIGHT
BEGIN:STANDARD
TZOFFSETFROM:-0700
TZOFFSETTO:-0800
TZNAME:PST
DTSTART:20241103T090000
END:STANDARD
END:VTIMEZONE
BEGIN:VEVENT
DTSTART;TZID=America/Los_Angeles:20230429T203000
DTEND;TZID=America/Los_Angeles:20230429T235900
DTSTAMP:20260423T133721
CREATED:20230418T021421Z
LAST-MODIFIED:20230418T021429Z
UID:10001149-1682800200-1682812740@izprveruke.com
SUMMARY:Kafansko Vece - New Jesey
DESCRIPTION:OTV Valentino vas poziva na snimanje emisije & Live Koncert Kafansko Vece.  \n\n\n\nJana & Davor Badrov. Voditelj programa Deny. \n\n\n\nVise informacija 908-399-7397
URL:https://izprveruke.com/event/kafansko-vece-new-jesey/
LOCATION:Cracovia Manor Inc\, 196 Main Ave\, Wallington\, New Jersey\, United States
CATEGORIES:Koncerti
ATTACH;FMTTYPE=image/jpeg:https://izprveruke.com/wp-content/uploads/2023/04/kafanskovece.jpg
GEO:40.8545759;-74.1088455
X-APPLE-STRUCTURED-LOCATION;VALUE=URI;X-ADDRESS=Cracovia Manor Inc 196 Main Ave Wallington New Jersey United States;X-APPLE-RADIUS=500;X-TITLE=196 Main Ave:geo:-74.1088455,40.8545759
END:VEVENT
END:VCALENDAR