BEGIN:VCALENDAR
VERSION:2.0
PRODID:-//Iz Prve Ruke - Koncerti u Americi i Kanadi | Lokalna Dešavanja - ECPv6.15.20//NONSGML v1.0//EN
CALSCALE:GREGORIAN
METHOD:PUBLISH
X-ORIGINAL-URL:https://izprveruke.com
X-WR-CALDESC:Events for Iz Prve Ruke - Koncerti u Americi i Kanadi | Lokalna Dešavanja
REFRESH-INTERVAL;VALUE=DURATION:PT1H
X-Robots-Tag:noindex
X-PUBLISHED-TTL:PT1H
BEGIN:VTIMEZONE
TZID:America/Los_Angeles
BEGIN:DAYLIGHT
TZOFFSETFROM:-0800
TZOFFSETTO:-0700
TZNAME:PDT
DTSTART:20210314T100000
END:DAYLIGHT
BEGIN:STANDARD
TZOFFSETFROM:-0700
TZOFFSETTO:-0800
TZNAME:PST
DTSTART:20211107T090000
END:STANDARD
BEGIN:DAYLIGHT
TZOFFSETFROM:-0800
TZOFFSETTO:-0700
TZNAME:PDT
DTSTART:20220313T100000
END:DAYLIGHT
BEGIN:STANDARD
TZOFFSETFROM:-0700
TZOFFSETTO:-0800
TZNAME:PST
DTSTART:20221106T090000
END:STANDARD
BEGIN:DAYLIGHT
TZOFFSETFROM:-0800
TZOFFSETTO:-0700
TZNAME:PDT
DTSTART:20230312T100000
END:DAYLIGHT
BEGIN:STANDARD
TZOFFSETFROM:-0700
TZOFFSETTO:-0800
TZNAME:PST
DTSTART:20231105T090000
END:STANDARD
BEGIN:DAYLIGHT
TZOFFSETFROM:-0800
TZOFFSETTO:-0700
TZNAME:PDT
DTSTART:20240310T100000
END:DAYLIGHT
BEGIN:STANDARD
TZOFFSETFROM:-0700
TZOFFSETTO:-0800
TZNAME:PST
DTSTART:20241103T090000
END:STANDARD
END:VTIMEZONE
BEGIN:VEVENT
DTSTART;TZID=America/Los_Angeles:20231117T203000
DTEND;TZID=America/Los_Angeles:20231117T235900
DTSTAMP:20260425T034830
CREATED:20231026T044513Z
LAST-MODIFIED:20231026T051648Z
UID:10001255-1700253000-1700265540@izprveruke.com
SUMMARY:Rade Lackovic - Chicago
DESCRIPTION:Rade Lackovic live in Chicago. Vise informacija 773-644-0600 & 315-601-1228
URL:https://izprveruke.com/event/rade-lackovic-chicago/
LOCATION:Compass Arena\, 625 Joliet Rd\, Wilowbrook\, IL\, United States
CATEGORIES:Koncerti
ATTACH;FMTTYPE=image/jpeg:https://izprveruke.com/wp-content/uploads/2023/10/radelackovic.jpg
GEO:41.7453652;-87.9396252
X-APPLE-STRUCTURED-LOCATION;VALUE=URI;X-ADDRESS=Compass Arena 625 Joliet Rd Wilowbrook IL United States;X-APPLE-RADIUS=500;X-TITLE=625 Joliet Rd:geo:-87.9396252,41.7453652
END:VEVENT
BEGIN:VEVENT
DTSTART;TZID=America/Los_Angeles:20231021T203000
DTEND;TZID=America/Los_Angeles:20231021T235900
DTSTAMP:20260425T034830
CREATED:20230918T055052Z
LAST-MODIFIED:20231021T014647Z
UID:10001232-1697920200-1697932740@izprveruke.com
SUMMARY:Elena & Mile Kitic - Chicago
DESCRIPTION:Mile Kitic live in Chicago. Vise informacija 773-732-0148
URL:https://izprveruke.com/event/elena-mile-kitic-chicago/
LOCATION:Compass Arena\, 625 Joliet Rd\, Wilowbrook\, IL\, United States
CATEGORIES:Koncerti
ATTACH;FMTTYPE=image/jpeg:https://izprveruke.com/wp-content/uploads/2023/09/elena_mile_kitic.jpg
GEO:41.7453652;-87.9396252
X-APPLE-STRUCTURED-LOCATION;VALUE=URI;X-ADDRESS=Compass Arena 625 Joliet Rd Wilowbrook IL United States;X-APPLE-RADIUS=500;X-TITLE=625 Joliet Rd:geo:-87.9396252,41.7453652
END:VEVENT
BEGIN:VEVENT
DTSTART;TZID=America/Los_Angeles:20231014T203000
DTEND;TZID=America/Los_Angeles:20231014T235900
DTSTAMP:20260425T034830
CREATED:20230724T023342Z
LAST-MODIFIED:20230724T023348Z
UID:10001205-1697315400-1697327940@izprveruke.com
SUMMARY:Emir Djulovic - Chicago
DESCRIPTION:Emir Djulovic live in Chicago.  \n\n\n\nVise informacija 773-644-0600
URL:https://izprveruke.com/event/emir-djulovic-chicago/
LOCATION:Compass Arena\, 625 Joliet Rd\, Wilowbrook\, IL\, United States
CATEGORIES:Koncerti
ATTACH;FMTTYPE=image/jpeg:https://izprveruke.com/wp-content/uploads/2023/07/emirdjulovic.jpg
GEO:41.7453652;-87.9396252
X-APPLE-STRUCTURED-LOCATION;VALUE=URI;X-ADDRESS=Compass Arena 625 Joliet Rd Wilowbrook IL United States;X-APPLE-RADIUS=500;X-TITLE=625 Joliet Rd:geo:-87.9396252,41.7453652
END:VEVENT
BEGIN:VEVENT
DTSTART;TZID=America/Los_Angeles:20230902T203000
DTEND;TZID=America/Los_Angeles:20230902T235900
DTSTAMP:20260425T034830
CREATED:20230812T233635Z
LAST-MODIFIED:20230828T001910Z
UID:10001209-1693686600-1693699140@izprveruke.com
SUMMARY:Vesna\, Ana\, Mitar - Chicago
DESCRIPTION:Evergreen Stars live in Chicago. \n\n\n\nVesna Zmijanac\, Ana Bekuta\, Mitar Miric & Mladja Cvetanovic
URL:https://izprveruke.com/event/vesna-ana-mitar-chicago/
LOCATION:Compass Arena\, 625 Joliet Rd\, Wilowbrook\, IL\, United States
CATEGORIES:Koncerti
ATTACH;FMTTYPE=image/jpeg:https://izprveruke.com/wp-content/uploads/2023/08/vesna_ana_mitar.jpg
GEO:41.7453652;-87.9396252
X-APPLE-STRUCTURED-LOCATION;VALUE=URI;X-ADDRESS=Compass Arena 625 Joliet Rd Wilowbrook IL United States;X-APPLE-RADIUS=500;X-TITLE=625 Joliet Rd:geo:-87.9396252,41.7453652
END:VEVENT
BEGIN:VEVENT
DTSTART;TZID=America/Los_Angeles:20230506T203000
DTEND;TZID=America/Los_Angeles:20230506T235900
DTSTAMP:20260425T034830
CREATED:20230326T025954Z
LAST-MODIFIED:20230326T025959Z
UID:10001116-1683405000-1683417540@izprveruke.com
SUMMARY:Crvena Jabuka - Chicago
DESCRIPTION:Crvena Jabuka live in Chicago.
URL:https://izprveruke.com/event/crvena-jabuka-chicago/
LOCATION:Compass Arena\, 625 Joliet Rd\, Wilowbrook\, IL\, United States
CATEGORIES:Koncerti
ATTACH;FMTTYPE=image/jpeg:https://izprveruke.com/wp-content/uploads/2023/03/crvenajabuka.jpg
GEO:41.7453652;-87.9396252
X-APPLE-STRUCTURED-LOCATION;VALUE=URI;X-ADDRESS=Compass Arena 625 Joliet Rd Wilowbrook IL United States;X-APPLE-RADIUS=500;X-TITLE=625 Joliet Rd:geo:-87.9396252,41.7453652
END:VEVENT
BEGIN:VEVENT
DTSTART;TZID=America/Los_Angeles:20230429T203000
DTEND;TZID=America/Los_Angeles:20230429T235900
DTSTAMP:20260425T034830
CREATED:20230228T185354Z
LAST-MODIFIED:20230326T022737Z
UID:10001093-1682800200-1682812740@izprveruke.com
SUMMARY:Milica Pavlovic - Chicago
DESCRIPTION:Milica Pavlovic & band live in Chicago
URL:https://izprveruke.com/event/milica-pavlovic-chicago/
LOCATION:Compass Arena\, 625 Joliet Rd\, Wilowbrook\, IL\, United States
CATEGORIES:Koncerti
ATTACH;FMTTYPE=image/png:https://izprveruke.com/wp-content/uploads/2023/02/milicapavlovic.png
GEO:41.7453652;-87.9396252
X-APPLE-STRUCTURED-LOCATION;VALUE=URI;X-ADDRESS=Compass Arena 625 Joliet Rd Wilowbrook IL United States;X-APPLE-RADIUS=500;X-TITLE=625 Joliet Rd:geo:-87.9396252,41.7453652
END:VEVENT
BEGIN:VEVENT
DTSTART;TZID=America/Los_Angeles:20230422T203000
DTEND;TZID=America/Los_Angeles:20230422T235900
DTSTAMP:20260425T034830
CREATED:20230418T020923Z
LAST-MODIFIED:20230418T020931Z
UID:10001147-1682195400-1682207940@izprveruke.com
SUMMARY:Kafansko Vece - Chicago
DESCRIPTION:OTV Valentino vas poziva na snimanje emisije & Live Koncert Kafansko Vece.  \n\n\n\nJana & Davor Badrov. Voditelj programa Deny. \n\n\n\nVise informacija 708-860-4832
URL:https://izprveruke.com/event/kafansko-vece-chicago/
LOCATION:Compass Arena\, 625 Joliet Rd\, Wilowbrook\, IL\, United States
CATEGORIES:Koncerti
ATTACH;FMTTYPE=image/jpeg:https://izprveruke.com/wp-content/uploads/2023/04/kafanskovece.jpg
GEO:41.7453652;-87.9396252
X-APPLE-STRUCTURED-LOCATION;VALUE=URI;X-ADDRESS=Compass Arena 625 Joliet Rd Wilowbrook IL United States;X-APPLE-RADIUS=500;X-TITLE=625 Joliet Rd:geo:-87.9396252,41.7453652
END:VEVENT
BEGIN:VEVENT
DTSTART;TZID=America/Los_Angeles:20230408T203000
DTEND;TZID=America/Los_Angeles:20230408T235900
DTSTAMP:20260425T034830
CREATED:20230326T031641Z
LAST-MODIFIED:20230326T031647Z
UID:10001127-1680985800-1680998340@izprveruke.com
SUMMARY:Dr. Nele Karajlic - Chicago
DESCRIPTION:Dr Nele Karajlic Sings Zabranjeno Pusenje Hits
URL:https://izprveruke.com/event/dr-nele-karajlic-chicago/
LOCATION:Compass Arena\, 625 Joliet Rd\, Wilowbrook\, IL\, United States
CATEGORIES:Koncerti
ATTACH;FMTTYPE=image/jpeg:https://izprveruke.com/wp-content/uploads/2022/09/nele-e1680893111239.jpg
GEO:41.7453652;-87.9396252
X-APPLE-STRUCTURED-LOCATION;VALUE=URI;X-ADDRESS=Compass Arena 625 Joliet Rd Wilowbrook IL United States;X-APPLE-RADIUS=500;X-TITLE=625 Joliet Rd:geo:-87.9396252,41.7453652
END:VEVENT
BEGIN:VEVENT
DTSTART;TZID=America/Los_Angeles:20230216T203000
DTEND;TZID=America/Los_Angeles:20230216T235900
DTSTAMP:20260425T034830
CREATED:20230118T071206Z
LAST-MODIFIED:20230206T064704Z
UID:10001075-1676579400-1676591940@izprveruke.com
SUMMARY:Viki Miljkovic & Nermin Hadzic - Chicago
DESCRIPTION:Vise informacija 708-860-4832
URL:https://izprveruke.com/event/viki-miljkovic-nermin-hadzic-chicago/
LOCATION:Compass Arena\, 625 Joliet Rd\, Wilowbrook\, IL\, United States
CATEGORIES:Koncerti
ATTACH;FMTTYPE=image/png:https://izprveruke.com/wp-content/uploads/2022/11/viki_nerminhadzic.png
GEO:41.7453652;-87.9396252
X-APPLE-STRUCTURED-LOCATION;VALUE=URI;X-ADDRESS=Compass Arena 625 Joliet Rd Wilowbrook IL United States;X-APPLE-RADIUS=500;X-TITLE=625 Joliet Rd:geo:-87.9396252,41.7453652
END:VEVENT
BEGIN:VEVENT
DTSTART;TZID=America/Los_Angeles:20230211T203000
DTEND;TZID=America/Los_Angeles:20230211T235900
DTSTAMP:20260425T034830
CREATED:20230105T070825Z
LAST-MODIFIED:20230105T070831Z
UID:10001043-1676147400-1676159940@izprveruke.com
SUMMARY:Dragana Mirkovic - Chicago
DESCRIPTION:Dragana Mirkovic & Band live in Chicago. \n\n\n\nInfo: 708-860-4832 & 313-900-7817
URL:https://izprveruke.com/event/dragana-mirkovic-chicago/
LOCATION:Compass Arena\, 625 Joliet Rd\, Wilowbrook\, IL\, United States
CATEGORIES:Koncerti
ATTACH;FMTTYPE=image/png:https://izprveruke.com/wp-content/uploads/2023/01/draganamirkovic-e1673429271253.png
GEO:41.7453652;-87.9396252
X-APPLE-STRUCTURED-LOCATION;VALUE=URI;X-ADDRESS=Compass Arena 625 Joliet Rd Wilowbrook IL United States;X-APPLE-RADIUS=500;X-TITLE=625 Joliet Rd:geo:-87.9396252,41.7453652
END:VEVENT
BEGIN:VEVENT
DTSTART;TZID=America/Los_Angeles:20221124T203000
DTEND;TZID=America/Los_Angeles:20221124T235900
DTSTAMP:20260425T034830
CREATED:20220928T072405Z
LAST-MODIFIED:20221013T060603Z
UID:10000924-1669321800-1669334340@izprveruke.com
SUMMARY:Senidah - Chicago
DESCRIPTION:Senidah Live in Chicago w/ DJ Spaz \n\n\n\nVise informacija 773-644-0600
URL:https://izprveruke.com/event/senidah-chicago/
LOCATION:Compass Arena\, 625 Joliet Rd\, Wilowbrook\, IL\, United States
CATEGORIES:Koncerti
ATTACH;FMTTYPE=image/png:https://izprveruke.com/wp-content/uploads/2022/09/senidah.png
GEO:41.7453652;-87.9396252
X-APPLE-STRUCTURED-LOCATION;VALUE=URI;X-ADDRESS=Compass Arena 625 Joliet Rd Wilowbrook IL United States;X-APPLE-RADIUS=500;X-TITLE=625 Joliet Rd:geo:-87.9396252,41.7453652
END:VEVENT
BEGIN:VEVENT
DTSTART;TZID=America/Los_Angeles:20221119T203000
DTEND;TZID=America/Los_Angeles:20221119T235900
DTSTAMP:20260425T034830
CREATED:20221002T053138Z
LAST-MODIFIED:20221002T053143Z
UID:10000933-1668889800-1668902340@izprveruke.com
SUMMARY:Bajaga & Instruktori - Chicago
DESCRIPTION:Bajaga & Instruktori Live in Chicago.  \n\n\n\nThis event is age restricted\, 19+.
URL:https://izprveruke.com/event/bajaga-instruktori-chicago/
LOCATION:Compass Arena\, 625 Joliet Rd\, Wilowbrook\, IL\, United States
CATEGORIES:Koncerti
ATTACH;FMTTYPE=image/jpeg:https://izprveruke.com/wp-content/uploads/2022/10/bajaga.jpg
GEO:41.7453652;-87.9396252
X-APPLE-STRUCTURED-LOCATION;VALUE=URI;X-ADDRESS=Compass Arena 625 Joliet Rd Wilowbrook IL United States;X-APPLE-RADIUS=500;X-TITLE=625 Joliet Rd:geo:-87.9396252,41.7453652
END:VEVENT
BEGIN:VEVENT
DTSTART;TZID=America/Los_Angeles:20221105T203000
DTEND;TZID=America/Los_Angeles:20221105T235900
DTSTAMP:20260425T034830
CREATED:20221101T080942Z
LAST-MODIFIED:20221101T080947Z
UID:10000960-1667680200-1667692740@izprveruke.com
SUMMARY:Vesna\, Ana & Snezana - Chicago
DESCRIPTION:Three Divas Mega Concert. Vesna Zmijanac\, Ana Bekuta & Snezana Djurisic.
URL:https://izprveruke.com/event/vesna-ana-snezana-chicago/
LOCATION:Compass Arena\, 625 Joliet Rd\, Wilowbrook\, IL\, United States
CATEGORIES:Koncerti
ATTACH;FMTTYPE=image/png:https://izprveruke.com/wp-content/uploads/2022/11/vesna_ana_snezana.png
GEO:41.7453652;-87.9396252
X-APPLE-STRUCTURED-LOCATION;VALUE=URI;X-ADDRESS=Compass Arena 625 Joliet Rd Wilowbrook IL United States;X-APPLE-RADIUS=500;X-TITLE=625 Joliet Rd:geo:-87.9396252,41.7453652
END:VEVENT
BEGIN:VEVENT
DTSTART;TZID=America/Los_Angeles:20221029T203000
DTEND;TZID=America/Los_Angeles:20221029T235900
DTSTAMP:20260425T034830
CREATED:20220928T071023Z
LAST-MODIFIED:20220928T071642Z
UID:10000923-1667075400-1667087940@izprveruke.com
SUMMARY:Andreana Cekic & Cenga - Chicago
DESCRIPTION:Andreana Cekic & Amer Cenga. \n\n\n\nVise informacija 773-644-0600 & 515-710-3396
URL:https://izprveruke.com/event/andreana-cekic-cenga-chicago/
LOCATION:Compass Arena\, 625 Joliet Rd\, Wilowbrook\, IL\, United States
CATEGORIES:Koncerti
ATTACH;FMTTYPE=image/png:https://izprveruke.com/wp-content/uploads/2022/09/andreanacekic_cenga.png
GEO:41.7453652;-87.9396252
X-APPLE-STRUCTURED-LOCATION;VALUE=URI;X-ADDRESS=Compass Arena 625 Joliet Rd Wilowbrook IL United States;X-APPLE-RADIUS=500;X-TITLE=625 Joliet Rd:geo:-87.9396252,41.7453652
END:VEVENT
BEGIN:VEVENT
DTSTART;TZID=America/Los_Angeles:20221022T200000
DTEND;TZID=America/Los_Angeles:20221022T230000
DTSTAMP:20260425T034830
CREATED:20220928T074031Z
LAST-MODIFIED:20220928T074038Z
UID:10000928-1666468800-1666479600@izprveruke.com
SUMMARY:Vlatko Stefanovski & Theodosii Spassov - Chicago
DESCRIPTION:Two of the best musicians from Balkan & SouthEast Europe are coming to Chicago! \nLet us introduce you to a band of two incredible musicians from the Balkans; Vlatko Stefanovski and Theodosii Spassov. As a duo\, these widely acclaimed and talented instrumentalists join forces to masterfully blend melodies from the East and the West in a unique and harmonious manner.
URL:https://izprveruke.com/event/vlatko-stefanovski-theodosii-spassov-chicago/
LOCATION:Compass Arena\, 625 Joliet Rd\, Wilowbrook\, IL\, United States
CATEGORIES:Koncerti
ATTACH;FMTTYPE=image/jpeg:https://izprveruke.com/wp-content/uploads/2022/07/84101218_509829879672028_1057853640460468224_n.jpg
GEO:41.7453652;-87.9396252
X-APPLE-STRUCTURED-LOCATION;VALUE=URI;X-ADDRESS=Compass Arena 625 Joliet Rd Wilowbrook IL United States;X-APPLE-RADIUS=500;X-TITLE=625 Joliet Rd:geo:-87.9396252,41.7453652
END:VEVENT
BEGIN:VEVENT
DTSTART;TZID=America/Los_Angeles:20220909T203000
DTEND;TZID=America/Los_Angeles:20220909T235900
DTSTAMP:20260425T034830
CREATED:20220905T192414Z
LAST-MODIFIED:20220907T014622Z
UID:10000902-1662755400-1662767940@izprveruke.com
SUMMARY:Natasa Bekvalac - Chicago
DESCRIPTION:Exclusive VIP concert. Reservations 312-866-1186
URL:https://izprveruke.com/event/natasa-bekvalac-chicago-2/
LOCATION:Compass Arena\, 625 Joliet Rd\, Wilowbrook\, IL\, United States
CATEGORIES:Koncerti
ATTACH;FMTTYPE=image/jpeg:https://izprveruke.com/wp-content/uploads/2022/06/natasabekvalac.jpg
GEO:41.7453652;-87.9396252
X-APPLE-STRUCTURED-LOCATION;VALUE=URI;X-ADDRESS=Compass Arena 625 Joliet Rd Wilowbrook IL United States;X-APPLE-RADIUS=500;X-TITLE=625 Joliet Rd:geo:-87.9396252,41.7453652
END:VEVENT
BEGIN:VEVENT
DTSTART;TZID=America/Los_Angeles:20220402T203000
DTEND;TZID=America/Los_Angeles:20220402T235900
DTSTAMP:20260425T034830
CREATED:20220204T070329Z
LAST-MODIFIED:20220208T083134Z
UID:10000776-1648931400-1648943940@izprveruke.com
SUMMARY:Mladen Cvetanovic - Chicago
DESCRIPTION:Mladen Cvetanovic svakog petka i subote u Premier Lounge @ Compass Arena
URL:https://izprveruke.com/event/mladen-cvetanovic-chicago/2022-04-02/
LOCATION:Compass Arena\, 625 Joliet Rd\, Wilowbrook\, IL\, United States
CATEGORIES:Žurke
ATTACH;FMTTYPE=image/jpeg:https://izprveruke.com/wp-content/uploads/2022/02/mladencvetanovic.jpg
GEO:41.7453652;-87.9396252
X-APPLE-STRUCTURED-LOCATION;VALUE=URI;X-ADDRESS=Compass Arena 625 Joliet Rd Wilowbrook IL United States;X-APPLE-RADIUS=500;X-TITLE=625 Joliet Rd:geo:-87.9396252,41.7453652
END:VEVENT
BEGIN:VEVENT
DTSTART;TZID=America/Los_Angeles:20220401T203000
DTEND;TZID=America/Los_Angeles:20220401T235900
DTSTAMP:20260425T034830
CREATED:20220204T070329Z
LAST-MODIFIED:20220208T083134Z
UID:10000775-1648845000-1648857540@izprveruke.com
SUMMARY:Mladen Cvetanovic - Chicago
DESCRIPTION:Mladen Cvetanovic svakog petka i subote u Premier Lounge @ Compass Arena
URL:https://izprveruke.com/event/mladen-cvetanovic-chicago/2022-04-01/
LOCATION:Compass Arena\, 625 Joliet Rd\, Wilowbrook\, IL\, United States
CATEGORIES:Žurke
ATTACH;FMTTYPE=image/jpeg:https://izprveruke.com/wp-content/uploads/2022/02/mladencvetanovic.jpg
GEO:41.7453652;-87.9396252
X-APPLE-STRUCTURED-LOCATION;VALUE=URI;X-ADDRESS=Compass Arena 625 Joliet Rd Wilowbrook IL United States;X-APPLE-RADIUS=500;X-TITLE=625 Joliet Rd:geo:-87.9396252,41.7453652
END:VEVENT
BEGIN:VEVENT
DTSTART;TZID=America/Los_Angeles:20220326T203000
DTEND;TZID=America/Los_Angeles:20220326T235900
DTSTAMP:20260425T034830
CREATED:20220204T070329Z
LAST-MODIFIED:20220208T083134Z
UID:10000774-1648326600-1648339140@izprveruke.com
SUMMARY:Mladen Cvetanovic - Chicago
DESCRIPTION:Mladen Cvetanovic svakog petka i subote u Premier Lounge @ Compass Arena
URL:https://izprveruke.com/event/mladen-cvetanovic-chicago/2022-03-26/
LOCATION:Compass Arena\, 625 Joliet Rd\, Wilowbrook\, IL\, United States
CATEGORIES:Žurke
ATTACH;FMTTYPE=image/jpeg:https://izprveruke.com/wp-content/uploads/2022/02/mladencvetanovic.jpg
GEO:41.7453652;-87.9396252
X-APPLE-STRUCTURED-LOCATION;VALUE=URI;X-ADDRESS=Compass Arena 625 Joliet Rd Wilowbrook IL United States;X-APPLE-RADIUS=500;X-TITLE=625 Joliet Rd:geo:-87.9396252,41.7453652
END:VEVENT
BEGIN:VEVENT
DTSTART;TZID=America/Los_Angeles:20220325T203000
DTEND;TZID=America/Los_Angeles:20220325T235900
DTSTAMP:20260425T034830
CREATED:20220204T070329Z
LAST-MODIFIED:20220208T083134Z
UID:10000773-1648240200-1648252740@izprveruke.com
SUMMARY:Mladen Cvetanovic - Chicago
DESCRIPTION:Mladen Cvetanovic svakog petka i subote u Premier Lounge @ Compass Arena
URL:https://izprveruke.com/event/mladen-cvetanovic-chicago/2022-03-25/
LOCATION:Compass Arena\, 625 Joliet Rd\, Wilowbrook\, IL\, United States
CATEGORIES:Žurke
ATTACH;FMTTYPE=image/jpeg:https://izprveruke.com/wp-content/uploads/2022/02/mladencvetanovic.jpg
GEO:41.7453652;-87.9396252
X-APPLE-STRUCTURED-LOCATION;VALUE=URI;X-ADDRESS=Compass Arena 625 Joliet Rd Wilowbrook IL United States;X-APPLE-RADIUS=500;X-TITLE=625 Joliet Rd:geo:-87.9396252,41.7453652
END:VEVENT
BEGIN:VEVENT
DTSTART;TZID=America/Los_Angeles:20220319T203000
DTEND;TZID=America/Los_Angeles:20220319T235900
DTSTAMP:20260425T034830
CREATED:20220204T070329Z
LAST-MODIFIED:20220208T083134Z
UID:10000772-1647721800-1647734340@izprveruke.com
SUMMARY:Mladen Cvetanovic - Chicago
DESCRIPTION:Mladen Cvetanovic svakog petka i subote u Premier Lounge @ Compass Arena
URL:https://izprveruke.com/event/mladen-cvetanovic-chicago/2022-03-19/
LOCATION:Compass Arena\, 625 Joliet Rd\, Wilowbrook\, IL\, United States
CATEGORIES:Žurke
ATTACH;FMTTYPE=image/jpeg:https://izprveruke.com/wp-content/uploads/2022/02/mladencvetanovic.jpg
GEO:41.7453652;-87.9396252
X-APPLE-STRUCTURED-LOCATION;VALUE=URI;X-ADDRESS=Compass Arena 625 Joliet Rd Wilowbrook IL United States;X-APPLE-RADIUS=500;X-TITLE=625 Joliet Rd:geo:-87.9396252,41.7453652
END:VEVENT
BEGIN:VEVENT
DTSTART;TZID=America/Los_Angeles:20220318T203000
DTEND;TZID=America/Los_Angeles:20220318T235900
DTSTAMP:20260425T034830
CREATED:20220204T070329Z
LAST-MODIFIED:20220208T083134Z
UID:10000771-1647635400-1647647940@izprveruke.com
SUMMARY:Mladen Cvetanovic - Chicago
DESCRIPTION:Mladen Cvetanovic svakog petka i subote u Premier Lounge @ Compass Arena
URL:https://izprveruke.com/event/mladen-cvetanovic-chicago/2022-03-18/
LOCATION:Compass Arena\, 625 Joliet Rd\, Wilowbrook\, IL\, United States
CATEGORIES:Žurke
ATTACH;FMTTYPE=image/jpeg:https://izprveruke.com/wp-content/uploads/2022/02/mladencvetanovic.jpg
GEO:41.7453652;-87.9396252
X-APPLE-STRUCTURED-LOCATION;VALUE=URI;X-ADDRESS=Compass Arena 625 Joliet Rd Wilowbrook IL United States;X-APPLE-RADIUS=500;X-TITLE=625 Joliet Rd:geo:-87.9396252,41.7453652
END:VEVENT
BEGIN:VEVENT
DTSTART;TZID=America/Los_Angeles:20220312T203000
DTEND;TZID=America/Los_Angeles:20220312T235900
DTSTAMP:20260425T034830
CREATED:20220204T070329Z
LAST-MODIFIED:20220208T083134Z
UID:10000770-1647117000-1647129540@izprveruke.com
SUMMARY:Mladen Cvetanovic - Chicago
DESCRIPTION:Mladen Cvetanovic svakog petka i subote u Premier Lounge @ Compass Arena
URL:https://izprveruke.com/event/mladen-cvetanovic-chicago/2022-03-12/
LOCATION:Compass Arena\, 625 Joliet Rd\, Wilowbrook\, IL\, United States
CATEGORIES:Žurke
ATTACH;FMTTYPE=image/jpeg:https://izprveruke.com/wp-content/uploads/2022/02/mladencvetanovic.jpg
GEO:41.7453652;-87.9396252
X-APPLE-STRUCTURED-LOCATION;VALUE=URI;X-ADDRESS=Compass Arena 625 Joliet Rd Wilowbrook IL United States;X-APPLE-RADIUS=500;X-TITLE=625 Joliet Rd:geo:-87.9396252,41.7453652
END:VEVENT
BEGIN:VEVENT
DTSTART;TZID=America/Los_Angeles:20220311T203000
DTEND;TZID=America/Los_Angeles:20220311T235900
DTSTAMP:20260425T034830
CREATED:20220204T070329Z
LAST-MODIFIED:20220208T083134Z
UID:10000769-1647030600-1647043140@izprveruke.com
SUMMARY:Mladen Cvetanovic - Chicago
DESCRIPTION:Mladen Cvetanovic svakog petka i subote u Premier Lounge @ Compass Arena
URL:https://izprveruke.com/event/mladen-cvetanovic-chicago/2022-03-11/
LOCATION:Compass Arena\, 625 Joliet Rd\, Wilowbrook\, IL\, United States
CATEGORIES:Žurke
ATTACH;FMTTYPE=image/jpeg:https://izprveruke.com/wp-content/uploads/2022/02/mladencvetanovic.jpg
GEO:41.7453652;-87.9396252
X-APPLE-STRUCTURED-LOCATION;VALUE=URI;X-ADDRESS=Compass Arena 625 Joliet Rd Wilowbrook IL United States;X-APPLE-RADIUS=500;X-TITLE=625 Joliet Rd:geo:-87.9396252,41.7453652
END:VEVENT
BEGIN:VEVENT
DTSTART;TZID=America/Los_Angeles:20220305T203000
DTEND;TZID=America/Los_Angeles:20220305T235900
DTSTAMP:20260425T034830
CREATED:20220204T070329Z
LAST-MODIFIED:20220208T083134Z
UID:10000768-1646512200-1646524740@izprveruke.com
SUMMARY:Mladen Cvetanovic - Chicago
DESCRIPTION:Mladen Cvetanovic svakog petka i subote u Premier Lounge @ Compass Arena
URL:https://izprveruke.com/event/mladen-cvetanovic-chicago/2022-03-05/
LOCATION:Compass Arena\, 625 Joliet Rd\, Wilowbrook\, IL\, United States
CATEGORIES:Žurke
ATTACH;FMTTYPE=image/jpeg:https://izprveruke.com/wp-content/uploads/2022/02/mladencvetanovic.jpg
GEO:41.7453652;-87.9396252
X-APPLE-STRUCTURED-LOCATION;VALUE=URI;X-ADDRESS=Compass Arena 625 Joliet Rd Wilowbrook IL United States;X-APPLE-RADIUS=500;X-TITLE=625 Joliet Rd:geo:-87.9396252,41.7453652
END:VEVENT
BEGIN:VEVENT
DTSTART;TZID=America/Los_Angeles:20220304T203000
DTEND;TZID=America/Los_Angeles:20220304T235900
DTSTAMP:20260425T034830
CREATED:20220204T070329Z
LAST-MODIFIED:20220208T083134Z
UID:10000767-1646425800-1646438340@izprveruke.com
SUMMARY:Mladen Cvetanovic - Chicago
DESCRIPTION:Mladen Cvetanovic svakog petka i subote u Premier Lounge @ Compass Arena
URL:https://izprveruke.com/event/mladen-cvetanovic-chicago/2022-03-04/
LOCATION:Compass Arena\, 625 Joliet Rd\, Wilowbrook\, IL\, United States
CATEGORIES:Žurke
ATTACH;FMTTYPE=image/jpeg:https://izprveruke.com/wp-content/uploads/2022/02/mladencvetanovic.jpg
GEO:41.7453652;-87.9396252
X-APPLE-STRUCTURED-LOCATION;VALUE=URI;X-ADDRESS=Compass Arena 625 Joliet Rd Wilowbrook IL United States;X-APPLE-RADIUS=500;X-TITLE=625 Joliet Rd:geo:-87.9396252,41.7453652
END:VEVENT
BEGIN:VEVENT
DTSTART;TZID=America/Los_Angeles:20220226T203000
DTEND;TZID=America/Los_Angeles:20220226T235900
DTSTAMP:20260425T034830
CREATED:20220204T070329Z
LAST-MODIFIED:20220208T083134Z
UID:10000766-1645907400-1645919940@izprveruke.com
SUMMARY:Mladen Cvetanovic - Chicago
DESCRIPTION:Mladen Cvetanovic svakog petka i subote u Premier Lounge @ Compass Arena
URL:https://izprveruke.com/event/mladen-cvetanovic-chicago/2022-02-26/
LOCATION:Compass Arena\, 625 Joliet Rd\, Wilowbrook\, IL\, United States
CATEGORIES:Žurke
ATTACH;FMTTYPE=image/jpeg:https://izprveruke.com/wp-content/uploads/2022/02/mladencvetanovic.jpg
GEO:41.7453652;-87.9396252
X-APPLE-STRUCTURED-LOCATION;VALUE=URI;X-ADDRESS=Compass Arena 625 Joliet Rd Wilowbrook IL United States;X-APPLE-RADIUS=500;X-TITLE=625 Joliet Rd:geo:-87.9396252,41.7453652
END:VEVENT
BEGIN:VEVENT
DTSTART;TZID=America/Los_Angeles:20220225T203000
DTEND;TZID=America/Los_Angeles:20220225T235900
DTSTAMP:20260425T034830
CREATED:20220204T070329Z
LAST-MODIFIED:20220208T083134Z
UID:10000765-1645821000-1645833540@izprveruke.com
SUMMARY:Mladen Cvetanovic - Chicago
DESCRIPTION:Mladen Cvetanovic svakog petka i subote u Premier Lounge @ Compass Arena
URL:https://izprveruke.com/event/mladen-cvetanovic-chicago/2022-02-25/
LOCATION:Compass Arena\, 625 Joliet Rd\, Wilowbrook\, IL\, United States
CATEGORIES:Žurke
ATTACH;FMTTYPE=image/jpeg:https://izprveruke.com/wp-content/uploads/2022/02/mladencvetanovic.jpg
GEO:41.7453652;-87.9396252
X-APPLE-STRUCTURED-LOCATION;VALUE=URI;X-ADDRESS=Compass Arena 625 Joliet Rd Wilowbrook IL United States;X-APPLE-RADIUS=500;X-TITLE=625 Joliet Rd:geo:-87.9396252,41.7453652
END:VEVENT
BEGIN:VEVENT
DTSTART;TZID=America/Los_Angeles:20220219T203000
DTEND;TZID=America/Los_Angeles:20220219T235900
DTSTAMP:20260425T034830
CREATED:20220204T070329Z
LAST-MODIFIED:20220208T083134Z
UID:10000764-1645302600-1645315140@izprveruke.com
SUMMARY:Mladen Cvetanovic - Chicago
DESCRIPTION:Mladen Cvetanovic svakog petka i subote u Premier Lounge @ Compass Arena
URL:https://izprveruke.com/event/mladen-cvetanovic-chicago/2022-02-19/
LOCATION:Compass Arena\, 625 Joliet Rd\, Wilowbrook\, IL\, United States
CATEGORIES:Žurke
ATTACH;FMTTYPE=image/jpeg:https://izprveruke.com/wp-content/uploads/2022/02/mladencvetanovic.jpg
GEO:41.7453652;-87.9396252
X-APPLE-STRUCTURED-LOCATION;VALUE=URI;X-ADDRESS=Compass Arena 625 Joliet Rd Wilowbrook IL United States;X-APPLE-RADIUS=500;X-TITLE=625 Joliet Rd:geo:-87.9396252,41.7453652
END:VEVENT
BEGIN:VEVENT
DTSTART;TZID=America/Los_Angeles:20220218T203000
DTEND;TZID=America/Los_Angeles:20220218T235900
DTSTAMP:20260425T034830
CREATED:20220204T070329Z
LAST-MODIFIED:20220208T083134Z
UID:10000763-1645216200-1645228740@izprveruke.com
SUMMARY:Mladen Cvetanovic - Chicago
DESCRIPTION:Mladen Cvetanovic svakog petka i subote u Premier Lounge @ Compass Arena
URL:https://izprveruke.com/event/mladen-cvetanovic-chicago/2022-02-18/
LOCATION:Compass Arena\, 625 Joliet Rd\, Wilowbrook\, IL\, United States
CATEGORIES:Žurke
ATTACH;FMTTYPE=image/jpeg:https://izprveruke.com/wp-content/uploads/2022/02/mladencvetanovic.jpg
GEO:41.7453652;-87.9396252
X-APPLE-STRUCTURED-LOCATION;VALUE=URI;X-ADDRESS=Compass Arena 625 Joliet Rd Wilowbrook IL United States;X-APPLE-RADIUS=500;X-TITLE=625 Joliet Rd:geo:-87.9396252,41.7453652
END:VEVENT
END:VCALENDAR