BEGIN:VCALENDAR
VERSION:2.0
PRODID:-//Iz Prve Ruke - Koncerti u Americi i Kanadi | Lokalna Dešavanja - ECPv6.15.20//NONSGML v1.0//EN
CALSCALE:GREGORIAN
METHOD:PUBLISH
X-ORIGINAL-URL:https://izprveruke.com
X-WR-CALDESC:Events for Iz Prve Ruke - Koncerti u Americi i Kanadi | Lokalna Dešavanja
REFRESH-INTERVAL;VALUE=DURATION:PT1H
X-Robots-Tag:noindex
X-PUBLISHED-TTL:PT1H
BEGIN:VTIMEZONE
TZID:America/Los_Angeles
BEGIN:DAYLIGHT
TZOFFSETFROM:-0800
TZOFFSETTO:-0700
TZNAME:PDT
DTSTART:20210314T100000
END:DAYLIGHT
BEGIN:STANDARD
TZOFFSETFROM:-0700
TZOFFSETTO:-0800
TZNAME:PST
DTSTART:20211107T090000
END:STANDARD
BEGIN:DAYLIGHT
TZOFFSETFROM:-0800
TZOFFSETTO:-0700
TZNAME:PDT
DTSTART:20220313T100000
END:DAYLIGHT
BEGIN:STANDARD
TZOFFSETFROM:-0700
TZOFFSETTO:-0800
TZNAME:PST
DTSTART:20221106T090000
END:STANDARD
BEGIN:DAYLIGHT
TZOFFSETFROM:-0800
TZOFFSETTO:-0700
TZNAME:PDT
DTSTART:20230312T100000
END:DAYLIGHT
BEGIN:STANDARD
TZOFFSETFROM:-0700
TZOFFSETTO:-0800
TZNAME:PST
DTSTART:20231105T090000
END:STANDARD
BEGIN:DAYLIGHT
TZOFFSETFROM:-0800
TZOFFSETTO:-0700
TZNAME:PDT
DTSTART:20240310T100000
END:DAYLIGHT
BEGIN:STANDARD
TZOFFSETFROM:-0700
TZOFFSETTO:-0800
TZNAME:PST
DTSTART:20241103T090000
END:STANDARD
BEGIN:DAYLIGHT
TZOFFSETFROM:-0800
TZOFFSETTO:-0700
TZNAME:PDT
DTSTART:20250309T100000
END:DAYLIGHT
BEGIN:STANDARD
TZOFFSETFROM:-0700
TZOFFSETTO:-0800
TZNAME:PST
DTSTART:20251102T090000
END:STANDARD
BEGIN:DAYLIGHT
TZOFFSETFROM:-0800
TZOFFSETTO:-0700
TZNAME:PDT
DTSTART:20260308T100000
END:DAYLIGHT
BEGIN:STANDARD
TZOFFSETFROM:-0700
TZOFFSETTO:-0800
TZNAME:PST
DTSTART:20261101T090000
END:STANDARD
END:VTIMEZONE
BEGIN:VEVENT
DTSTART;TZID=America/Los_Angeles:20251128T203000
DTEND;TZID=America/Los_Angeles:20251128T235900
DTSTAMP:20260423T133717
CREATED:20251116T193420Z
LAST-MODIFIED:20251125T022232Z
UID:10001549-1764361800-1764374340@izprveruke.com
SUMMARY:Haris\, Dada & Dusan - Waterloo
DESCRIPTION:Haris Berkovic\, Dada Mesaljic & Dusan Mijailovic live in Waterloo. Vise informacija 319-504-2758
URL:https://izprveruke.com/event/haris-berkovic-dada-mesaljic-waterloo/
LOCATION:Club Ambassador\, 313 W 5th St.\, Waterloo\, IA\, United States
CATEGORIES:Koncerti
ATTACH;FMTTYPE=image/jpeg:https://izprveruke.com/wp-content/uploads/2025/11/haris_dada_dusan.jpg
GEO:42.4931718;-92.3397677
X-APPLE-STRUCTURED-LOCATION;VALUE=URI;X-ADDRESS=Club Ambassador 313 W 5th St. Waterloo IA United States;X-APPLE-RADIUS=500;X-TITLE=313 W 5th St.:geo:-92.3397677,42.4931718
END:VEVENT
BEGIN:VEVENT
DTSTART;TZID=America/Los_Angeles:20240120T203000
DTEND;TZID=America/Los_Angeles:20240120T235900
DTSTAMP:20260423T133717
CREATED:20231223T235809Z
LAST-MODIFIED:20240117T022637Z
UID:10001308-1705782600-1705795140@izprveruke.com
SUMMARY:Viki Miljkovic & Nermin Hadzic - Waterloo
DESCRIPTION:Vise informacija 319-504-2758
URL:https://izprveruke.com/event/viki-miljkovic-nermin-hadzic-waterloo/
LOCATION:Club Ambassador\, 313 W 5th St.\, Waterloo\, IA\, United States
CATEGORIES:Koncerti
ATTACH;FMTTYPE=image/png:https://izprveruke.com/wp-content/uploads/2022/11/viki_nerminhadzic.png
GEO:42.4931718;-92.3397677
X-APPLE-STRUCTURED-LOCATION;VALUE=URI;X-ADDRESS=Club Ambassador 313 W 5th St. Waterloo IA United States;X-APPLE-RADIUS=500;X-TITLE=313 W 5th St.:geo:-92.3397677,42.4931718
END:VEVENT
BEGIN:VEVENT
DTSTART;TZID=America/Los_Angeles:20231111T203000
DTEND;TZID=America/Los_Angeles:20231111T235900
DTSTAMP:20260423T133717
CREATED:20231026T044420Z
LAST-MODIFIED:20231026T051634Z
UID:10001254-1699734600-1699747140@izprveruke.com
SUMMARY:Rade Lackovic - Waterloo
DESCRIPTION:Rade Lackovic live in Waterloo. Vise informacija 319-504-2758 & 315-601-1228
URL:https://izprveruke.com/event/rade-lackovic-waterloo/
LOCATION:Club Ambassador\, 313 W 5th St.\, Waterloo\, IA\, United States
CATEGORIES:Koncerti
ATTACH;FMTTYPE=image/jpeg:https://izprveruke.com/wp-content/uploads/2023/10/radelackovic.jpg
GEO:42.4931718;-92.3397677
X-APPLE-STRUCTURED-LOCATION;VALUE=URI;X-ADDRESS=Club Ambassador 313 W 5th St. Waterloo IA United States;X-APPLE-RADIUS=500;X-TITLE=313 W 5th St.:geo:-92.3397677,42.4931718
END:VEVENT
BEGIN:VEVENT
DTSTART;TZID=America/Los_Angeles:20230910T203000
DTEND;TZID=America/Los_Angeles:20230910T235900
DTSTAMP:20260423T133717
CREATED:20230828T033440Z
LAST-MODIFIED:20230828T033449Z
UID:10001222-1694377800-1694390340@izprveruke.com
SUMMARY:Zvezde Granda - Waterloo
DESCRIPTION:Zvezde Granda Isak Sabanovic & Nenad Osmanovic live in Las Vegas. \n\n\n\nVise informacija 319-504-2758
URL:https://izprveruke.com/event/zvezde-granda-waterloo/
LOCATION:Club Ambassador\, 313 W 5th St.\, Waterloo\, IA\, United States
CATEGORIES:Koncerti
ATTACH;FMTTYPE=image/jpeg:https://izprveruke.com/wp-content/uploads/2023/08/isak_nenad.jpg
GEO:42.4931718;-92.3397677
X-APPLE-STRUCTURED-LOCATION;VALUE=URI;X-ADDRESS=Club Ambassador 313 W 5th St. Waterloo IA United States;X-APPLE-RADIUS=500;X-TITLE=313 W 5th St.:geo:-92.3397677,42.4931718
END:VEVENT
BEGIN:VEVENT
DTSTART;TZID=America/Los_Angeles:20230618T203000
DTEND;TZID=America/Los_Angeles:20230618T235900
DTSTAMP:20260423T133717
CREATED:20230615T002940Z
LAST-MODIFIED:20230615T002945Z
UID:10001180-1687120200-1687132740@izprveruke.com
SUMMARY:Davor Badrov - Waterloo
DESCRIPTION:Vise informacija 319-504-2758
URL:https://izprveruke.com/event/davor-badrov-waterloo/
LOCATION:Club Ambassador\, 313 W 5th St.\, Waterloo\, IA\, United States
CATEGORIES:Koncerti
ATTACH;FMTTYPE=image/jpeg:https://izprveruke.com/wp-content/uploads/2023/06/davorbadrov.jpg
GEO:42.4931718;-92.3397677
X-APPLE-STRUCTURED-LOCATION;VALUE=URI;X-ADDRESS=Club Ambassador 313 W 5th St. Waterloo IA United States;X-APPLE-RADIUS=500;X-TITLE=313 W 5th St.:geo:-92.3397677,42.4931718
END:VEVENT
BEGIN:VEVENT
DTSTART;TZID=America/Los_Angeles:20221231T203000
DTEND;TZID=America/Los_Angeles:20230101T203000
DTSTAMP:20260423T133717
CREATED:20221205T001644Z
LAST-MODIFIED:20221205T002623Z
UID:10000995-1672518600-1672605000@izprveruke.com
SUMMARY:Bubi & Fikret - Docek Nove 2023 - Waterloo
DESCRIPTION:Vise informacija (319) 504-2758 \n\n\n\nMuskarci $85Dame $70Od 12-20 godina $50Do 12 godina besplatno \n\n\n\nU cijenu uracunata meza i pice cijelu noc.
URL:https://izprveruke.com/event/bubi-fikret-docek-nove-2023-waterloo/
LOCATION:Club Ambassador\, 313 W 5th St.\, Waterloo\, IA\, United States
CATEGORIES:Koncerti
ATTACH;FMTTYPE=image/jpeg:https://izprveruke.com/wp-content/uploads/2022/12/26D8C350-4A3B-4A9F-84D0-8CFAD823907D-e1670199909283.jpeg
GEO:42.4931718;-92.3397677
X-APPLE-STRUCTURED-LOCATION;VALUE=URI;X-ADDRESS=Club Ambassador 313 W 5th St. Waterloo IA United States;X-APPLE-RADIUS=500;X-TITLE=313 W 5th St.:geo:-92.3397677,42.4931718
END:VEVENT
BEGIN:VEVENT
DTSTART;TZID=America/Los_Angeles:20220611T203000
DTEND;TZID=America/Los_Angeles:20220611T233000
DTSTAMP:20260423T133717
CREATED:20220609T055129Z
LAST-MODIFIED:20220609T075128Z
UID:10000862-1654979400-1654990200@izprveruke.com
SUMMARY:Amir Grand & Sado - Waterloo
DESCRIPTION:Amir Grand & Sado
URL:https://izprveruke.com/event/amir-grand-sado-waterloo/
LOCATION:Club Ambassador\, 313 W 5th St.\, Waterloo\, IA\, United States
CATEGORIES:Koncerti
ATTACH;FMTTYPE=image/jpeg:https://izprveruke.com/wp-content/uploads/2022/05/76F99AF4-B327-4BCA-B9E6-533F43926445-e1653607760766.jpeg
GEO:42.4931718;-92.3397677
X-APPLE-STRUCTURED-LOCATION;VALUE=URI;X-ADDRESS=Club Ambassador 313 W 5th St. Waterloo IA United States;X-APPLE-RADIUS=500;X-TITLE=313 W 5th St.:geo:-92.3397677,42.4931718
END:VEVENT
BEGIN:VEVENT
DTSTART;TZID=America/Los_Angeles:20220327T203000
DTEND;TZID=America/Los_Angeles:20220327T235900
DTSTAMP:20260423T133717
CREATED:20220309T071532Z
LAST-MODIFIED:20220309T073426Z
UID:10000827-1648413000-1648425540@izprveruke.com
SUMMARY:Bosanac\, Dzidza\, Sanel - Waterloo
DESCRIPTION:Dragan Stojkovic Bosanac\, Dzidza Stojkovic\, Sanel Smolo & Velid Nukicic.
URL:https://izprveruke.com/event/bosanac-dzidza-sanel-waterloo/
LOCATION:Club Ambassador\, 313 W 5th St.\, Waterloo\, IA\, United States
CATEGORIES:Koncerti
ATTACH;FMTTYPE=image/jpeg:https://izprveruke.com/wp-content/uploads/2022/03/bosanacdzidzasanel.jpg
GEO:42.4931718;-92.3397677
X-APPLE-STRUCTURED-LOCATION;VALUE=URI;X-ADDRESS=Club Ambassador 313 W 5th St. Waterloo IA United States;X-APPLE-RADIUS=500;X-TITLE=313 W 5th St.:geo:-92.3397677,42.4931718
END:VEVENT
END:VCALENDAR