BEGIN:VCALENDAR
VERSION:2.0
PRODID:-//Iz Prve Ruke - Koncerti u Americi i Kanadi | Lokalna Dešavanja - ECPv6.15.20//NONSGML v1.0//EN
CALSCALE:GREGORIAN
METHOD:PUBLISH
X-WR-CALNAME:Iz Prve Ruke - Koncerti u Americi i Kanadi | Lokalna Dešavanja
X-ORIGINAL-URL:https://izprveruke.com
X-WR-CALDESC:Events for Iz Prve Ruke - Koncerti u Americi i Kanadi | Lokalna Dešavanja
REFRESH-INTERVAL;VALUE=DURATION:PT1H
X-Robots-Tag:noindex
X-PUBLISHED-TTL:PT1H
BEGIN:VTIMEZONE
TZID:America/Los_Angeles
BEGIN:DAYLIGHT
TZOFFSETFROM:-0800
TZOFFSETTO:-0700
TZNAME:PDT
DTSTART:20250309T100000
END:DAYLIGHT
BEGIN:STANDARD
TZOFFSETFROM:-0700
TZOFFSETTO:-0800
TZNAME:PST
DTSTART:20251102T090000
END:STANDARD
BEGIN:DAYLIGHT
TZOFFSETFROM:-0800
TZOFFSETTO:-0700
TZNAME:PDT
DTSTART:20260308T100000
END:DAYLIGHT
BEGIN:STANDARD
TZOFFSETFROM:-0700
TZOFFSETTO:-0800
TZNAME:PST
DTSTART:20261101T090000
END:STANDARD
BEGIN:DAYLIGHT
TZOFFSETFROM:-0800
TZOFFSETTO:-0700
TZNAME:PDT
DTSTART:20270314T100000
END:DAYLIGHT
BEGIN:STANDARD
TZOFFSETFROM:-0700
TZOFFSETTO:-0800
TZNAME:PST
DTSTART:20271107T090000
END:STANDARD
END:VTIMEZONE
BEGIN:VEVENT
DTSTART;TZID=America/Los_Angeles:20260422T203000
DTEND;TZID=America/Los_Angeles:20260422T235900
DTSTAMP:20260423T102652
CREATED:20260323T021456Z
LAST-MODIFIED:20260323T021458Z
UID:10001597-1776889800-1776902340@izprveruke.com
SUMMARY:Olja Bajrami - Miami
DESCRIPTION:Olja Bajrami live in Miami. Vise informacija 986-210-4262
URL:https://izprveruke.com/event/olja-bajrami-miami/
LOCATION:Cave 305\, 1560 Collins Ave\, Miami Beach\, FL\, United States
ATTACH;FMTTYPE=image/png:https://izprveruke.com/wp-content/uploads/2026/03/ojabajrami.png
GEO:25.7889795;-80.1309075
X-APPLE-STRUCTURED-LOCATION;VALUE=URI;X-ADDRESS=Cave 305 1560 Collins Ave Miami Beach FL United States;X-APPLE-RADIUS=500;X-TITLE=1560 Collins Ave:geo:-80.1309075,25.7889795
END:VEVENT
END:VCALENDAR