BEGIN:VCALENDAR
VERSION:2.0
PRODID:-//Iz Prve Ruke - Koncerti u Americi i Kanadi | Lokalna Dešavanja - ECPv6.15.20//NONSGML v1.0//EN
CALSCALE:GREGORIAN
METHOD:PUBLISH
X-WR-CALNAME:Iz Prve Ruke - Koncerti u Americi i Kanadi | Lokalna Dešavanja
X-ORIGINAL-URL:https://izprveruke.com
X-WR-CALDESC:Events for Iz Prve Ruke - Koncerti u Americi i Kanadi | Lokalna Dešavanja
REFRESH-INTERVAL;VALUE=DURATION:PT1H
X-Robots-Tag:noindex
X-PUBLISHED-TTL:PT1H
BEGIN:VTIMEZONE
TZID:America/Los_Angeles
BEGIN:DAYLIGHT
TZOFFSETFROM:-0800
TZOFFSETTO:-0700
TZNAME:PDT
DTSTART:20210314T100000
END:DAYLIGHT
BEGIN:STANDARD
TZOFFSETFROM:-0700
TZOFFSETTO:-0800
TZNAME:PST
DTSTART:20211107T090000
END:STANDARD
BEGIN:DAYLIGHT
TZOFFSETFROM:-0800
TZOFFSETTO:-0700
TZNAME:PDT
DTSTART:20220313T100000
END:DAYLIGHT
BEGIN:STANDARD
TZOFFSETFROM:-0700
TZOFFSETTO:-0800
TZNAME:PST
DTSTART:20221106T090000
END:STANDARD
BEGIN:DAYLIGHT
TZOFFSETFROM:-0800
TZOFFSETTO:-0700
TZNAME:PDT
DTSTART:20230312T100000
END:DAYLIGHT
BEGIN:STANDARD
TZOFFSETFROM:-0700
TZOFFSETTO:-0800
TZNAME:PST
DTSTART:20231105T090000
END:STANDARD
BEGIN:DAYLIGHT
TZOFFSETFROM:-0800
TZOFFSETTO:-0700
TZNAME:PDT
DTSTART:20240310T100000
END:DAYLIGHT
BEGIN:STANDARD
TZOFFSETFROM:-0700
TZOFFSETTO:-0800
TZNAME:PST
DTSTART:20241103T090000
END:STANDARD
BEGIN:DAYLIGHT
TZOFFSETFROM:-0800
TZOFFSETTO:-0700
TZNAME:PDT
DTSTART:20250309T100000
END:DAYLIGHT
BEGIN:STANDARD
TZOFFSETFROM:-0700
TZOFFSETTO:-0800
TZNAME:PST
DTSTART:20251102T090000
END:STANDARD
END:VTIMEZONE
BEGIN:VEVENT
DTSTART;TZID=America/Los_Angeles:20240209T203000
DTEND;TZID=America/Los_Angeles:20240209T235900
DTSTAMP:20260423T145819
CREATED:20240118T034307Z
LAST-MODIFIED:20240209T023506Z
UID:10001346-1707510600-1707523140@izprveruke.com
SUMMARY:Darko Lazic - Hartford
DESCRIPTION:Darko Lazic live in New Britain. Vise informacija 860-833-2812
URL:https://izprveruke.com/event/darko-lazic-hartford/
LOCATION:Casablanca Hall\, 209 Smalley St.\, New Britain\, Connecticut\, United States
CATEGORIES:Koncerti
ATTACH;FMTTYPE=image/jpeg:https://izprveruke.com/wp-content/uploads/2024/01/darkolazic.jpg
GEO:41.6736129;-72.7651105
X-APPLE-STRUCTURED-LOCATION;VALUE=URI;X-ADDRESS=Casablanca Hall 209 Smalley St. New Britain Connecticut United States;X-APPLE-RADIUS=500;X-TITLE=209 Smalley St.:geo:-72.7651105,41.6736129
END:VEVENT
BEGIN:VEVENT
DTSTART;TZID=America/Los_Angeles:20231222T203000
DTEND;TZID=America/Los_Angeles:20231222T235900
DTSTAMP:20260423T145819
CREATED:20231114T035122Z
LAST-MODIFIED:20231114T035124Z
UID:10001265-1703277000-1703289540@izprveruke.com
SUMMARY:Emir Djulovic - Hartford
DESCRIPTION:Emir Djulovic live in Hartford.  \n\n\n\nVise informacija 860-833-2812
URL:https://izprveruke.com/event/emir-djulovic-hartford/
LOCATION:Casablanca Hall\, 209 Smalley St.\, New Britain\, Connecticut\, United States
CATEGORIES:Koncerti
ATTACH;FMTTYPE=image/jpeg:https://izprveruke.com/wp-content/uploads/2023/07/emirdjulovic.jpg
GEO:41.6736129;-72.7651105
X-APPLE-STRUCTURED-LOCATION;VALUE=URI;X-ADDRESS=Casablanca Hall 209 Smalley St. New Britain Connecticut United States;X-APPLE-RADIUS=500;X-TITLE=209 Smalley St.:geo:-72.7651105,41.6736129
END:VEVENT
BEGIN:VEVENT
DTSTART;TZID=America/Los_Angeles:20231027T203000
DTEND;TZID=America/Los_Angeles:20231027T235900
DTSTAMP:20260423T145819
CREATED:20230918T054340Z
LAST-MODIFIED:20230918T054510Z
UID:10001227-1698438600-1698451140@izprveruke.com
SUMMARY:Mile Kitic - Hartford
DESCRIPTION:Mile Kitic live in Hartford. Vise informacija 860-833-2812
URL:https://izprveruke.com/event/mile-kitic-hartford/
LOCATION:Casablanca Hall\, 209 Smalley St.\, New Britain\, Connecticut\, United States
CATEGORIES:Koncerti
ATTACH;FMTTYPE=image/jpeg:https://izprveruke.com/wp-content/uploads/2023/09/milekitic.jpg
GEO:41.6736129;-72.7651105
X-APPLE-STRUCTURED-LOCATION;VALUE=URI;X-ADDRESS=Casablanca Hall 209 Smalley St. New Britain Connecticut United States;X-APPLE-RADIUS=500;X-TITLE=209 Smalley St.:geo:-72.7651105,41.6736129
END:VEVENT
BEGIN:VEVENT
DTSTART;TZID=America/Los_Angeles:20230217T203000
DTEND;TZID=America/Los_Angeles:20230217T235900
DTSTAMP:20260423T145819
CREATED:20230118T071241Z
LAST-MODIFIED:20230130T202232Z
UID:10001076-1676665800-1676678340@izprveruke.com
SUMMARY:Viki Miljkovic & Nermin Hadzic - Hartford
DESCRIPTION:Vise informacija 860-833-2812
URL:https://izprveruke.com/event/viki-miljkovic-nermin-hadzic-hartford/
LOCATION:Casablanca Hall\, 209 Smalley St.\, New Britain\, Connecticut\, United States
CATEGORIES:Koncerti
ATTACH;FMTTYPE=image/png:https://izprveruke.com/wp-content/uploads/2022/11/viki_nerminhadzic.png
GEO:41.6736129;-72.7651105
X-APPLE-STRUCTURED-LOCATION;VALUE=URI;X-ADDRESS=Casablanca Hall 209 Smalley St. New Britain Connecticut United States;X-APPLE-RADIUS=500;X-TITLE=209 Smalley St.:geo:-72.7651105,41.6736129
END:VEVENT
BEGIN:VEVENT
DTSTART;TZID=America/Los_Angeles:20221203T203000
DTEND;TZID=America/Los_Angeles:20221203T235900
DTSTAMP:20260423T145819
CREATED:20221014T055222Z
LAST-MODIFIED:20221014T063903Z
UID:10000952-1670099400-1670111940@izprveruke.com
SUMMARY:Sadik & Sandzak Tapani i Melisa Imsirovic - Hartford
DESCRIPTION:Sadik & Sandzak Tapani i Melisa Imsirovic. \n\n\n\nVise informacija 860-833-2812
URL:https://izprveruke.com/event/sadik-sandzak-tapani-hartford/
LOCATION:Casablanca Hall\, 209 Smalley St.\, New Britain\, Connecticut\, United States
CATEGORIES:Koncerti
ATTACH;FMTTYPE=image/jpeg:https://izprveruke.com/wp-content/uploads/2022/10/sadik.jpg
GEO:41.6736129;-72.7651105
X-APPLE-STRUCTURED-LOCATION;VALUE=URI;X-ADDRESS=Casablanca Hall 209 Smalley St. New Britain Connecticut United States;X-APPLE-RADIUS=500;X-TITLE=209 Smalley St.:geo:-72.7651105,41.6736129
END:VEVENT
END:VCALENDAR