BEGIN:VCALENDAR
VERSION:2.0
PRODID:-//Iz Prve Ruke - Koncerti u Americi i Kanadi | Lokalna Dešavanja - ECPv6.15.20//NONSGML v1.0//EN
CALSCALE:GREGORIAN
METHOD:PUBLISH
X-ORIGINAL-URL:https://izprveruke.com
X-WR-CALDESC:Events for Iz Prve Ruke - Koncerti u Americi i Kanadi | Lokalna Dešavanja
REFRESH-INTERVAL;VALUE=DURATION:PT1H
X-Robots-Tag:noindex
X-PUBLISHED-TTL:PT1H
BEGIN:VTIMEZONE
TZID:America/Los_Angeles
BEGIN:DAYLIGHT
TZOFFSETFROM:-0800
TZOFFSETTO:-0700
TZNAME:PDT
DTSTART:20220313T100000
END:DAYLIGHT
BEGIN:STANDARD
TZOFFSETFROM:-0700
TZOFFSETTO:-0800
TZNAME:PST
DTSTART:20221106T090000
END:STANDARD
BEGIN:DAYLIGHT
TZOFFSETFROM:-0800
TZOFFSETTO:-0700
TZNAME:PDT
DTSTART:20230312T100000
END:DAYLIGHT
BEGIN:STANDARD
TZOFFSETFROM:-0700
TZOFFSETTO:-0800
TZNAME:PST
DTSTART:20231105T090000
END:STANDARD
BEGIN:DAYLIGHT
TZOFFSETFROM:-0800
TZOFFSETTO:-0700
TZNAME:PDT
DTSTART:20240310T100000
END:DAYLIGHT
BEGIN:STANDARD
TZOFFSETFROM:-0700
TZOFFSETTO:-0800
TZNAME:PST
DTSTART:20241103T090000
END:STANDARD
END:VTIMEZONE
BEGIN:VEVENT
DTSTART;TZID=America/Los_Angeles:20230625T203000
DTEND;TZID=America/Los_Angeles:20230625T235900
DTSTAMP:20260424T012932
CREATED:20230615T003656Z
LAST-MODIFIED:20230615T003701Z
UID:10001183-1687725000-1687737540@izprveruke.com
SUMMARY:Davor Badrov - Miami
DESCRIPTION:Vise informacija 305-627-3436
URL:https://izprveruke.com/event/davor-badrov-miami/
LOCATION:Cacio e Pepe Italian Restaurant\, 195903 Biscayne Blvd.\, North Miami Beach\, Florida\, United States
CATEGORIES:Koncerti
ATTACH;FMTTYPE=image/jpeg:https://izprveruke.com/wp-content/uploads/2023/06/davorbadrov.jpg
GEO:25.9280664;-80.1533253
X-APPLE-STRUCTURED-LOCATION;VALUE=URI;X-ADDRESS=Cacio e Pepe Italian Restaurant 195903 Biscayne Blvd. North Miami Beach Florida United States;X-APPLE-RADIUS=500;X-TITLE=195903 Biscayne Blvd.:geo:-80.1533253,25.9280664
END:VEVENT
END:VCALENDAR