BEGIN:VCALENDAR
VERSION:2.0
PRODID:-//Iz Prve Ruke - Koncerti u Americi i Kanadi | Lokalna Dešavanja - ECPv6.15.20//NONSGML v1.0//EN
CALSCALE:GREGORIAN
METHOD:PUBLISH
X-ORIGINAL-URL:https://izprveruke.com
X-WR-CALDESC:Events for Iz Prve Ruke - Koncerti u Americi i Kanadi | Lokalna Dešavanja
REFRESH-INTERVAL;VALUE=DURATION:PT1H
X-Robots-Tag:noindex
X-PUBLISHED-TTL:PT1H
BEGIN:VTIMEZONE
TZID:America/Los_Angeles
BEGIN:DAYLIGHT
TZOFFSETFROM:-0800
TZOFFSETTO:-0700
TZNAME:PDT
DTSTART:20220313T100000
END:DAYLIGHT
BEGIN:STANDARD
TZOFFSETFROM:-0700
TZOFFSETTO:-0800
TZNAME:PST
DTSTART:20221106T090000
END:STANDARD
BEGIN:DAYLIGHT
TZOFFSETFROM:-0800
TZOFFSETTO:-0700
TZNAME:PDT
DTSTART:20230312T100000
END:DAYLIGHT
BEGIN:STANDARD
TZOFFSETFROM:-0700
TZOFFSETTO:-0800
TZNAME:PST
DTSTART:20231105T090000
END:STANDARD
BEGIN:DAYLIGHT
TZOFFSETFROM:-0800
TZOFFSETTO:-0700
TZNAME:PDT
DTSTART:20240310T100000
END:DAYLIGHT
BEGIN:STANDARD
TZOFFSETFROM:-0700
TZOFFSETTO:-0800
TZNAME:PST
DTSTART:20241103T090000
END:STANDARD
END:VTIMEZONE
BEGIN:VEVENT
DTSTART;TZID=America/Los_Angeles:20230930T203000
DTEND;TZID=America/Los_Angeles:20230930T235900
DTSTAMP:20260423T134238
CREATED:20230916T032645Z
LAST-MODIFIED:20230916T032646Z
UID:10001225-1696105800-1696118340@izprveruke.com
SUMMARY:Zvezde Granda - Grand Rapids
DESCRIPTION:Zvezde Granda Isak Sabanovic & Nenad Osmanovic live in Grand Rapids. \n\n\n\nVise informacija 616-272-1523
URL:https://izprveruke.com/event/zvezde-granda-grand-rapids/
LOCATION:Bar Down Grill\, 6209 Division Ave S\, Grand Rapids\, Michigan\, United States
CATEGORIES:Koncerti
ATTACH;FMTTYPE=image/jpeg:https://izprveruke.com/wp-content/uploads/2023/08/isak_nenad.jpg
GEO:42.8513387;-85.6642371
X-APPLE-STRUCTURED-LOCATION;VALUE=URI;X-ADDRESS=Bar Down Grill 6209 Division Ave S Grand Rapids Michigan United States;X-APPLE-RADIUS=500;X-TITLE=6209 Division Ave S:geo:-85.6642371,42.8513387
END:VEVENT
BEGIN:VEVENT
DTSTART;TZID=America/Los_Angeles:20230707T203000
DTEND;TZID=America/Los_Angeles:20230707T235900
DTSTAMP:20260423T134238
CREATED:20230519T022554Z
LAST-MODIFIED:20230629T222053Z
UID:10001164-1688761800-1688774340@izprveruke.com
SUMMARY:Nenad Osmanovic - Grand Rapids
DESCRIPTION:Vise informacija 616-272-1523
URL:https://izprveruke.com/event/nenad-osmanovic-grand-rapids/
LOCATION:Bar Down Grill\, 6209 Division Ave S\, Grand Rapids\, Michigan\, United States
CATEGORIES:Koncerti
ATTACH;FMTTYPE=image/png:https://izprveruke.com/wp-content/uploads/2023/05/nenadosmanovic.png
GEO:42.8513387;-85.6642371
X-APPLE-STRUCTURED-LOCATION;VALUE=URI;X-ADDRESS=Bar Down Grill 6209 Division Ave S Grand Rapids Michigan United States;X-APPLE-RADIUS=500;X-TITLE=6209 Division Ave S:geo:-85.6642371,42.8513387
END:VEVENT
BEGIN:VEVENT
DTSTART;TZID=America/Los_Angeles:20230519T203000
DTEND;TZID=America/Los_Angeles:20230519T235900
DTSTAMP:20260423T134238
CREATED:20230508T035057Z
LAST-MODIFIED:20230508T035101Z
UID:10001155-1684528200-1684540740@izprveruke.com
SUMMARY:Fazlija - Grand Rapids
DESCRIPTION:Vise informacija 315-527-3856
URL:https://izprveruke.com/event/fazlija-grand-rapids/
LOCATION:Bar Down Grill\, 6209 Division Ave S\, Grand Rapids\, Michigan\, United States
CATEGORIES:Koncerti
ATTACH;FMTTYPE=image/png:https://izprveruke.com/wp-content/uploads/2023/05/fazlija.png
GEO:42.8513387;-85.6642371
X-APPLE-STRUCTURED-LOCATION;VALUE=URI;X-ADDRESS=Bar Down Grill 6209 Division Ave S Grand Rapids Michigan United States;X-APPLE-RADIUS=500;X-TITLE=6209 Division Ave S:geo:-85.6642371,42.8513387
END:VEVENT
END:VCALENDAR