BEGIN:VCALENDAR
VERSION:2.0
PRODID:-//Iz Prve Ruke - Koncerti u Americi i Kanadi | Lokalna Dešavanja - ECPv6.15.20//NONSGML v1.0//EN
CALSCALE:GREGORIAN
METHOD:PUBLISH
X-ORIGINAL-URL:https://izprveruke.com
X-WR-CALDESC:Events for Iz Prve Ruke - Koncerti u Americi i Kanadi | Lokalna Dešavanja
REFRESH-INTERVAL;VALUE=DURATION:PT1H
X-Robots-Tag:noindex
X-PUBLISHED-TTL:PT1H
BEGIN:VTIMEZONE
TZID:America/Los_Angeles
BEGIN:DAYLIGHT
TZOFFSETFROM:-0800
TZOFFSETTO:-0700
TZNAME:PDT
DTSTART:20210314T100000
END:DAYLIGHT
BEGIN:STANDARD
TZOFFSETFROM:-0700
TZOFFSETTO:-0800
TZNAME:PST
DTSTART:20211107T090000
END:STANDARD
BEGIN:DAYLIGHT
TZOFFSETFROM:-0800
TZOFFSETTO:-0700
TZNAME:PDT
DTSTART:20220313T100000
END:DAYLIGHT
BEGIN:STANDARD
TZOFFSETFROM:-0700
TZOFFSETTO:-0800
TZNAME:PST
DTSTART:20221106T090000
END:STANDARD
BEGIN:DAYLIGHT
TZOFFSETFROM:-0800
TZOFFSETTO:-0700
TZNAME:PDT
DTSTART:20230312T100000
END:DAYLIGHT
BEGIN:STANDARD
TZOFFSETFROM:-0700
TZOFFSETTO:-0800
TZNAME:PST
DTSTART:20231105T090000
END:STANDARD
BEGIN:DAYLIGHT
TZOFFSETFROM:-0800
TZOFFSETTO:-0700
TZNAME:PDT
DTSTART:20240310T100000
END:DAYLIGHT
BEGIN:STANDARD
TZOFFSETFROM:-0700
TZOFFSETTO:-0800
TZNAME:PST
DTSTART:20241103T090000
END:STANDARD
BEGIN:DAYLIGHT
TZOFFSETFROM:-0800
TZOFFSETTO:-0700
TZNAME:PDT
DTSTART:20250309T100000
END:DAYLIGHT
BEGIN:STANDARD
TZOFFSETFROM:-0700
TZOFFSETTO:-0800
TZNAME:PST
DTSTART:20251102T090000
END:STANDARD
END:VTIMEZONE
BEGIN:VEVENT
DTSTART;TZID=America/Los_Angeles:20240413T203000
DTEND;TZID=America/Los_Angeles:20240413T235900
DTSTAMP:20260423T172407
CREATED:20240330T033211Z
LAST-MODIFIED:20240330T035016Z
UID:10001372-1713040200-1713052740@izprveruke.com
SUMMARY:Zeljko Vasic - Mississauga
DESCRIPTION:Zeljko Vasic live in Mississauga.  \n\n\n\nRSVP 519-566-2828 & 226-246-8847
URL:https://izprveruke.com/event/zeljko-vasic-mississauga/
LOCATION:Banquet Hall SCA Oplenac\, 895 Rangeview Rd\, Mississauga\, Canada
CATEGORIES:Koncerti
ATTACH;FMTTYPE=image/jpeg:https://izprveruke.com/wp-content/uploads/2023/12/zeljkovasic.jpg
GEO:43.5731046;-79.559905
X-APPLE-STRUCTURED-LOCATION;VALUE=URI;X-ADDRESS=Banquet Hall SCA Oplenac 895 Rangeview Rd Mississauga Canada;X-APPLE-RADIUS=500;X-TITLE=895 Rangeview Rd:geo:-79.559905,43.5731046
END:VEVENT
BEGIN:VEVENT
DTSTART;TZID=America/Los_Angeles:20220416T193000
DTEND;TZID=America/Los_Angeles:20220416T235900
DTSTAMP:20260423T172407
CREATED:20220313T002918Z
LAST-MODIFIED:20220313T195736Z
UID:10000832-1650137400-1650153540@izprveruke.com
SUMMARY:Ilda Saulic - Toronto
DESCRIPTION:Vise informacija: \nBorko 514-809-6368Milos 514-993-1055Daniel 514-651-2248
URL:https://izprveruke.com/event/ilda-saulic-toronto/
LOCATION:Banquet Hall SCA Oplenac\, 895 Rangeview Rd\, Mississauga\, Canada
CATEGORIES:Koncerti
ATTACH;FMTTYPE=image/jpeg:https://izprveruke.com/wp-content/uploads/2022/03/IMG_3733-2-e1647131073758.jpg
ORGANIZER;CN="MBD Events":MAILTO:mbdeventscanada@gmail.com
GEO:43.5731046;-79.559905
X-APPLE-STRUCTURED-LOCATION;VALUE=URI;X-ADDRESS=Banquet Hall SCA Oplenac 895 Rangeview Rd Mississauga Canada;X-APPLE-RADIUS=500;X-TITLE=895 Rangeview Rd:geo:-79.559905,43.5731046
END:VEVENT
END:VCALENDAR