BEGIN:VCALENDAR
VERSION:2.0
PRODID:-//Iz Prve Ruke - Koncerti u Americi i Kanadi | Lokalna Dešavanja - ECPv6.15.20//NONSGML v1.0//EN
CALSCALE:GREGORIAN
METHOD:PUBLISH
X-ORIGINAL-URL:https://izprveruke.com
X-WR-CALDESC:Events for Iz Prve Ruke - Koncerti u Americi i Kanadi | Lokalna Dešavanja
REFRESH-INTERVAL;VALUE=DURATION:PT1H
X-Robots-Tag:noindex
X-PUBLISHED-TTL:PT1H
BEGIN:VTIMEZONE
TZID:America/Los_Angeles
BEGIN:DAYLIGHT
TZOFFSETFROM:-0800
TZOFFSETTO:-0700
TZNAME:PDT
DTSTART:20210314T100000
END:DAYLIGHT
BEGIN:STANDARD
TZOFFSETFROM:-0700
TZOFFSETTO:-0800
TZNAME:PST
DTSTART:20211107T090000
END:STANDARD
BEGIN:DAYLIGHT
TZOFFSETFROM:-0800
TZOFFSETTO:-0700
TZNAME:PDT
DTSTART:20220313T100000
END:DAYLIGHT
BEGIN:STANDARD
TZOFFSETFROM:-0700
TZOFFSETTO:-0800
TZNAME:PST
DTSTART:20221106T090000
END:STANDARD
BEGIN:DAYLIGHT
TZOFFSETFROM:-0800
TZOFFSETTO:-0700
TZNAME:PDT
DTSTART:20230312T100000
END:DAYLIGHT
BEGIN:STANDARD
TZOFFSETFROM:-0700
TZOFFSETTO:-0800
TZNAME:PST
DTSTART:20231105T090000
END:STANDARD
END:VTIMEZONE
BEGIN:VEVENT
DTSTART;TZID=America/Los_Angeles:20220313T203000
DTEND;TZID=America/Los_Angeles:20220313T235900
DTSTAMP:20260423T223925
CREATED:20220307T070414Z
LAST-MODIFIED:20220307T070421Z
UID:10000814-1647203400-1647215940@izprveruke.com
SUMMARY:Emina\, Fatmir\, Marina - Seattle
DESCRIPTION:Vise informacija 425-231-0806
URL:https://izprveruke.com/event/emina-fatmir-marina-seattle/
LOCATION:American Legion Hall\, 56th Ave. W Mountlake\, Terrace\, WA\, United States
CATEGORIES:Koncerti
ATTACH;FMTTYPE=image/jpeg:https://izprveruke.com/wp-content/uploads/2022/02/emina_fatmir_marina.jpg
GEO:47.7902408;-122.3084591
X-APPLE-STRUCTURED-LOCATION;VALUE=URI;X-ADDRESS=American Legion Hall 56th Ave. W Mountlake Terrace WA United States;X-APPLE-RADIUS=500;X-TITLE=56th Ave. W Mountlake:geo:-122.3084591,47.7902408
END:VEVENT
END:VCALENDAR