BEGIN:VCALENDAR
VERSION:2.0
PRODID:-//Iz Prve Ruke - Koncerti u Americi i Kanadi | Lokalna Dešavanja - ECPv6.15.20//NONSGML v1.0//EN
CALSCALE:GREGORIAN
METHOD:PUBLISH
X-ORIGINAL-URL:https://izprveruke.com
X-WR-CALDESC:Events for Iz Prve Ruke - Koncerti u Americi i Kanadi | Lokalna Dešavanja
REFRESH-INTERVAL;VALUE=DURATION:PT1H
X-Robots-Tag:noindex
X-PUBLISHED-TTL:PT1H
BEGIN:VTIMEZONE
TZID:America/Los_Angeles
BEGIN:DAYLIGHT
TZOFFSETFROM:-0800
TZOFFSETTO:-0700
TZNAME:PDT
DTSTART:20210314T100000
END:DAYLIGHT
BEGIN:STANDARD
TZOFFSETFROM:-0700
TZOFFSETTO:-0800
TZNAME:PST
DTSTART:20211107T090000
END:STANDARD
BEGIN:DAYLIGHT
TZOFFSETFROM:-0800
TZOFFSETTO:-0700
TZNAME:PDT
DTSTART:20220313T100000
END:DAYLIGHT
BEGIN:STANDARD
TZOFFSETFROM:-0700
TZOFFSETTO:-0800
TZNAME:PST
DTSTART:20221106T090000
END:STANDARD
BEGIN:DAYLIGHT
TZOFFSETFROM:-0800
TZOFFSETTO:-0700
TZNAME:PDT
DTSTART:20230312T100000
END:DAYLIGHT
BEGIN:STANDARD
TZOFFSETFROM:-0700
TZOFFSETTO:-0800
TZNAME:PST
DTSTART:20231105T090000
END:STANDARD
BEGIN:DAYLIGHT
TZOFFSETFROM:-0800
TZOFFSETTO:-0700
TZNAME:PDT
DTSTART:20240310T100000
END:DAYLIGHT
BEGIN:STANDARD
TZOFFSETFROM:-0700
TZOFFSETTO:-0800
TZNAME:PST
DTSTART:20241103T090000
END:STANDARD
BEGIN:DAYLIGHT
TZOFFSETFROM:-0800
TZOFFSETTO:-0700
TZNAME:PDT
DTSTART:20250309T100000
END:DAYLIGHT
BEGIN:STANDARD
TZOFFSETFROM:-0700
TZOFFSETTO:-0800
TZNAME:PST
DTSTART:20251102T090000
END:STANDARD
BEGIN:DAYLIGHT
TZOFFSETFROM:-0800
TZOFFSETTO:-0700
TZNAME:PDT
DTSTART:20260308T100000
END:DAYLIGHT
BEGIN:STANDARD
TZOFFSETFROM:-0700
TZOFFSETTO:-0800
TZNAME:PST
DTSTART:20261101T090000
END:STANDARD
END:VTIMEZONE
BEGIN:VEVENT
DTSTART;TZID=America/Los_Angeles:20250503T203000
DTEND;TZID=America/Los_Angeles:20250503T235900
DTSTAMP:20260423T195556
CREATED:20250111T040449Z
LAST-MODIFIED:20250411T025429Z
UID:10001460-1746304200-1746316740@izprveruke.com
SUMMARY:Bijelo Dugme - St. Louis
DESCRIPTION:Dozivjeti stotu / Bijelo Dugme live in St. Louis. Vise informacija 314-210-3665
URL:https://izprveruke.com/event/bijelo-dugme-st-louis/
LOCATION:Red Flag\, 3040 Locust St.\, St. Louis\, Missouri\, United States
ATTACH;FMTTYPE=image/png:https://izprveruke.com/wp-content/uploads/2023/03/bijelodugme.png
ORGANIZER;CN="Gremy":MAILTO:info@gremy.com
GEO:38.6358526;-90.2233303
X-APPLE-STRUCTURED-LOCATION;VALUE=URI;X-ADDRESS=Red Flag 3040 Locust St. St. Louis Missouri United States;X-APPLE-RADIUS=500;X-TITLE=3040 Locust St.:geo:-90.2233303,38.6358526
END:VEVENT
BEGIN:VEVENT
DTSTART;TZID=America/Los_Angeles:20250502T203000
DTEND;TZID=America/Los_Angeles:20250502T235900
DTSTAMP:20260423T195556
CREATED:20250111T040251Z
LAST-MODIFIED:20251016T202848Z
UID:10001459-1746217800-1746230340@izprveruke.com
SUMMARY:Bijelo Dugme - Toronto
DESCRIPTION:Dozivjeti stotu / Bijelo Dugme live in Toronto. Vise informacija 416-993-2697
URL:https://izprveruke.com/event/bijelo-dugme-toronto/
LOCATION:Rebel\, 11 Polson St.\, Toronto\, ON\, Canada
ATTACH;FMTTYPE=image/png:https://izprveruke.com/wp-content/uploads/2023/03/bijelodugme.png
ORGANIZER;CN="Gremy":MAILTO:info@gremy.com
GEO:43.6407774;-79.3545752
X-APPLE-STRUCTURED-LOCATION;VALUE=URI;X-ADDRESS=Rebel 11 Polson St. Toronto ON Canada;X-APPLE-RADIUS=500;X-TITLE=11 Polson St.:geo:-79.3545752,43.6407774
END:VEVENT
BEGIN:VEVENT
DTSTART;TZID=America/Los_Angeles:20250426T203000
DTEND;TZID=America/Los_Angeles:20250426T235900
DTSTAMP:20260423T195556
CREATED:20250111T035858Z
LAST-MODIFIED:20250411T025356Z
UID:10001458-1745699400-1745711940@izprveruke.com
SUMMARY:Bijelo Dugme - Chicago
DESCRIPTION:Dozivjeti stotu / Bijelo Dugme live in Chicago. Vise informacija 773-644-0600 & 630-504-4282
URL:https://izprveruke.com/event/bijelo-dugme-chicago-2/
LOCATION:Compass Arena\, 625 Joliet Rd\, Wilowbrook\, IL\, United States
CATEGORIES:Koncerti
ATTACH;FMTTYPE=image/png:https://izprveruke.com/wp-content/uploads/2023/03/bijelodugme.png
ORGANIZER;CN="Gremy":MAILTO:info@gremy.com
GEO:41.7453652;-87.9396252
X-APPLE-STRUCTURED-LOCATION;VALUE=URI;X-ADDRESS=Compass Arena 625 Joliet Rd Wilowbrook IL United States;X-APPLE-RADIUS=500;X-TITLE=625 Joliet Rd:geo:-87.9396252,41.7453652
END:VEVENT
BEGIN:VEVENT
DTSTART;TZID=America/Los_Angeles:20231125T203000
DTEND;TZID=America/Los_Angeles:20231125T235900
DTSTAMP:20260423T195556
CREATED:20231021T022836Z
LAST-MODIFIED:20231021T022838Z
UID:10001249-1700944200-1700956740@izprveruke.com
SUMMARY:Zeljko Samardzic - Toronto
DESCRIPTION:Zeljko Samardzic live in Toronto! Ages 19+
URL:https://izprveruke.com/event/zeljko-samardzic-toronto/
LOCATION:The Opera House\, 735 Queen St E\, Toronto\, Ontario\, Canada
CATEGORIES:Koncerti
ATTACH;FMTTYPE=image/jpeg:https://izprveruke.com/wp-content/uploads/2023/02/zeljkosamardzic.jpg
ORGANIZER;CN="Gremy":MAILTO:info@gremy.com
GEO:43.6588139;-79.3487126
X-APPLE-STRUCTURED-LOCATION;VALUE=URI;X-ADDRESS=The Opera House 735 Queen St E Toronto Ontario Canada;X-APPLE-RADIUS=500;X-TITLE=735 Queen St E:geo:-79.3487126,43.6588139
END:VEVENT
BEGIN:VEVENT
DTSTART;TZID=America/Los_Angeles:20230217T203000
DTEND;TZID=America/Los_Angeles:20230217T235900
DTSTAMP:20260423T195556
CREATED:20230111T085455Z
LAST-MODIFIED:20230206T065141Z
UID:10001061-1676665800-1676678340@izprveruke.com
SUMMARY:Zeljko Bebek - Toronto
DESCRIPTION:19+ | Vise informacija 416-993-2697
URL:https://izprveruke.com/event/zeljko-bebek-toronto/
LOCATION:The Opera House\, 735 Queen St E\, Toronto\, Ontario\, Canada
CATEGORIES:Koncerti
ATTACH;FMTTYPE=image/png:https://izprveruke.com/wp-content/uploads/2023/01/zeljkobebek.png
ORGANIZER;CN="Gremy":MAILTO:info@gremy.com
GEO:43.6588139;-79.3487126
X-APPLE-STRUCTURED-LOCATION;VALUE=URI;X-ADDRESS=The Opera House 735 Queen St E Toronto Ontario Canada;X-APPLE-RADIUS=500;X-TITLE=735 Queen St E:geo:-79.3487126,43.6588139
END:VEVENT
BEGIN:VEVENT
DTSTART;TZID=America/Los_Angeles:20220522T200000
DTEND;TZID=America/Los_Angeles:20220522T235900
DTSTAMP:20260423T195556
CREATED:20220415T053357Z
LAST-MODIFIED:20220415T053402Z
UID:10000844-1653249600-1653263940@izprveruke.com
SUMMARY:TANEC - New York
DESCRIPTION:TANEC – The Soul of MacedoniaThe National Folklore Ensemble of North Macedonia\, TANEC\, warmly regarded as cultural ambassadors of their country\, are bringing a colorful and captivating spectacle to North America. As part of an eight city USA and Canada tour\, this national ensemble will treat you to an array of high energy dances telling the ancient stories of Macedonia and the Balkans. More than 40 performers\, including a 10-piece orchestra of traditional Macedonian folk music\, a choir\, singers and more than 20 dancers will take you on a cultural journey like no other. Your eyes\, ears and soul will experience a journey through time\, with a mesmerizing display of passionate music and dance!
URL:https://izprveruke.com/event/tanec-new-york/
LOCATION:BMCC Tribeca Performing Arts Center\, 199 Chambers Street\, New York\, New York\, United States
CATEGORIES:Predstave
ATTACH;FMTTYPE=image/png:https://izprveruke.com/wp-content/uploads/2022/04/tanec.png
ORGANIZER;CN="Gremy":MAILTO:info@gremy.com
GEO:40.7188555;-74.0114555
X-APPLE-STRUCTURED-LOCATION;VALUE=URI;X-ADDRESS=BMCC Tribeca Performing Arts Center 199 Chambers Street New York New York United States;X-APPLE-RADIUS=500;X-TITLE=199 Chambers Street:geo:-74.0114555,40.7188555
END:VEVENT
BEGIN:VEVENT
DTSTART;TZID=America/Los_Angeles:20220520T200000
DTEND;TZID=America/Los_Angeles:20220520T235900
DTSTAMP:20260423T195556
CREATED:20220415T053017Z
LAST-MODIFIED:20220415T053021Z
UID:10000843-1653076800-1653091140@izprveruke.com
SUMMARY:TANEC - Cleveland
DESCRIPTION:TANEC – The Soul of MacedoniaThe National Folklore Ensemble of North Macedonia\, TANEC\, warmly regarded as cultural ambassadors of their country\, are bringing a colorful and captivating spectacle to North America. As part of an eight city USA and Canada tour\, this national ensemble will treat you to an array of high energy dances telling the ancient stories of Macedonia and the Balkans. More than 40 performers\, including a 10-piece orchestra of traditional Macedonian folk music\, a choir\, singers and more than 20 dancers will take you on a cultural journey like no other. Your eyes\, ears and soul will experience a journey through time\, with a mesmerizing display of passionate music and dance!
URL:https://izprveruke.com/event/tanec-cleveland/
LOCATION:Playhouse Square\, 1501 Euclid Avenue\, Cleveland\, Ohio\, United States
CATEGORIES:Predstave
ATTACH;FMTTYPE=image/png:https://izprveruke.com/wp-content/uploads/2022/04/tanec.png
ORGANIZER;CN="Gremy":MAILTO:info@gremy.com
GEO:41.5014035;-81.6808043
X-APPLE-STRUCTURED-LOCATION;VALUE=URI;X-ADDRESS=Playhouse Square 1501 Euclid Avenue Cleveland Ohio United States;X-APPLE-RADIUS=500;X-TITLE=1501 Euclid Avenue:geo:-81.6808043,41.5014035
END:VEVENT
BEGIN:VEVENT
DTSTART;TZID=America/Los_Angeles:20220519T200000
DTEND;TZID=America/Los_Angeles:20220519T235900
DTSTAMP:20260423T195556
CREATED:20220415T052721Z
LAST-MODIFIED:20220415T052730Z
UID:10000842-1652990400-1653004740@izprveruke.com
SUMMARY:TANEC - Pittsburgh
DESCRIPTION:TANEC – The Soul of MacedoniaThe National Folklore Ensemble of North Macedonia\, TANEC\, warmly regarded as cultural ambassadors of their country\, are bringing a colorful and captivating spectacle to North America. As part of an eight city USA and Canada tour\, this national ensemble will treat you to an array of high energy dances telling the ancient stories of Macedonia and the Balkans. More than 40 performers\, including a 10-piece orchestra of traditional Macedonian folk music\, a choir\, singers and more than 20 dancers will take you on a cultural journey like no other. Your eyes\, ears and soul will experience a journey through time\, with a mesmerizing display of passionate music and dance!
URL:https://izprveruke.com/event/tanec-pittsburgh/
LOCATION:Carnegie Museums of Pittsburgh\, 4400 Forbes Ave.\, Pittsburgh\, Pennsylvania\, United States
CATEGORIES:Predstave
ATTACH;FMTTYPE=image/png:https://izprveruke.com/wp-content/uploads/2022/04/tanec.png
ORGANIZER;CN="Gremy":MAILTO:info@gremy.com
GEO:40.4432834;-79.9502225
X-APPLE-STRUCTURED-LOCATION;VALUE=URI;X-ADDRESS=Carnegie Museums of Pittsburgh 4400 Forbes Ave. Pittsburgh Pennsylvania United States;X-APPLE-RADIUS=500;X-TITLE=4400 Forbes Ave.:geo:-79.9502225,40.4432834
END:VEVENT
BEGIN:VEVENT
DTSTART;TZID=America/Los_Angeles:20220516T200000
DTEND;TZID=America/Los_Angeles:20220516T235900
DTSTAMP:20260423T195556
CREATED:20220415T052000Z
LAST-MODIFIED:20220415T052005Z
UID:10000840-1652731200-1652745540@izprveruke.com
SUMMARY:TANEC - Detroit
DESCRIPTION:TANEC – The Soul of MacedoniaThe National Folklore Ensemble of North Macedonia\, TANEC\, warmly regarded as cultural ambassadors of their country\, are bringing a colorful and captivating spectacle to North America. As part of an eight city USA and Canada tour\, this national ensemble will treat you to an array of high energy dances telling the ancient stories of Macedonia and the Balkans. More than 40 performers\, including a 10-piece orchestra of traditional Macedonian folk music\, a choir\, singers and more than 20 dancers will take you on a cultural journey like no other. Your eyes\, ears and soul will experience a journey through time\, with a mesmerizing display of passionate music and dance!
URL:https://izprveruke.com/event/tanec-detroit/
LOCATION:Music Hall Center\, 350 Madison\, Detroit\, Michigan\, United States
CATEGORIES:Predstave
ATTACH;FMTTYPE=image/png:https://izprveruke.com/wp-content/uploads/2022/04/tanec.png
ORGANIZER;CN="Gremy":MAILTO:info@gremy.com
GEO:42.3370097;-83.0457448
X-APPLE-STRUCTURED-LOCATION;VALUE=URI;X-ADDRESS=Music Hall Center 350 Madison Detroit Michigan United States;X-APPLE-RADIUS=500;X-TITLE=350 Madison:geo:-83.0457448,42.3370097
END:VEVENT
BEGIN:VEVENT
DTSTART;TZID=America/Los_Angeles:20220514T200000
DTEND;TZID=America/Los_Angeles:20220514T235900
DTSTAMP:20260423T195556
CREATED:20220415T051610Z
LAST-MODIFIED:20220415T051614Z
UID:10000839-1652558400-1652572740@izprveruke.com
SUMMARY:TANEC - Toronto
DESCRIPTION:TANEC – The Soul of MacedoniaThe National Folklore Ensemble of North Macedonia\, TANEC\, warmly regarded as cultural ambassadors of their country\, are bringing a colorful and captivating spectacle to North America. As part of an eight city USA and Canada tour\, this national ensemble will treat you to an array of high energy dances telling the ancient stories of Macedonia and the Balkans. More than 40 performers\, including a 10-piece orchestra of traditional Macedonian folk music\, a choir\, singers and more than 20 dancers will take you on a cultural journey like no other. Your eyes\, ears and soul will experience a journey through time\, with a mesmerizing display of passionate music and dance!
URL:https://izprveruke.com/event/tanec-toronto/
LOCATION:Metro Toronto Convention Centre\, 255 Front St W\, Toronto\, Ontario\, Canada
CATEGORIES:Predstave
ATTACH;FMTTYPE=image/png:https://izprveruke.com/wp-content/uploads/2022/04/tanec.png
ORGANIZER;CN="Gremy":MAILTO:info@gremy.com
GEO:43.6439138;-79.3863269
X-APPLE-STRUCTURED-LOCATION;VALUE=URI;X-ADDRESS=Metro Toronto Convention Centre 255 Front St W Toronto Ontario Canada;X-APPLE-RADIUS=500;X-TITLE=255 Front St W:geo:-79.3863269,43.6439138
END:VEVENT
BEGIN:VEVENT
DTSTART;TZID=America/Los_Angeles:20220512T203000
DTEND;TZID=America/Los_Angeles:20220512T235900
DTSTAMP:20260423T195556
CREATED:20220415T051259Z
LAST-MODIFIED:20220415T051303Z
UID:10000838-1652387400-1652399940@izprveruke.com
SUMMARY:TANEC - Ottawa
DESCRIPTION:TANEC – The Soul of MacedoniaThe National Folklore Ensemble of North Macedonia\, TANEC\, warmly regarded as cultural ambassadors of their country\, are bringing a colorful and captivating spectacle to North America. As part of an eight city USA and Canada tour\, this national ensemble will treat you to an array of high energy dances telling the ancient stories of Macedonia and the Balkans. More than 40 performers\, including a 10-piece orchestra of traditional Macedonian folk music\, a choir\, singers and more than 20 dancers will take you on a cultural journey like no other. Your eyes\, ears and soul will experience a journey through time\, with a mesmerizing display of passionate music and dance!
URL:https://izprveruke.com/event/tanec-ottawa/
LOCATION:Algonquin Commons Theatre\, 1385 Woodroffe Avenue\, Building E\, Ottawa\, Ontario\, Canada
CATEGORIES:Predstave
ATTACH;FMTTYPE=image/png:https://izprveruke.com/wp-content/uploads/2022/04/tanec.png
ORGANIZER;CN="Gremy":MAILTO:info@gremy.com
GEO:45.3516015;-75.754946
X-APPLE-STRUCTURED-LOCATION;VALUE=URI;X-ADDRESS=Algonquin Commons Theatre 1385 Woodroffe Avenue Building E Ottawa Ontario Canada;X-APPLE-RADIUS=500;X-TITLE=1385 Woodroffe Avenue\, Building E:geo:-75.754946,45.3516015
END:VEVENT
BEGIN:VEVENT
DTSTART;TZID=America/Los_Angeles:20220511T200000
DTEND;TZID=America/Los_Angeles:20220511T235900
DTSTAMP:20260423T195556
CREATED:20220415T050849Z
LAST-MODIFIED:20220415T204349Z
UID:10000837-1652299200-1652313540@izprveruke.com
SUMMARY:TANEC - Montreal
DESCRIPTION:TANEC – The Soul of MacedoniaThe National Folklore Ensemble of North Macedonia\, TANEC\, warmly regarded as cultural ambassadors of their country\, are bringing a colorful and captivating spectacle to North America. As part of an eight city USA and Canada tour\, this national ensemble will treat you to an array of high energy dances telling the ancient stories of Macedonia and the Balkans. More than 40 performers\, including a 10-piece orchestra of traditional Macedonian folk music\, a choir\, singers and more than 20 dancers will take you on a cultural journey like no other. Your eyes\, ears and soul will experience a journey through time\, with a mesmerizing display of passionate music and dance!
URL:https://izprveruke.com/event/tanec-montreal/
LOCATION:Monument National\, 1182 St Laurent Blvd.\, Montreal\, Quebec\, Canada
CATEGORIES:Predstave
ATTACH;FMTTYPE=image/png:https://izprveruke.com/wp-content/uploads/2022/04/tanec.png
ORGANIZER;CN="Gremy":MAILTO:info@gremy.com
GEO:45.509129;-73.562572
X-APPLE-STRUCTURED-LOCATION;VALUE=URI;X-ADDRESS=Monument National 1182 St Laurent Blvd. Montreal Quebec Canada;X-APPLE-RADIUS=500;X-TITLE=1182 St Laurent Blvd.:geo:-73.562572,45.509129
END:VEVENT
END:VCALENDAR