BEGIN:VCALENDAR
VERSION:2.0
PRODID:-//Iz Prve Ruke - Koncerti u Americi i Kanadi | Lokalna Dešavanja - ECPv6.15.20//NONSGML v1.0//EN
CALSCALE:GREGORIAN
METHOD:PUBLISH
X-ORIGINAL-URL:https://izprveruke.com
X-WR-CALDESC:Events for Iz Prve Ruke - Koncerti u Americi i Kanadi | Lokalna Dešavanja
REFRESH-INTERVAL;VALUE=DURATION:PT1H
X-Robots-Tag:noindex
X-PUBLISHED-TTL:PT1H
BEGIN:VTIMEZONE
TZID:America/Los_Angeles
BEGIN:DAYLIGHT
TZOFFSETFROM:-0800
TZOFFSETTO:-0700
TZNAME:PDT
DTSTART:20210314T100000
END:DAYLIGHT
BEGIN:STANDARD
TZOFFSETFROM:-0700
TZOFFSETTO:-0800
TZNAME:PST
DTSTART:20211107T090000
END:STANDARD
BEGIN:DAYLIGHT
TZOFFSETFROM:-0800
TZOFFSETTO:-0700
TZNAME:PDT
DTSTART:20220313T100000
END:DAYLIGHT
BEGIN:STANDARD
TZOFFSETFROM:-0700
TZOFFSETTO:-0800
TZNAME:PST
DTSTART:20221106T090000
END:STANDARD
BEGIN:DAYLIGHT
TZOFFSETFROM:-0800
TZOFFSETTO:-0700
TZNAME:PDT
DTSTART:20230312T100000
END:DAYLIGHT
BEGIN:STANDARD
TZOFFSETFROM:-0700
TZOFFSETTO:-0800
TZNAME:PST
DTSTART:20231105T090000
END:STANDARD
BEGIN:DAYLIGHT
TZOFFSETFROM:-0800
TZOFFSETTO:-0700
TZNAME:PDT
DTSTART:20240310T100000
END:DAYLIGHT
BEGIN:STANDARD
TZOFFSETFROM:-0700
TZOFFSETTO:-0800
TZNAME:PST
DTSTART:20241103T090000
END:STANDARD
END:VTIMEZONE
BEGIN:VEVENT
DTSTART;TZID=America/Los_Angeles:20231101T203000
DTEND;TZID=America/Los_Angeles:20231101T235900
DTSTAMP:20260423T133624
CREATED:20230918T054644Z
LAST-MODIFIED:20230918T054646Z
UID:10001229-1698870600-1698883140@izprveruke.com
SUMMARY:Mile Kitic - Las Vegas
DESCRIPTION:Mile Kitic live in Las Vegas. Vise informacija 702-818-3613
URL:https://izprveruke.com/event/mile-kitic-las-vegas/
LOCATION:Cafe Derbi\, 5920 W. Flamingo Rd.\, Las Vegas\, NV\, United States
CATEGORIES:Koncerti
ATTACH;FMTTYPE=image/jpeg:https://izprveruke.com/wp-content/uploads/2023/09/milekitic.jpg
GEO:36.1154263;-115.2221234
X-APPLE-STRUCTURED-LOCATION;VALUE=URI;X-ADDRESS=Cafe Derbi 5920 W. Flamingo Rd. Las Vegas NV United States;X-APPLE-RADIUS=500;X-TITLE=5920 W. Flamingo Rd.:geo:-115.2221234,36.1154263
END:VEVENT
BEGIN:VEVENT
DTSTART;TZID=America/Los_Angeles:20231011T203000
DTEND;TZID=America/Los_Angeles:20231011T235900
DTSTAMP:20260423T133624
CREATED:20230724T023119Z
LAST-MODIFIED:20230724T023125Z
UID:10001203-1697056200-1697068740@izprveruke.com
SUMMARY:Emir Djulovic - Las Vegas
DESCRIPTION:Emir Djulovic live in La$ Vega$.  \n\n\n\nVise informacija 702-807-8658
URL:https://izprveruke.com/event/emir-djulovic-las-vegas/
LOCATION:Cafe Derbi\, 5920 W. Flamingo Rd.\, Las Vegas\, NV\, United States
CATEGORIES:Koncerti
ATTACH;FMTTYPE=image/jpeg:https://izprveruke.com/wp-content/uploads/2023/07/emirdjulovic.jpg
GEO:36.1154263;-115.2221234
X-APPLE-STRUCTURED-LOCATION;VALUE=URI;X-ADDRESS=Cafe Derbi 5920 W. Flamingo Rd. Las Vegas NV United States;X-APPLE-RADIUS=500;X-TITLE=5920 W. Flamingo Rd.:geo:-115.2221234,36.1154263
END:VEVENT
BEGIN:VEVENT
DTSTART;TZID=America/Los_Angeles:20230927T203000
DTEND;TZID=America/Los_Angeles:20230927T235900
DTSTAMP:20260423T133624
CREATED:20230722T023600Z
LAST-MODIFIED:20230915T022824Z
UID:10001192-1695846600-1695859140@izprveruke.com
SUMMARY:Tea Tairovic - Las Vegas
DESCRIPTION:Tea Tairovic live in La$ Vega$. Vise informacija 702-818-3613
URL:https://izprveruke.com/event/tea-tairovic-las-vegas/
LOCATION:Cafe Derbi\, 5920 W. Flamingo Rd.\, Las Vegas\, NV\, United States
CATEGORIES:Koncerti
ATTACH;FMTTYPE=image/jpeg:https://izprveruke.com/wp-content/uploads/2023/07/teatairovic.jpg
GEO:36.1154263;-115.2221234
X-APPLE-STRUCTURED-LOCATION;VALUE=URI;X-ADDRESS=Cafe Derbi 5920 W. Flamingo Rd. Las Vegas NV United States;X-APPLE-RADIUS=500;X-TITLE=5920 W. Flamingo Rd.:geo:-115.2221234,36.1154263
END:VEVENT
BEGIN:VEVENT
DTSTART;TZID=America/Los_Angeles:20230913T203000
DTEND;TZID=America/Los_Angeles:20230913T235900
DTSTAMP:20260423T133624
CREATED:20230828T033326Z
LAST-MODIFIED:20230828T033335Z
UID:10001221-1694637000-1694649540@izprveruke.com
SUMMARY:Zvezde Granda - Las Vegas
DESCRIPTION:Zvezde Granda Isak Sabanovic & Nenad Osmanovic live in Las Vegas.
URL:https://izprveruke.com/event/zvezde-granda-las-vegas/
LOCATION:Cafe Derbi\, 5920 W. Flamingo Rd.\, Las Vegas\, NV\, United States
CATEGORIES:Koncerti
ATTACH;FMTTYPE=image/jpeg:https://izprveruke.com/wp-content/uploads/2023/08/isak_nenad.jpg
GEO:36.1154263;-115.2221234
X-APPLE-STRUCTURED-LOCATION;VALUE=URI;X-ADDRESS=Cafe Derbi 5920 W. Flamingo Rd. Las Vegas NV United States;X-APPLE-RADIUS=500;X-TITLE=5920 W. Flamingo Rd.:geo:-115.2221234,36.1154263
END:VEVENT
BEGIN:VEVENT
DTSTART;TZID=America/Los_Angeles:20221002T203000
DTEND;TZID=America/Los_Angeles:20221002T235900
DTSTAMP:20260423T133624
CREATED:20220920T034526Z
LAST-MODIFIED:20220920T034530Z
UID:10000914-1664742600-1664755140@izprveruke.com
SUMMARY:Lexington - Las Vegas
DESCRIPTION:Lexington live in La$ Vega$
URL:https://izprveruke.com/event/lexington-las-vegas/
LOCATION:Cafe Derbi\, 5920 W. Flamingo Rd.\, Las Vegas\, NV\, United States
CATEGORIES:Koncerti
ATTACH;FMTTYPE=image/jpeg:https://izprveruke.com/wp-content/uploads/2022/09/lexington-band-e1662965730654.jpg
GEO:36.1154263;-115.2221234
X-APPLE-STRUCTURED-LOCATION;VALUE=URI;X-ADDRESS=Cafe Derbi 5920 W. Flamingo Rd. Las Vegas NV United States;X-APPLE-RADIUS=500;X-TITLE=5920 W. Flamingo Rd.:geo:-115.2221234,36.1154263
END:VEVENT
BEGIN:VEVENT
DTSTART;TZID=America/Los_Angeles:20220216T203000
DTEND;TZID=America/Los_Angeles:20220216T235900
DTSTAMP:20260423T133624
CREATED:20220208T072953Z
LAST-MODIFIED:20220208T075902Z
UID:10000778-1645043400-1645055940@izprveruke.com
SUMMARY:Emina\, Fatmir\, Marina - Las Vegas
DESCRIPTION:
URL:https://izprveruke.com/event/emina-fatmir-marina-las-vegas/
LOCATION:Cafe Derbi\, 5920 W. Flamingo Rd.\, Las Vegas\, NV\, United States
CATEGORIES:Koncerti
ATTACH;FMTTYPE=image/jpeg:https://izprveruke.com/wp-content/uploads/2022/02/emina_fatmir_marina.jpg
GEO:36.1154263;-115.2221234
X-APPLE-STRUCTURED-LOCATION;VALUE=URI;X-ADDRESS=Cafe Derbi 5920 W. Flamingo Rd. Las Vegas NV United States;X-APPLE-RADIUS=500;X-TITLE=5920 W. Flamingo Rd.:geo:-115.2221234,36.1154263
END:VEVENT
BEGIN:VEVENT
DTSTART;TZID=America/Los_Angeles:20220209T203000
DTEND;TZID=America/Los_Angeles:20220209T235900
DTSTAMP:20260423T133624
CREATED:20220128T081838Z
LAST-MODIFIED:20220208T074205Z
UID:10000743-1644438600-1644451140@izprveruke.com
SUMMARY:Tanja Savic - Las Vegas
DESCRIPTION:
URL:https://izprveruke.com/event/tanja-savic-las-vegas/
LOCATION:Cafe Derbi\, 5920 W. Flamingo Rd.\, Las Vegas\, NV\, United States
CATEGORIES:Koncerti
ATTACH;FMTTYPE=image/jpeg:https://izprveruke.com/wp-content/uploads/2022/01/tanjasavic.jpg
GEO:36.1154263;-115.2221234
X-APPLE-STRUCTURED-LOCATION;VALUE=URI;X-ADDRESS=Cafe Derbi 5920 W. Flamingo Rd. Las Vegas NV United States;X-APPLE-RADIUS=500;X-TITLE=5920 W. Flamingo Rd.:geo:-115.2221234,36.1154263
END:VEVENT
END:VCALENDAR