BEGIN:VCALENDAR
VERSION:2.0
PRODID:-//Iz Prve Ruke - Koncerti u Americi i Kanadi | Lokalna Dešavanja - ECPv6.15.20//NONSGML v1.0//EN
CALSCALE:GREGORIAN
METHOD:PUBLISH
X-ORIGINAL-URL:https://izprveruke.com
X-WR-CALDESC:Events for Iz Prve Ruke - Koncerti u Americi i Kanadi | Lokalna Dešavanja
REFRESH-INTERVAL;VALUE=DURATION:PT1H
X-Robots-Tag:noindex
X-PUBLISHED-TTL:PT1H
BEGIN:VTIMEZONE
TZID:America/Los_Angeles
BEGIN:DAYLIGHT
TZOFFSETFROM:-0800
TZOFFSETTO:-0700
TZNAME:PDT
DTSTART:20250309T100000
END:DAYLIGHT
BEGIN:STANDARD
TZOFFSETFROM:-0700
TZOFFSETTO:-0800
TZNAME:PST
DTSTART:20251102T090000
END:STANDARD
BEGIN:DAYLIGHT
TZOFFSETFROM:-0800
TZOFFSETTO:-0700
TZNAME:PDT
DTSTART:20260308T100000
END:DAYLIGHT
BEGIN:STANDARD
TZOFFSETFROM:-0700
TZOFFSETTO:-0800
TZNAME:PST
DTSTART:20261101T090000
END:STANDARD
BEGIN:DAYLIGHT
TZOFFSETFROM:-0800
TZOFFSETTO:-0700
TZNAME:PDT
DTSTART:20270314T100000
END:DAYLIGHT
BEGIN:STANDARD
TZOFFSETFROM:-0700
TZOFFSETTO:-0800
TZNAME:PST
DTSTART:20271107T090000
END:STANDARD
END:VTIMEZONE
BEGIN:VEVENT
DTSTART;TZID=America/Los_Angeles:20260130T220000
DTEND;TZID=America/Los_Angeles:20260130T235900
DTSTAMP:20260423T143716
CREATED:20260126T054240Z
LAST-MODIFIED:20260126T054259Z
UID:10001584-1769810400-1769817540@izprveruke.com
SUMMARY:Winter Party - Detroit
DESCRIPTION:Stojne Nikolova\, Mitko\, Angel & Boban. A night you don’t want to miss!
URL:https://izprveruke.com/event/winter-party-detroit/
LOCATION:Blind Owl\, 511 S Main St.\, Royal Oak\, Michigan\, United States
CATEGORIES:Žurke
ATTACH;FMTTYPE=image/png:https://izprveruke.com/wp-content/uploads/2026/01/winterparty.png
GEO:42.4860864;-83.1437529
X-APPLE-STRUCTURED-LOCATION;VALUE=URI;X-ADDRESS=Blind Owl 511 S Main St. Royal Oak Michigan United States;X-APPLE-RADIUS=500;X-TITLE=511 S Main St.:geo:-83.1437529,42.4860864
END:VEVENT
END:VCALENDAR