BEGIN:VCALENDAR
VERSION:2.0
PRODID:-//Iz Prve Ruke - Koncerti u Americi i Kanadi | Lokalna Dešavanja - ECPv6.15.20//NONSGML v1.0//EN
CALSCALE:GREGORIAN
METHOD:PUBLISH
X-ORIGINAL-URL:https://izprveruke.com
X-WR-CALDESC:Events for Iz Prve Ruke - Koncerti u Americi i Kanadi | Lokalna Dešavanja
REFRESH-INTERVAL;VALUE=DURATION:PT1H
X-Robots-Tag:noindex
X-PUBLISHED-TTL:PT1H
BEGIN:VTIMEZONE
TZID:America/Los_Angeles
BEGIN:DAYLIGHT
TZOFFSETFROM:-0800
TZOFFSETTO:-0700
TZNAME:PDT
DTSTART:20240310T100000
END:DAYLIGHT
BEGIN:STANDARD
TZOFFSETFROM:-0700
TZOFFSETTO:-0800
TZNAME:PST
DTSTART:20241103T090000
END:STANDARD
BEGIN:DAYLIGHT
TZOFFSETFROM:-0800
TZOFFSETTO:-0700
TZNAME:PDT
DTSTART:20250309T100000
END:DAYLIGHT
BEGIN:STANDARD
TZOFFSETFROM:-0700
TZOFFSETTO:-0800
TZNAME:PST
DTSTART:20251102T090000
END:STANDARD
BEGIN:DAYLIGHT
TZOFFSETFROM:-0800
TZOFFSETTO:-0700
TZNAME:PDT
DTSTART:20260308T100000
END:DAYLIGHT
BEGIN:STANDARD
TZOFFSETFROM:-0700
TZOFFSETTO:-0800
TZNAME:PST
DTSTART:20261101T090000
END:STANDARD
END:VTIMEZONE
BEGIN:VEVENT
DTSTART;TZID=America/Los_Angeles:20250502T203000
DTEND;TZID=America/Los_Angeles:20250502T235900
DTSTAMP:20260424T024432
CREATED:20250111T040251Z
LAST-MODIFIED:20251016T202848Z
UID:10001459-1746217800-1746230340@izprveruke.com
SUMMARY:Bijelo Dugme - Toronto
DESCRIPTION:Dozivjeti stotu / Bijelo Dugme live in Toronto. Vise informacija 416-993-2697
URL:https://izprveruke.com/event/bijelo-dugme-toronto/
LOCATION:Rebel\, 11 Polson St.\, Toronto\, ON\, Canada
ATTACH;FMTTYPE=image/png:https://izprveruke.com/wp-content/uploads/2023/03/bijelodugme.png
ORGANIZER;CN="Gremy":MAILTO:info@gremy.com
GEO:43.6407774;-79.3545752
X-APPLE-STRUCTURED-LOCATION;VALUE=URI;X-ADDRESS=Rebel 11 Polson St. Toronto ON Canada;X-APPLE-RADIUS=500;X-TITLE=11 Polson St.:geo:-79.3545752,43.6407774
END:VEVENT
BEGIN:VEVENT
DTSTART;TZID=America/Los_Angeles:20250503T203000
DTEND;TZID=America/Los_Angeles:20250503T235900
DTSTAMP:20260424T024432
CREATED:20250111T040449Z
LAST-MODIFIED:20250411T025429Z
UID:10001460-1746304200-1746316740@izprveruke.com
SUMMARY:Bijelo Dugme - St. Louis
DESCRIPTION:Dozivjeti stotu / Bijelo Dugme live in St. Louis. Vise informacija 314-210-3665
URL:https://izprveruke.com/event/bijelo-dugme-st-louis/
LOCATION:Red Flag\, 3040 Locust St.\, St. Louis\, Missouri\, United States
ATTACH;FMTTYPE=image/png:https://izprveruke.com/wp-content/uploads/2023/03/bijelodugme.png
ORGANIZER;CN="Gremy":MAILTO:info@gremy.com
GEO:38.6358526;-90.2233303
X-APPLE-STRUCTURED-LOCATION;VALUE=URI;X-ADDRESS=Red Flag 3040 Locust St. St. Louis Missouri United States;X-APPLE-RADIUS=500;X-TITLE=3040 Locust St.:geo:-90.2233303,38.6358526
END:VEVENT
END:VCALENDAR