BEGIN:VCALENDAR
VERSION:2.0
PRODID:-//Iz Prve Ruke - Koncerti u Americi i Kanadi | Lokalna Dešavanja - ECPv6.15.20//NONSGML v1.0//EN
CALSCALE:GREGORIAN
METHOD:PUBLISH
X-ORIGINAL-URL:https://izprveruke.com
X-WR-CALDESC:Events for Iz Prve Ruke - Koncerti u Americi i Kanadi | Lokalna Dešavanja
REFRESH-INTERVAL;VALUE=DURATION:PT1H
X-Robots-Tag:noindex
X-PUBLISHED-TTL:PT1H
BEGIN:VTIMEZONE
TZID:America/Los_Angeles
BEGIN:DAYLIGHT
TZOFFSETFROM:-0800
TZOFFSETTO:-0700
TZNAME:PDT
DTSTART:20240310T100000
END:DAYLIGHT
BEGIN:STANDARD
TZOFFSETFROM:-0700
TZOFFSETTO:-0800
TZNAME:PST
DTSTART:20241103T090000
END:STANDARD
BEGIN:DAYLIGHT
TZOFFSETFROM:-0800
TZOFFSETTO:-0700
TZNAME:PDT
DTSTART:20250309T100000
END:DAYLIGHT
BEGIN:STANDARD
TZOFFSETFROM:-0700
TZOFFSETTO:-0800
TZNAME:PST
DTSTART:20251102T090000
END:STANDARD
BEGIN:DAYLIGHT
TZOFFSETFROM:-0800
TZOFFSETTO:-0700
TZNAME:PDT
DTSTART:20260308T100000
END:DAYLIGHT
BEGIN:STANDARD
TZOFFSETFROM:-0700
TZOFFSETTO:-0800
TZNAME:PST
DTSTART:20261101T090000
END:STANDARD
END:VTIMEZONE
BEGIN:VEVENT
DTSTART;TZID=America/Los_Angeles:20250401T193000
DTEND;TZID=America/Los_Angeles:20250401T213000
DTSTAMP:20260424T063420
CREATED:20250325T232258Z
LAST-MODIFIED:20250325T232300Z
UID:10001496-1743535800-1743543000@izprveruke.com
SUMMARY:The Balkan Brain - Vancouver
DESCRIPTION:Pedja Bajović\, pionir i veteran domaće scene komedije s nogu zaokružuje 20 godina karijere turnejom\, koja je bila krenula kroz osam glavnih ex-YU gradova! Posle ex-YU i USA turneje dolazi i u KANADU\, pa će svoju predstavu NAJBOLJI’ sat i kusur našoj kanadskoj publici ponuditi od 1. aprila.
URL:https://izprveruke.com/event/the-balkan-brain-vancouver/
LOCATION:Burnaby Hall\, 7837 Canada Way\, Burnaby\, BC\, Canada
CATEGORIES:Predstave
ATTACH;FMTTYPE=image/png:https://izprveruke.com/wp-content/uploads/2025/03/pedjabajovic.png
GEO:49.2175877;-122.9330962
X-APPLE-STRUCTURED-LOCATION;VALUE=URI;X-ADDRESS=Burnaby Hall 7837 Canada Way Burnaby BC Canada;X-APPLE-RADIUS=500;X-TITLE=7837 Canada Way:geo:-122.9330962,49.2175877
END:VEVENT
BEGIN:VEVENT
DTSTART;TZID=America/Los_Angeles:20250402T193000
DTEND;TZID=America/Los_Angeles:20250402T213000
DTSTAMP:20260424T063420
CREATED:20250325T232117Z
LAST-MODIFIED:20250325T232119Z
UID:10001495-1743622200-1743629400@izprveruke.com
SUMMARY:The Balkan Brain - Ottawa
DESCRIPTION:Pedja Bajović\, pionir i veteran domaće scene komedije s nogu zaokružuje 20 godina karijere turnejom\, koja je bila krenula kroz osam glavnih ex-YU gradova! Posle ex-YU i USA turneje dolazi i u KANADU\, pa će svoju predstavu NAJBOLJI’ sat i kusur našoj kanadskoj publici ponuditi od 1. aprila.
URL:https://izprveruke.com/event/the-balkan-brain-ottawa/
LOCATION:Laugh Lounge\, 61 York St\, Ottawa\, ON\, Canada
CATEGORIES:Predstave
ATTACH;FMTTYPE=image/png:https://izprveruke.com/wp-content/uploads/2025/03/pedjabajovic.png
GEO:45.4286847;-75.692452
X-APPLE-STRUCTURED-LOCATION;VALUE=URI;X-ADDRESS=Laugh Lounge 61 York St Ottawa ON Canada;X-APPLE-RADIUS=500;X-TITLE=61 York St:geo:-75.692452,45.4286847
END:VEVENT
BEGIN:VEVENT
DTSTART;TZID=America/Los_Angeles:20250403T193000
DTEND;TZID=America/Los_Angeles:20250403T213000
DTSTAMP:20260424T063420
CREATED:20250325T232029Z
LAST-MODIFIED:20250325T232030Z
UID:10001494-1743708600-1743715800@izprveruke.com
SUMMARY:The Balkan Brain - Montreal
DESCRIPTION:Pedja Bajović\, pionir i veteran domaće scene komedije s nogu zaokružuje 20 godina karijere turnejom\, koja je bila krenula kroz osam glavnih ex-YU gradova! Posle ex-YU i USA turneje dolazi i u KANADU\, pa će svoju predstavu NAJBOLJI’ sat i kusur našoj kanadskoj publici ponuditi od 1. aprila.
URL:https://izprveruke.com/event/the-balkan-brain-montreal/
LOCATION:Theatre La Comedie de Montreal\, 1113 Boul. de Maisonneuve E\, Montreal\, QC\, Canada
CATEGORIES:Predstave
ATTACH;FMTTYPE=image/png:https://izprveruke.com/wp-content/uploads/2025/03/pedjabajovic.png
GEO:45.5185863;-73.5583709
X-APPLE-STRUCTURED-LOCATION;VALUE=URI;X-ADDRESS=Theatre La Comedie de Montreal 1113 Boul. de Maisonneuve E Montreal QC Canada;X-APPLE-RADIUS=500;X-TITLE=1113 Boul. de Maisonneuve E:geo:-73.5583709,45.5185863
END:VEVENT
BEGIN:VEVENT
DTSTART;TZID=America/Los_Angeles:20250404T193000
DTEND;TZID=America/Los_Angeles:20250404T213000
DTSTAMP:20260424T063420
CREATED:20250325T231948Z
LAST-MODIFIED:20250325T231949Z
UID:10001493-1743795000-1743802200@izprveruke.com
SUMMARY:The Balkan Brain - Kitchener
DESCRIPTION:Pedja Bajović\, pionir i veteran domaće scene komedije s nogu zaokružuje 20 godina karijere turnejom\, koja je bila krenula kroz osam glavnih ex-YU gradova! Posle ex-YU i USA turneje dolazi i u KANADU\, pa će svoju predstavu NAJBOLJI’ sat i kusur našoj kanadskoj publici ponuditi od 1. aprila.
URL:https://izprveruke.com/event/the-balkan-brain-kitchener/
LOCATION:Apollo Cinema\, 141 Ontario St. N.\, Kitchener\, ON\, Canada
CATEGORIES:Predstave
ATTACH;FMTTYPE=image/png:https://izprveruke.com/wp-content/uploads/2025/03/pedjabajovic.png
GEO:43.4519067;-80.4888986
X-APPLE-STRUCTURED-LOCATION;VALUE=URI;X-ADDRESS=Apollo Cinema 141 Ontario St. N. Kitchener ON Canada;X-APPLE-RADIUS=500;X-TITLE=141 Ontario St. N.:geo:-80.4888986,43.4519067
END:VEVENT
BEGIN:VEVENT
DTSTART;TZID=America/Los_Angeles:20250404T203000
DTEND;TZID=America/Los_Angeles:20250404T235900
DTSTAMP:20260424T063420
CREATED:20250312T012454Z
LAST-MODIFIED:20250312T012456Z
UID:10001487-1743798600-1743811140@izprveruke.com
SUMMARY:Sejla Zonic - Minneapolis
DESCRIPTION:Sejla Zonic live in Minneapolis. Vise informacija 763-670-5712
URL:https://izprveruke.com/event/sejla-zonic-minneapolis-2/
LOCATION:Coon Rapids VFW\, 1919 Coon Rapids Blvd. NW\, Coon Rapids\, Minnesota\, United States
ATTACH;FMTTYPE=image/png:https://izprveruke.com/wp-content/uploads/2025/03/sejlazonic.png
GEO:45.160208;-93.3164049
X-APPLE-STRUCTURED-LOCATION;VALUE=URI;X-ADDRESS=Coon Rapids VFW 1919 Coon Rapids Blvd. NW Coon Rapids Minnesota United States;X-APPLE-RADIUS=500;X-TITLE=1919 Coon Rapids Blvd. NW:geo:-93.3164049,45.160208
END:VEVENT
BEGIN:VEVENT
DTSTART;TZID=America/Los_Angeles:20250405T203000
DTEND;TZID=America/Los_Angeles:20250405T235900
DTSTAMP:20260424T063420
CREATED:20250312T012220Z
LAST-MODIFIED:20250312T012331Z
UID:10001486-1743885000-1743897540@izprveruke.com
SUMMARY:Sejla Zonic - Chicago
DESCRIPTION:Sejla Zonic live in Chicago – VIP CONCERT. Vise informacija 312-731-8708
URL:https://izprveruke.com/event/sejla-zonic-minneapolis/
LOCATION:Imperia Lounge\, 2610 W Peterson Ave.\, Chicago\, Illinois\, United States
ATTACH;FMTTYPE=image/png:https://izprveruke.com/wp-content/uploads/2025/03/sejlazonic.png
GEO:41.9906608;-87.6951336
X-APPLE-STRUCTURED-LOCATION;VALUE=URI;X-ADDRESS=Imperia Lounge 2610 W Peterson Ave. Chicago Illinois United States;X-APPLE-RADIUS=500;X-TITLE=2610 W Peterson Ave.:geo:-87.6951336,41.9906608
END:VEVENT
BEGIN:VEVENT
DTSTART;TZID=America/Los_Angeles:20250406T193000
DTEND;TZID=America/Los_Angeles:20250406T213000
DTSTAMP:20260424T063420
CREATED:20250325T231032Z
LAST-MODIFIED:20250325T231314Z
UID:10001492-1743967800-1743975000@izprveruke.com
SUMMARY:The Balkan Brain - Toronto
DESCRIPTION:Pedja Bajović\, pionir i veteran domaće scene komedije s nogu zaokružuje 20 godina karijere turnejom\, koja je bila krenula kroz osam glavnih ex-YU gradova! Posle ex-YU i USA turneje dolazi i u KANADU\, pa će svoju predstavu NAJBOLJI’ sat i kusur našoj kanadskoj publici ponuditi od 1. aprila.
URL:https://izprveruke.com/event/the-balkan-brain-toronto/
LOCATION:Isabel Bader Theatre\, 93 Charles Street West\, Toronto\, Toronto\, M5S 1K6\, Canada
CATEGORIES:Predstave
ATTACH;FMTTYPE=image/png:https://izprveruke.com/wp-content/uploads/2025/03/pedjabajovic.png
GEO:43.6673237;-79.3925648
X-APPLE-STRUCTURED-LOCATION;VALUE=URI;X-ADDRESS=Isabel Bader Theatre 93 Charles Street West Toronto Toronto M5S 1K6 Canada;X-APPLE-RADIUS=500;X-TITLE=93 Charles Street West:geo:-79.3925648,43.6673237
END:VEVENT
END:VCALENDAR