BEGIN:VCALENDAR
VERSION:2.0
PRODID:-//Iz Prve Ruke - Koncerti u Americi i Kanadi | Lokalna Dešavanja - ECPv6.15.20//NONSGML v1.0//EN
CALSCALE:GREGORIAN
METHOD:PUBLISH
X-ORIGINAL-URL:https://izprveruke.com
X-WR-CALDESC:Events for Iz Prve Ruke - Koncerti u Americi i Kanadi | Lokalna Dešavanja
REFRESH-INTERVAL;VALUE=DURATION:PT1H
X-Robots-Tag:noindex
X-PUBLISHED-TTL:PT1H
BEGIN:VTIMEZONE
TZID:America/Los_Angeles
BEGIN:DAYLIGHT
TZOFFSETFROM:-0800
TZOFFSETTO:-0700
TZNAME:PDT
DTSTART:20240310T100000
END:DAYLIGHT
BEGIN:STANDARD
TZOFFSETFROM:-0700
TZOFFSETTO:-0800
TZNAME:PST
DTSTART:20241103T090000
END:STANDARD
BEGIN:DAYLIGHT
TZOFFSETFROM:-0800
TZOFFSETTO:-0700
TZNAME:PDT
DTSTART:20250309T100000
END:DAYLIGHT
BEGIN:STANDARD
TZOFFSETFROM:-0700
TZOFFSETTO:-0800
TZNAME:PST
DTSTART:20251102T090000
END:STANDARD
BEGIN:DAYLIGHT
TZOFFSETFROM:-0800
TZOFFSETTO:-0700
TZNAME:PDT
DTSTART:20260308T100000
END:DAYLIGHT
BEGIN:STANDARD
TZOFFSETFROM:-0700
TZOFFSETTO:-0800
TZNAME:PST
DTSTART:20261101T090000
END:STANDARD
END:VTIMEZONE
BEGIN:VEVENT
DTSTART;TZID=America/Los_Angeles:20250328T193000
DTEND;TZID=America/Los_Angeles:20250328T213000
DTSTAMP:20260424T075835
CREATED:20250325T232854Z
LAST-MODIFIED:20250325T232856Z
UID:10001497-1743190200-1743197400@izprveruke.com
SUMMARY:The Balkan Brain - Los Angeles
DESCRIPTION:Pedja Bajovic\, veteran post-YU scene stand-up komedije\, koji nastupa i na engleskom jeziku dolazi u San Diego u okviru svoje sjeverno-američke turneje. \n\n\n\nViše o njegovom showu na engleskom THE BALKAN BRAIN možete naći na https://pedjabajovic.com/the-balkan-brain
URL:https://izprveruke.com/event/the-balkan-brain-los-angeles/
LOCATION:Flappers Comedy Club Burbank – Yoo Hoo Room\, 102 East Magnolia\, Burbank\, California\, United States
CATEGORIES:Predstave
ATTACH;FMTTYPE=image/png:https://izprveruke.com/wp-content/uploads/2025/03/pedjabajovic.png
GEO:34.1819028;-118.3125757
X-APPLE-STRUCTURED-LOCATION;VALUE=URI;X-ADDRESS=Flappers Comedy Club Burbank – Yoo Hoo Room 102 East Magnolia Burbank California United States;X-APPLE-RADIUS=500;X-TITLE=102 East Magnolia:geo:-118.3125757,34.1819028
END:VEVENT
BEGIN:VEVENT
DTSTART;TZID=America/Los_Angeles:20250330T190000
DTEND;TZID=America/Los_Angeles:20250330T210000
DTSTAMP:20260424T075835
CREATED:20250325T233058Z
LAST-MODIFIED:20250325T233147Z
UID:10001498-1743361200-1743368400@izprveruke.com
SUMMARY:The Balkan Brain - San Francisco
DESCRIPTION:Pedja Bajovic\, veteran post-YU scene stand-up komedije\, koji nastupa i na engleskom jeziku dolazi u San Diego u okviru svoje sjeverno-američke turneje. \n\n\n\nViše o njegovom showu na engleskom THE BALKAN BRAIN možete naći na https://pedjabajovic.com/the-balkan-brain
URL:https://izprveruke.com/event/the-balkan-brain-san-francisco/
LOCATION:Eclectic Box SF\, 446 Valencia Street\, San Francisco\, California\, United States
CATEGORIES:Predstave
ATTACH;FMTTYPE=image/png:https://izprveruke.com/wp-content/uploads/2025/03/pedjabajovic.png
GEO:37.7657592;-122.4222882
X-APPLE-STRUCTURED-LOCATION;VALUE=URI;X-ADDRESS=Eclectic Box SF 446 Valencia Street San Francisco California United States;X-APPLE-RADIUS=500;X-TITLE=446 Valencia Street:geo:-122.4222882,37.7657592
END:VEVENT
END:VCALENDAR