BEGIN:VCALENDAR
VERSION:2.0
PRODID:-//Iz Prve Ruke - Koncerti u Americi i Kanadi | Lokalna Dešavanja - ECPv6.15.20//NONSGML v1.0//EN
CALSCALE:GREGORIAN
METHOD:PUBLISH
X-WR-CALNAME:Iz Prve Ruke - Koncerti u Americi i Kanadi | Lokalna Dešavanja
X-ORIGINAL-URL:https://izprveruke.com
X-WR-CALDESC:Events for Iz Prve Ruke - Koncerti u Americi i Kanadi | Lokalna Dešavanja
REFRESH-INTERVAL;VALUE=DURATION:PT1H
X-Robots-Tag:noindex
X-PUBLISHED-TTL:PT1H
BEGIN:VTIMEZONE
TZID:America/Los_Angeles
BEGIN:DAYLIGHT
TZOFFSETFROM:-0800
TZOFFSETTO:-0700
TZNAME:PDT
DTSTART:20240310T100000
END:DAYLIGHT
BEGIN:STANDARD
TZOFFSETFROM:-0700
TZOFFSETTO:-0800
TZNAME:PST
DTSTART:20241103T090000
END:STANDARD
BEGIN:DAYLIGHT
TZOFFSETFROM:-0800
TZOFFSETTO:-0700
TZNAME:PDT
DTSTART:20250309T100000
END:DAYLIGHT
BEGIN:STANDARD
TZOFFSETFROM:-0700
TZOFFSETTO:-0800
TZNAME:PST
DTSTART:20251102T090000
END:STANDARD
BEGIN:DAYLIGHT
TZOFFSETFROM:-0800
TZOFFSETTO:-0700
TZNAME:PDT
DTSTART:20260308T100000
END:DAYLIGHT
BEGIN:STANDARD
TZOFFSETFROM:-0700
TZOFFSETTO:-0800
TZNAME:PST
DTSTART:20261101T090000
END:STANDARD
END:VTIMEZONE
BEGIN:VEVENT
DTSTART;TZID=America/Los_Angeles:20250323T190000
DTEND;TZID=America/Los_Angeles:20250323T213000
DTSTAMP:20260424T075752
CREATED:20250322T172247Z
LAST-MODIFIED:20250322T172341Z
UID:10001490-1742756400-1742765400@izprveruke.com
SUMMARY:The Balkan Brain - San Diego
DESCRIPTION:Pedja Bajovic\, veteran post-YU scene stand-up komedije\, koji nastupa i na engleskom jeziku dolazi u San Diego u okviru svoje sjeverno-američke turneje. \n\n\n\nViše o njegovom showu na engleskom THE BALKAN BRAIN možete naći na https://pedjabajovic.com/the-balkan-brain
URL:https://izprveruke.com/event/the-balkan-brain-san-diego/
LOCATION:Pushkin Lounge & Bar\, 750 Sixth Avenue\, San Diego\, California\, United States
CATEGORIES:Predstave
ATTACH;FMTTYPE=image/png:https://izprveruke.com/wp-content/uploads/2025/03/pedjabajovic.png
GEO:32.7132989;-117.159419
X-APPLE-STRUCTURED-LOCATION;VALUE=URI;X-ADDRESS=Pushkin Lounge & Bar 750 Sixth Avenue San Diego California United States;X-APPLE-RADIUS=500;X-TITLE=750 Sixth Avenue:geo:-117.159419,32.7132989
END:VEVENT
END:VCALENDAR