BEGIN:VCALENDAR
VERSION:2.0
PRODID:-//Iz Prve Ruke - Koncerti u Americi i Kanadi | Lokalna Dešavanja - ECPv6.15.20//NONSGML v1.0//EN
CALSCALE:GREGORIAN
METHOD:PUBLISH
X-WR-CALNAME:Iz Prve Ruke - Koncerti u Americi i Kanadi | Lokalna Dešavanja
X-ORIGINAL-URL:https://izprveruke.com
X-WR-CALDESC:Events for Iz Prve Ruke - Koncerti u Americi i Kanadi | Lokalna Dešavanja
REFRESH-INTERVAL;VALUE=DURATION:PT1H
X-Robots-Tag:noindex
X-PUBLISHED-TTL:PT1H
BEGIN:VTIMEZONE
TZID:America/Los_Angeles
BEGIN:DAYLIGHT
TZOFFSETFROM:-0800
TZOFFSETTO:-0700
TZNAME:PDT
DTSTART:20240310T100000
END:DAYLIGHT
BEGIN:STANDARD
TZOFFSETFROM:-0700
TZOFFSETTO:-0800
TZNAME:PST
DTSTART:20241103T090000
END:STANDARD
BEGIN:DAYLIGHT
TZOFFSETFROM:-0800
TZOFFSETTO:-0700
TZNAME:PDT
DTSTART:20250309T100000
END:DAYLIGHT
BEGIN:STANDARD
TZOFFSETFROM:-0700
TZOFFSETTO:-0800
TZNAME:PST
DTSTART:20251102T090000
END:STANDARD
BEGIN:DAYLIGHT
TZOFFSETFROM:-0800
TZOFFSETTO:-0700
TZNAME:PDT
DTSTART:20260308T100000
END:DAYLIGHT
BEGIN:STANDARD
TZOFFSETFROM:-0700
TZOFFSETTO:-0800
TZNAME:PST
DTSTART:20261101T090000
END:STANDARD
END:VTIMEZONE
BEGIN:VEVENT
DTSTART;TZID=America/Los_Angeles:20250221T203000
DTEND;TZID=America/Los_Angeles:20250221T235900
DTSTAMP:20260424T063343
CREATED:20250111T034418Z
LAST-MODIFIED:20250111T034424Z
UID:10001449-1740169800-1740182340@izprveruke.com
SUMMARY:Collapse Band - Jacksonville
DESCRIPTION:Collapse Band live in Jacksonville. Vise informacija 904-866-2732
URL:https://izprveruke.com/event/collapse-band-jacksonville/
LOCATION:Jax Restaurant & Grill\, Atlantic Boulevard 8136\, Jacksonville\, Florida\, 32211\, United States
CATEGORIES:Koncerti
ATTACH;FMTTYPE=image/jpeg:https://izprveruke.com/wp-content/uploads/2025/01/collapse.jpg
GEO:30.3134828;-81.5708671
X-APPLE-STRUCTURED-LOCATION;VALUE=URI;X-ADDRESS=Jax Restaurant & Grill Atlantic Boulevard 8136 Jacksonville Florida 32211 United States;X-APPLE-RADIUS=500;X-TITLE=Atlantic Boulevard 8136:geo:-81.5708671,30.3134828
END:VEVENT
BEGIN:VEVENT
DTSTART;TZID=America/Los_Angeles:20250221T203000
DTEND;TZID=America/Los_Angeles:20250221T235900
DTSTAMP:20260424T063343
CREATED:20250111T043202Z
LAST-MODIFIED:20250130T013901Z
UID:10001471-1740169800-1740182340@izprveruke.com
SUMMARY:Darko Lazic - Chicago
DESCRIPTION:Uskoro vise informacija…
URL:https://izprveruke.com/event/darko-lazic-chicago-2/
ATTACH;FMTTYPE=image/jpeg:https://izprveruke.com/wp-content/uploads/2025/01/darkolazic.jpg
END:VEVENT
BEGIN:VEVENT
DTSTART;TZID=America/Los_Angeles:20250222T203000
DTEND;TZID=America/Los_Angeles:20250222T235900
DTSTAMP:20260424T063343
CREATED:20250111T034609Z
LAST-MODIFIED:20250111T034611Z
UID:10001451-1740256200-1740268740@izprveruke.com
SUMMARY:Collapse Band - Atlanta
DESCRIPTION:Collapse Band live in Atlanta. Vise informacija 780-743-5234
URL:https://izprveruke.com/event/collapse-band-atlanta/
LOCATION:Royal Ballroom\, 6185 Buford hwy Bldg C\, Peachtree Corners\, GA\, United States
CATEGORIES:Koncerti
ATTACH;FMTTYPE=image/jpeg:https://izprveruke.com/wp-content/uploads/2025/01/collapse.jpg
GEO:33.9320852;-84.2245905
X-APPLE-STRUCTURED-LOCATION;VALUE=URI;X-ADDRESS=Royal Ballroom 6185 Buford hwy Bldg C Peachtree Corners GA United States;X-APPLE-RADIUS=500;X-TITLE=6185 Buford hwy Bldg C:geo:-84.2245905,33.9320852
END:VEVENT
BEGIN:VEVENT
DTSTART;TZID=America/Los_Angeles:20250222T203000
DTEND;TZID=America/Los_Angeles:20250222T235900
DTSTAMP:20260424T063343
CREATED:20250111T043231Z
LAST-MODIFIED:20250130T013918Z
UID:10001472-1740256200-1740268740@izprveruke.com
SUMMARY:Darko Lazic - Cleveland
DESCRIPTION:Uskoro vise informacija…
URL:https://izprveruke.com/event/darko-lazic-cleveland-2/
ATTACH;FMTTYPE=image/jpeg:https://izprveruke.com/wp-content/uploads/2025/01/darkolazic.jpg
END:VEVENT
BEGIN:VEVENT
DTSTART;TZID=America/Los_Angeles:20250223T203000
DTEND;TZID=America/Los_Angeles:20250223T235900
DTSTAMP:20260424T063343
CREATED:20250111T043252Z
LAST-MODIFIED:20250130T013934Z
UID:10001473-1740342600-1740355140@izprveruke.com
SUMMARY:Darko Lazic - Utica
DESCRIPTION:Uskoro vise informacija…
URL:https://izprveruke.com/event/darko-lazic-utica-2/
ATTACH;FMTTYPE=image/jpeg:https://izprveruke.com/wp-content/uploads/2025/01/darkolazic.jpg
END:VEVENT
END:VCALENDAR