BEGIN:VCALENDAR
VERSION:2.0
PRODID:-//Iz Prve Ruke - Koncerti u Americi i Kanadi | Lokalna Dešavanja - ECPv6.15.20//NONSGML v1.0//EN
CALSCALE:GREGORIAN
METHOD:PUBLISH
X-ORIGINAL-URL:https://izprveruke.com
X-WR-CALDESC:Events for Iz Prve Ruke - Koncerti u Americi i Kanadi | Lokalna Dešavanja
REFRESH-INTERVAL;VALUE=DURATION:PT1H
X-Robots-Tag:noindex
X-PUBLISHED-TTL:PT1H
BEGIN:VTIMEZONE
TZID:America/Los_Angeles
BEGIN:DAYLIGHT
TZOFFSETFROM:-0800
TZOFFSETTO:-0700
TZNAME:PDT
DTSTART:20230312T100000
END:DAYLIGHT
BEGIN:STANDARD
TZOFFSETFROM:-0700
TZOFFSETTO:-0800
TZNAME:PST
DTSTART:20231105T090000
END:STANDARD
BEGIN:DAYLIGHT
TZOFFSETFROM:-0800
TZOFFSETTO:-0700
TZNAME:PDT
DTSTART:20240310T100000
END:DAYLIGHT
BEGIN:STANDARD
TZOFFSETFROM:-0700
TZOFFSETTO:-0800
TZNAME:PST
DTSTART:20241103T090000
END:STANDARD
BEGIN:DAYLIGHT
TZOFFSETFROM:-0800
TZOFFSETTO:-0700
TZNAME:PDT
DTSTART:20250309T100000
END:DAYLIGHT
BEGIN:STANDARD
TZOFFSETFROM:-0700
TZOFFSETTO:-0800
TZNAME:PST
DTSTART:20251102T090000
END:STANDARD
END:VTIMEZONE
BEGIN:VEVENT
DTSTART;TZID=America/Los_Angeles:20241127T203000
DTEND;TZID=America/Los_Angeles:20241127T235900
DTSTAMP:20260424T104145
CREATED:20241022T013716Z
LAST-MODIFIED:20241022T013718Z
UID:10001409-1732739400-1732751940@izprveruke.com
SUMMARY:Emir Djulovic - Cleveland
DESCRIPTION:Emir Djulovic live in Cleveland. \n\n\n\nVise informacija 440-667-5734
URL:https://izprveruke.com/event/emir-djulovic-cleveland/
LOCATION:Sherwin-Gilmour Party Center\, 5947 Mayfield Rd.\, Mayfield Heights\, OH\, United States
CATEGORIES:Koncerti
ATTACH;FMTTYPE=image/jpeg:https://izprveruke.com/wp-content/uploads/2023/07/emirdjulovic.jpg
GEO:41.5212684;-81.4650012
X-APPLE-STRUCTURED-LOCATION;VALUE=URI;X-ADDRESS=Sherwin-Gilmour Party Center 5947 Mayfield Rd. Mayfield Heights OH United States;X-APPLE-RADIUS=500;X-TITLE=5947 Mayfield Rd.:geo:-81.4650012,41.5212684
END:VEVENT
BEGIN:VEVENT
DTSTART;TZID=America/Los_Angeles:20241128T203000
DTEND;TZID=America/Los_Angeles:20241128T235900
DTSTAMP:20260424T104145
CREATED:20241022T013829Z
LAST-MODIFIED:20241022T013833Z
UID:10001410-1732825800-1732838340@izprveruke.com
SUMMARY:Emir Djulovic - Chicago
DESCRIPTION:Emir Djulovic live in Chicago. \n\n\n\nVise informacija 773-425-3911
URL:https://izprveruke.com/event/emir-djulovic-chicago-2/
LOCATION:Holiday Inn\, 5300 W Touhy Ave.\, Skokie\, Illinois\, United States
CATEGORIES:Koncerti
ATTACH;FMTTYPE=image/jpeg:https://izprveruke.com/wp-content/uploads/2023/07/emirdjulovic.jpg
GEO:42.012648;-87.7608039
X-APPLE-STRUCTURED-LOCATION;VALUE=URI;X-ADDRESS=Holiday Inn 5300 W Touhy Ave. Skokie Illinois United States;X-APPLE-RADIUS=500;X-TITLE=5300 W Touhy Ave.:geo:-87.7608039,42.012648
END:VEVENT
BEGIN:VEVENT
DTSTART;TZID=America/Los_Angeles:20241129T203000
DTEND;TZID=America/Los_Angeles:20241129T235900
DTSTAMP:20260424T104145
CREATED:20241022T013925Z
LAST-MODIFIED:20241022T014103Z
UID:10001411-1732912200-1732924740@izprveruke.com
SUMMARY:Emir Djulovic - St. Louis
DESCRIPTION:Emir Djulovic live in St. Louis. \n\n\n\nVise informacija 314-707-3271
URL:https://izprveruke.com/event/emir-djulovic-st-louis-1/
LOCATION:Bistro Banquet Hall\, 5209 Gravois Rd\, Saint Louis\, 63116
CATEGORIES:Koncerti
ATTACH;FMTTYPE=image/jpeg:https://izprveruke.com/wp-content/uploads/2023/07/emirdjulovic.jpg
GEO:38.5798646;-90.2693313
X-APPLE-STRUCTURED-LOCATION;VALUE=URI;X-ADDRESS=Bistro Banquet Hall 5209 Gravois Rd Saint Louis 63116;X-APPLE-RADIUS=500;X-TITLE=5209 Gravois Rd:geo:-90.2693313,38.5798646
END:VEVENT
BEGIN:VEVENT
DTSTART;TZID=America/Los_Angeles:20241130T203000
DTEND;TZID=America/Los_Angeles:20241130T235900
DTSTAMP:20260424T104145
CREATED:20240810T225048Z
LAST-MODIFIED:20241004T010834Z
UID:10001388-1732998600-1733011140@izprveruke.com
SUMMARY:Aleksandra Prijovic - Chicago
DESCRIPTION:One show\, one night\, one city. Aleksandra Prijovic live in Chicago.
URL:https://izprveruke.com/event/aleksandra-prijovic-chicago/
LOCATION:Now Arena\, Prairie Stone Parkway 5333\, Hoffman Estates\, Illinois\, 60192\, United States
CATEGORIES:Koncerti
ATTACH;FMTTYPE=image/jpeg:https://izprveruke.com/wp-content/uploads/2024/08/aleksandraprijovic.jpg
ORGANIZER;CN="Pure Live Music":MAILTO:info@purelivemusic.com
GEO:42.0691097;-88.2130972
X-APPLE-STRUCTURED-LOCATION;VALUE=URI;X-ADDRESS=Now Arena Prairie Stone Parkway 5333 Hoffman Estates Illinois 60192 United States;X-APPLE-RADIUS=500;X-TITLE=Prairie Stone Parkway 5333:geo:-88.2130972,42.0691097
END:VEVENT
BEGIN:VEVENT
DTSTART;TZID=America/Los_Angeles:20241130T203000
DTEND;TZID=America/Los_Angeles:20241130T235900
DTSTAMP:20260424T104145
CREATED:20241022T014144Z
LAST-MODIFIED:20241022T014145Z
UID:10001412-1732998600-1733011140@izprveruke.com
SUMMARY:Emir Djulovic - Des Moines
DESCRIPTION:Emir Djulovic live in Des Moines. \n\n\n\nVise informacija 515-778-8348
URL:https://izprveruke.com/event/emir-djulovic-des-moines-2/
LOCATION:Stoney Creek Hotel\, 5291 Stoney Creek\, Johnston\, Iowa\, United States
CATEGORIES:Koncerti
ATTACH;FMTTYPE=image/jpeg:https://izprveruke.com/wp-content/uploads/2023/07/emirdjulovic.jpg
GEO:41.6570545;-93.7324811
X-APPLE-STRUCTURED-LOCATION;VALUE=URI;X-ADDRESS=Stoney Creek Hotel 5291 Stoney Creek Johnston Iowa United States;X-APPLE-RADIUS=500;X-TITLE=5291 Stoney Creek:geo:-93.7324811,41.6570545
END:VEVENT
END:VCALENDAR