BEGIN:VCALENDAR
VERSION:2.0
PRODID:-//Iz Prve Ruke - Koncerti u Americi i Kanadi | Lokalna Dešavanja - ECPv6.15.20//NONSGML v1.0//EN
CALSCALE:GREGORIAN
METHOD:PUBLISH
X-WR-CALNAME:Iz Prve Ruke - Koncerti u Americi i Kanadi | Lokalna Dešavanja
X-ORIGINAL-URL:https://izprveruke.com
X-WR-CALDESC:Events for Iz Prve Ruke - Koncerti u Americi i Kanadi | Lokalna Dešavanja
REFRESH-INTERVAL;VALUE=DURATION:PT1H
X-Robots-Tag:noindex
X-PUBLISHED-TTL:PT1H
BEGIN:VTIMEZONE
TZID:America/Los_Angeles
BEGIN:DAYLIGHT
TZOFFSETFROM:-0800
TZOFFSETTO:-0700
TZNAME:PDT
DTSTART:20230312T100000
END:DAYLIGHT
BEGIN:STANDARD
TZOFFSETFROM:-0700
TZOFFSETTO:-0800
TZNAME:PST
DTSTART:20231105T090000
END:STANDARD
BEGIN:DAYLIGHT
TZOFFSETFROM:-0800
TZOFFSETTO:-0700
TZNAME:PDT
DTSTART:20240310T100000
END:DAYLIGHT
BEGIN:STANDARD
TZOFFSETFROM:-0700
TZOFFSETTO:-0800
TZNAME:PST
DTSTART:20241103T090000
END:STANDARD
BEGIN:DAYLIGHT
TZOFFSETFROM:-0800
TZOFFSETTO:-0700
TZNAME:PDT
DTSTART:20250309T100000
END:DAYLIGHT
BEGIN:STANDARD
TZOFFSETFROM:-0700
TZOFFSETTO:-0800
TZNAME:PST
DTSTART:20251102T090000
END:STANDARD
END:VTIMEZONE
BEGIN:VEVENT
DTSTART;TZID=America/Los_Angeles:20240426T203000
DTEND;TZID=America/Los_Angeles:20240426T235900
DTSTAMP:20260425T071348
CREATED:20240115T231350Z
LAST-MODIFIED:20240214T045739Z
UID:10001336-1714163400-1714175940@izprveruke.com
SUMMARY:Halid Beslic - Phoenix
DESCRIPTION:Halid Beslic live in Phoenix. Vise informacija 480-433-5505 & 713-336-3605
URL:https://izprveruke.com/event/halid-beslic-phoenix/
LOCATION:CB Live\, 21001 N Tatum Blvd.\, Phoenix\, AZ\, United States
CATEGORIES:Koncerti
ATTACH;FMTTYPE=image/jpeg:https://izprveruke.com/wp-content/uploads/2024/01/halidbeslic.jpg
GEO:33.6765082;-111.9761103
X-APPLE-STRUCTURED-LOCATION;VALUE=URI;X-ADDRESS=CB Live 21001 N Tatum Blvd. Phoenix AZ United States;X-APPLE-RADIUS=500;X-TITLE=21001 N Tatum Blvd.:geo:-111.9761103,33.6765082
END:VEVENT
BEGIN:VEVENT
DTSTART;TZID=America/Los_Angeles:20240427T203000
DTEND;TZID=America/Los_Angeles:20240427T235900
DTSTAMP:20260425T071348
CREATED:20240115T231452Z
LAST-MODIFIED:20240214T045758Z
UID:10001337-1714249800-1714262340@izprveruke.com
SUMMARY:Halid Beslic - Chicago
DESCRIPTION:Halid Beslic live in Chicago. Vise informacija 773-425-3911
URL:https://izprveruke.com/event/halid-beslic-chicago/
LOCATION:Holiday Inn\, 5300 W Touhy Ave.\, Skokie\, Illinois\, United States
CATEGORIES:Koncerti
ATTACH;FMTTYPE=image/jpeg:https://izprveruke.com/wp-content/uploads/2024/01/halidbeslic.jpg
GEO:42.012648;-87.7608039
X-APPLE-STRUCTURED-LOCATION;VALUE=URI;X-ADDRESS=Holiday Inn 5300 W Touhy Ave. Skokie Illinois United States;X-APPLE-RADIUS=500;X-TITLE=5300 W Touhy Ave.:geo:-87.7608039,42.012648
END:VEVENT
END:VCALENDAR