BEGIN:VCALENDAR
VERSION:2.0
PRODID:-//Iz Prve Ruke - Koncerti u Americi i Kanadi | Lokalna Dešavanja - ECPv6.15.20//NONSGML v1.0//EN
CALSCALE:GREGORIAN
METHOD:PUBLISH
X-WR-CALNAME:Iz Prve Ruke - Koncerti u Americi i Kanadi | Lokalna Dešavanja
X-ORIGINAL-URL:https://izprveruke.com
X-WR-CALDESC:Events for Iz Prve Ruke - Koncerti u Americi i Kanadi | Lokalna Dešavanja
REFRESH-INTERVAL;VALUE=DURATION:PT1H
X-Robots-Tag:noindex
X-PUBLISHED-TTL:PT1H
BEGIN:VTIMEZONE
TZID:America/Los_Angeles
BEGIN:DAYLIGHT
TZOFFSETFROM:-0800
TZOFFSETTO:-0700
TZNAME:PDT
DTSTART:20230312T100000
END:DAYLIGHT
BEGIN:STANDARD
TZOFFSETFROM:-0700
TZOFFSETTO:-0800
TZNAME:PST
DTSTART:20231105T090000
END:STANDARD
BEGIN:DAYLIGHT
TZOFFSETFROM:-0800
TZOFFSETTO:-0700
TZNAME:PDT
DTSTART:20240310T100000
END:DAYLIGHT
BEGIN:STANDARD
TZOFFSETFROM:-0700
TZOFFSETTO:-0800
TZNAME:PST
DTSTART:20241103T090000
END:STANDARD
BEGIN:DAYLIGHT
TZOFFSETFROM:-0800
TZOFFSETTO:-0700
TZNAME:PDT
DTSTART:20250309T100000
END:DAYLIGHT
BEGIN:STANDARD
TZOFFSETFROM:-0700
TZOFFSETTO:-0800
TZNAME:PST
DTSTART:20251102T090000
END:STANDARD
END:VTIMEZONE
BEGIN:VEVENT
DTSTART;TZID=America/Los_Angeles:20240214T203000
DTEND;TZID=America/Los_Angeles:20240214T235900
DTSTAMP:20260425T084836
CREATED:20240115T231954Z
LAST-MODIFIED:20240214T045429Z
UID:10001338-1707942600-1707955140@izprveruke.com
SUMMARY:Darko Lazic - Las Vegas
DESCRIPTION:Darko Lazic live in Las Vegas. Vise informacija 702-824-4699
URL:https://izprveruke.com/event/darko-lazic-las-vegas/
LOCATION:Cafe Derbi\, 5920 W. Flamingo Rd.\, Las Vegas\, NV\, United States
CATEGORIES:Koncerti
ATTACH;FMTTYPE=image/jpeg:https://izprveruke.com/wp-content/uploads/2024/01/darkolazic.jpg
GEO:36.1154263;-115.2221234
X-APPLE-STRUCTURED-LOCATION;VALUE=URI;X-ADDRESS=Cafe Derbi 5920 W. Flamingo Rd. Las Vegas NV United States;X-APPLE-RADIUS=500;X-TITLE=5920 W. Flamingo Rd.:geo:-115.2221234,36.1154263
END:VEVENT
BEGIN:VEVENT
DTSTART;TZID=America/Los_Angeles:20240216T203000
DTEND;TZID=America/Los_Angeles:20240216T235900
DTSTAMP:20260425T084836
CREATED:20240118T033956Z
LAST-MODIFIED:20240214T045450Z
UID:10001344-1708115400-1708127940@izprveruke.com
SUMMARY:Darko Lazic - Portland
DESCRIPTION:Darko Lazic live in Portland. Vise informacija 503-936-9539
URL:https://izprveruke.com/event/darko-lazic-portland/
LOCATION:SLA Club\, 11610 SE Holgate Blvd.\, Portland\, OR\, United States
CATEGORIES:Koncerti
ATTACH;FMTTYPE=image/jpeg:https://izprveruke.com/wp-content/uploads/2024/01/darkolazic.jpg
GEO:45.4894625;-122.5437097
X-APPLE-STRUCTURED-LOCATION;VALUE=URI;X-ADDRESS=SLA Club 11610 SE Holgate Blvd. Portland OR United States;X-APPLE-RADIUS=500;X-TITLE=11610 SE Holgate Blvd.:geo:-122.5437097,45.4894625
END:VEVENT
BEGIN:VEVENT
DTSTART;TZID=America/Los_Angeles:20240216T203000
DTEND;TZID=America/Los_Angeles:20240216T235959
DTSTAMP:20260425T084836
CREATED:20240115T215232Z
LAST-MODIFIED:20240115T215234Z
UID:10001321-1708115400-1708127999@izprveruke.com
SUMMARY:Hule & Begzo - Atlanta
DESCRIPTION:Hule Mesaljic\, Begzo & muzicka pratnja Esef Mustafic. Vise informacija 678-698-1560
URL:https://izprveruke.com/event/hule-begzo-atlanta/
LOCATION:Lincoln’s Grill\, 219 Gwinnett Dr.\, Lawrenceville\, Georgia\, United States
CATEGORIES:Koncerti
ATTACH;FMTTYPE=image/png:https://izprveruke.com/wp-content/uploads/2022/10/hule.png
GEO:33.9432313;-83.9927606
X-APPLE-STRUCTURED-LOCATION;VALUE=URI;X-ADDRESS=Lincoln’s Grill 219 Gwinnett Dr. Lawrenceville Georgia United States;X-APPLE-RADIUS=500;X-TITLE=219 Gwinnett Dr.:geo:-83.9927606,33.9432313
END:VEVENT
BEGIN:VEVENT
DTSTART;TZID=America/Los_Angeles:20240217T203000
DTEND;TZID=America/Los_Angeles:20240217T235900
DTSTAMP:20260425T084836
CREATED:20240118T034102Z
LAST-MODIFIED:20240214T045511Z
UID:10001345-1708201800-1708214340@izprveruke.com
SUMMARY:Darko Lazic - Cleveland
DESCRIPTION:Darko Lazic live in Cleveland. Vise informacija 440-667-5734
URL:https://izprveruke.com/event/darko-lazic-cleveland/
LOCATION:Sherwin-Gilmour Party Center\, 5947 Mayfield Rd.\, Mayfield Heights\, OH\, United States
CATEGORIES:Koncerti
ATTACH;FMTTYPE=image/jpeg:https://izprveruke.com/wp-content/uploads/2024/01/darkolazic.jpg
GEO:41.5212684;-81.4650012
X-APPLE-STRUCTURED-LOCATION;VALUE=URI;X-ADDRESS=Sherwin-Gilmour Party Center 5947 Mayfield Rd. Mayfield Heights OH United States;X-APPLE-RADIUS=500;X-TITLE=5947 Mayfield Rd.:geo:-81.4650012,41.5212684
END:VEVENT
BEGIN:VEVENT
DTSTART;TZID=America/Los_Angeles:20240217T203000
DTEND;TZID=America/Los_Angeles:20240217T235900
DTSTAMP:20260425T084836
CREATED:20240214T051123Z
LAST-MODIFIED:20240214T051125Z
UID:10001353-1708201800-1708214340@izprveruke.com
SUMMARY:Rock Ko Fol - San Francisco
DESCRIPTION:Nakon ovogodisnje januarske turneje\,evropskih gradova i fantasticne publike koja je svojom podrskom\,brojem i pjevanjem zadala nove “levele” i standarde na nasim svirkama\,evo nas ponovo na mjestu gdje je sve pocelo. \n\n\n\nVise informacija 415-328-6436 
URL:https://izprveruke.com/event/rock-ko-fol-san-francisco-3/
LOCATION:Vinnie’s Bar And Grill\, 2045 Mt Diablo St.\, Concord\, California\, United States
CATEGORIES:Koncerti
ATTACH;FMTTYPE=image/jpeg:https://izprveruke.com/wp-content/uploads/2022/02/rkf.jpg
GEO:37.9778056;-122.0352215
X-APPLE-STRUCTURED-LOCATION;VALUE=URI;X-ADDRESS=Vinnie’s Bar And Grill 2045 Mt Diablo St. Concord California United States;X-APPLE-RADIUS=500;X-TITLE=2045 Mt Diablo St.:geo:-122.0352215,37.9778056
END:VEVENT
BEGIN:VEVENT
DTSTART;TZID=America/Los_Angeles:20240217T203000
DTEND;TZID=America/Los_Angeles:20240217T235959
DTSTAMP:20260425T084836
CREATED:20240115T215532Z
LAST-MODIFIED:20240115T221136Z
UID:10001322-1708201800-1708214399@izprveruke.com
SUMMARY:Hule & Begzo - Bowling Green
DESCRIPTION:Hule Mesaljic\, Begzo & muzicka pratnja Esef Mustafic. Vise informacija 270-320-2180
URL:https://izprveruke.com/event/hule-begzo-bowling-green/
LOCATION:Toro\, 1760 Scottsville Rd.\, Bowling Green\, Kentucky\, United States
CATEGORIES:Koncerti
ATTACH;FMTTYPE=image/png:https://izprveruke.com/wp-content/uploads/2022/10/hule.png
GEO:36.9675181;-86.4320548
X-APPLE-STRUCTURED-LOCATION;VALUE=URI;X-ADDRESS=Toro 1760 Scottsville Rd. Bowling Green Kentucky United States;X-APPLE-RADIUS=500;X-TITLE=1760 Scottsville Rd.:geo:-86.4320548,36.9675181
END:VEVENT
END:VCALENDAR