BEGIN:VCALENDAR
VERSION:2.0
PRODID:-//Iz Prve Ruke - Koncerti u Americi i Kanadi | Lokalna Dešavanja - ECPv6.15.20//NONSGML v1.0//EN
CALSCALE:GREGORIAN
METHOD:PUBLISH
X-WR-CALNAME:Iz Prve Ruke - Koncerti u Americi i Kanadi | Lokalna Dešavanja
X-ORIGINAL-URL:https://izprveruke.com
X-WR-CALDESC:Events for Iz Prve Ruke - Koncerti u Americi i Kanadi | Lokalna Dešavanja
REFRESH-INTERVAL;VALUE=DURATION:PT1H
X-Robots-Tag:noindex
X-PUBLISHED-TTL:PT1H
BEGIN:VTIMEZONE
TZID:America/Los_Angeles
BEGIN:DAYLIGHT
TZOFFSETFROM:-0800
TZOFFSETTO:-0700
TZNAME:PDT
DTSTART:20230312T100000
END:DAYLIGHT
BEGIN:STANDARD
TZOFFSETFROM:-0700
TZOFFSETTO:-0800
TZNAME:PST
DTSTART:20231105T090000
END:STANDARD
BEGIN:DAYLIGHT
TZOFFSETFROM:-0800
TZOFFSETTO:-0700
TZNAME:PDT
DTSTART:20240310T100000
END:DAYLIGHT
BEGIN:STANDARD
TZOFFSETFROM:-0700
TZOFFSETTO:-0800
TZNAME:PST
DTSTART:20241103T090000
END:STANDARD
BEGIN:DAYLIGHT
TZOFFSETFROM:-0800
TZOFFSETTO:-0700
TZNAME:PDT
DTSTART:20250309T100000
END:DAYLIGHT
BEGIN:STANDARD
TZOFFSETFROM:-0700
TZOFFSETTO:-0800
TZNAME:PST
DTSTART:20251102T090000
END:STANDARD
END:VTIMEZONE
BEGIN:VEVENT
DTSTART;TZID=America/Los_Angeles:20240119T203000
DTEND;TZID=America/Los_Angeles:20240119T235900
DTSTAMP:20260425T084835
CREATED:20231223T235657Z
LAST-MODIFIED:20240117T022609Z
UID:10001307-1705696200-1705708740@izprveruke.com
SUMMARY:Viki Miljkovic & Nermin Hadzic - Cleveland
DESCRIPTION:Vise informacija 440-667-5734
URL:https://izprveruke.com/event/viki-miljkovic-nermin-hadzic-cleveland/
LOCATION:Sherwin-Gilmour Party Center\, 5947 Mayfield Rd.\, Mayfield Heights\, OH\, United States
CATEGORIES:Koncerti
ATTACH;FMTTYPE=image/png:https://izprveruke.com/wp-content/uploads/2022/11/viki_nerminhadzic.png
GEO:41.5212684;-81.4650012
X-APPLE-STRUCTURED-LOCATION;VALUE=URI;X-ADDRESS=Sherwin-Gilmour Party Center 5947 Mayfield Rd. Mayfield Heights OH United States;X-APPLE-RADIUS=500;X-TITLE=5947 Mayfield Rd.:geo:-81.4650012,41.5212684
END:VEVENT
BEGIN:VEVENT
DTSTART;TZID=America/Los_Angeles:20240119T203000
DTEND;TZID=America/Los_Angeles:20240119T235900
DTSTAMP:20260425T084835
CREATED:20231224T001851Z
LAST-MODIFIED:20231224T002506Z
UID:10001312-1705696200-1705708740@izprveruke.com
SUMMARY:Neda Ukraden - Clearwater
DESCRIPTION:Neda Ukraden i gost veceri Aleksandar Josifovski. Vise informacija 727-400-4047
URL:https://izprveruke.com/event/neda-ukraden-clearwater-2/
LOCATION:DeLukas Restaurant & Bar\, 1343 Cleveland St.\, Clearwater\, Florida\, United States
CATEGORIES:Koncerti
ATTACH;FMTTYPE=image/jpeg:https://izprveruke.com/wp-content/uploads/2022/02/nedaukraden.jpg
GEO:27.965308;-82.7812484
X-APPLE-STRUCTURED-LOCATION;VALUE=URI;X-ADDRESS=DeLukas Restaurant & Bar 1343 Cleveland St. Clearwater Florida United States;X-APPLE-RADIUS=500;X-TITLE=1343 Cleveland St.:geo:-82.7812484,27.965308
END:VEVENT
BEGIN:VEVENT
DTSTART;TZID=America/Los_Angeles:20240119T203000
DTEND;TZID=America/Los_Angeles:20240119T235900
DTSTAMP:20260425T084835
CREATED:20240115T222543Z
LAST-MODIFIED:20240119T001612Z
UID:10001326-1705696200-1705708740@izprveruke.com
SUMMARY:Darko Lazic - Bowling Green
DESCRIPTION:Darko Lazic live in Bowling Green. Vise informacija 270-320-2180
URL:https://izprveruke.com/event/darko-lazic-bowling-green/
LOCATION:Toro\, 1760 Scottsville Rd.\, Bowling Green\, Kentucky\, United States
CATEGORIES:Koncerti
ATTACH;FMTTYPE=image/jpeg:https://izprveruke.com/wp-content/uploads/2024/01/darkolazic.jpg
GEO:36.9675181;-86.4320548
X-APPLE-STRUCTURED-LOCATION;VALUE=URI;X-ADDRESS=Toro 1760 Scottsville Rd. Bowling Green Kentucky United States;X-APPLE-RADIUS=500;X-TITLE=1760 Scottsville Rd.:geo:-86.4320548,36.9675181
END:VEVENT
BEGIN:VEVENT
DTSTART;TZID=America/Los_Angeles:20240120T203000
DTEND;TZID=America/Los_Angeles:20240120T235900
DTSTAMP:20260425T084835
CREATED:20231223T235809Z
LAST-MODIFIED:20240117T022637Z
UID:10001308-1705782600-1705795140@izprveruke.com
SUMMARY:Viki Miljkovic & Nermin Hadzic - Waterloo
DESCRIPTION:Vise informacija 319-504-2758
URL:https://izprveruke.com/event/viki-miljkovic-nermin-hadzic-waterloo/
LOCATION:Club Ambassador\, 313 W 5th St.\, Waterloo\, IA\, United States
CATEGORIES:Koncerti
ATTACH;FMTTYPE=image/png:https://izprveruke.com/wp-content/uploads/2022/11/viki_nerminhadzic.png
GEO:42.4931718;-92.3397677
X-APPLE-STRUCTURED-LOCATION;VALUE=URI;X-ADDRESS=Club Ambassador 313 W 5th St. Waterloo IA United States;X-APPLE-RADIUS=500;X-TITLE=313 W 5th St.:geo:-92.3397677,42.4931718
END:VEVENT
BEGIN:VEVENT
DTSTART;TZID=America/Los_Angeles:20240120T203000
DTEND;TZID=America/Los_Angeles:20240120T235900
DTSTAMP:20260425T084835
CREATED:20231224T002310Z
LAST-MODIFIED:20231224T002312Z
UID:10001314-1705782600-1705795140@izprveruke.com
SUMMARY:Neda Ukraden - New Jersey
DESCRIPTION:Neda Ukraden i gost veceri Aleksandar Josifovski. Vise informacija 973-865-2663
URL:https://izprveruke.com/event/neda-ukraden-new-jersey/
LOCATION:St. Nikola\, 55 Wentick St.\, Totowa\, New Jersey\, United States
CATEGORIES:Koncerti
ATTACH;FMTTYPE=image/jpeg:https://izprveruke.com/wp-content/uploads/2022/02/nedaukraden.jpg
GEO:40.8974958;-74.2169237
X-APPLE-STRUCTURED-LOCATION;VALUE=URI;X-ADDRESS=St. Nikola 55 Wentick St. Totowa New Jersey United States;X-APPLE-RADIUS=500;X-TITLE=55 Wentick St.:geo:-74.2169237,40.8974958
END:VEVENT
BEGIN:VEVENT
DTSTART;TZID=America/Los_Angeles:20240120T203000
DTEND;TZID=America/Los_Angeles:20240120T235900
DTSTAMP:20260425T084835
CREATED:20240115T222807Z
LAST-MODIFIED:20240119T001639Z
UID:10001327-1705782600-1705795140@izprveruke.com
SUMMARY:Darko Lazic - St. Petersburg
DESCRIPTION:Darko Lazic live in St. Petersburg. Vise informacija 561-268-6757
URL:https://izprveruke.com/event/darko-lazic-st-petersburg/
LOCATION:The Event Hall\, 6152 126th Ave. N\, Largo\, Florida\, United States
CATEGORIES:Koncerti
ATTACH;FMTTYPE=image/jpeg:https://izprveruke.com/wp-content/uploads/2024/01/darkolazic.jpg
GEO:27.884989;-82.7188233
X-APPLE-STRUCTURED-LOCATION;VALUE=URI;X-ADDRESS=The Event Hall 6152 126th Ave. N Largo Florida United States;X-APPLE-RADIUS=500;X-TITLE=6152 126th Ave. N:geo:-82.7188233,27.884989
END:VEVENT
BEGIN:VEVENT
DTSTART;TZID=America/Los_Angeles:20240121T203000
DTEND;TZID=America/Los_Angeles:20240121T235900
DTSTAMP:20260425T084835
CREATED:20231224T003757Z
LAST-MODIFIED:20231224T004125Z
UID:10001315-1705869000-1705881540@izprveruke.com
SUMMARY:Neda Ukraden - Washington\, DC
DESCRIPTION:Neda Ukraden live in Washington. Vise informacija 347-497-0006
URL:https://izprveruke.com/event/neda-ukraden-washington-dc/
LOCATION:Greenhouse Bistro\, 2070 Chain Bridge Rd\, Vienna\, District of Columbia\, United States
CATEGORIES:Koncerti
ATTACH;FMTTYPE=image/jpeg:https://izprveruke.com/wp-content/uploads/2022/02/nedaukraden.jpg
GEO:38.9232098;-77.103146
X-APPLE-STRUCTURED-LOCATION;VALUE=URI;X-ADDRESS=Greenhouse Bistro 2070 Chain Bridge Rd Vienna District of Columbia United States;X-APPLE-RADIUS=500;X-TITLE=2070 Chain Bridge Rd:geo:-77.103146,38.9232098
END:VEVENT
BEGIN:VEVENT
DTSTART;TZID=America/Los_Angeles:20240121T203000
DTEND;TZID=America/Los_Angeles:20240121T235900
DTSTAMP:20260425T084835
CREATED:20240115T224407Z
LAST-MODIFIED:20240119T001659Z
UID:10001328-1705869000-1705881540@izprveruke.com
SUMMARY:Darko Lazic - Jacksonville
DESCRIPTION:Darko Lazic live in Jacksonville. Vise informacija 904-514-7304
URL:https://izprveruke.com/event/darko-lazic-jacksonville/
LOCATION:Smash Whispers Lounge\, 8206 Philips Hwy Unit 6\, Jacksonville\, Florida\, United States
CATEGORIES:Koncerti
ATTACH;FMTTYPE=image/jpeg:https://izprveruke.com/wp-content/uploads/2024/01/darkolazic.jpg
GEO:30.2198384;-81.5869658
X-APPLE-STRUCTURED-LOCATION;VALUE=URI;X-ADDRESS=Smash Whispers Lounge 8206 Philips Hwy Unit 6 Jacksonville Florida United States;X-APPLE-RADIUS=500;X-TITLE=8206 Philips Hwy Unit 6:geo:-81.5869658,30.2198384
END:VEVENT
END:VCALENDAR