BEGIN:VCALENDAR
VERSION:2.0
PRODID:-//Iz Prve Ruke - Koncerti u Americi i Kanadi | Lokalna Dešavanja - ECPv6.15.20//NONSGML v1.0//EN
CALSCALE:GREGORIAN
METHOD:PUBLISH
X-ORIGINAL-URL:https://izprveruke.com
X-WR-CALDESC:Events for Iz Prve Ruke - Koncerti u Americi i Kanadi | Lokalna Dešavanja
REFRESH-INTERVAL;VALUE=DURATION:PT1H
X-Robots-Tag:noindex
X-PUBLISHED-TTL:PT1H
BEGIN:VTIMEZONE
TZID:America/Los_Angeles
BEGIN:DAYLIGHT
TZOFFSETFROM:-0800
TZOFFSETTO:-0700
TZNAME:PDT
DTSTART:20230312T100000
END:DAYLIGHT
BEGIN:STANDARD
TZOFFSETFROM:-0700
TZOFFSETTO:-0800
TZNAME:PST
DTSTART:20231105T090000
END:STANDARD
BEGIN:DAYLIGHT
TZOFFSETFROM:-0800
TZOFFSETTO:-0700
TZNAME:PDT
DTSTART:20240310T100000
END:DAYLIGHT
BEGIN:STANDARD
TZOFFSETFROM:-0700
TZOFFSETTO:-0800
TZNAME:PST
DTSTART:20241103T090000
END:STANDARD
BEGIN:DAYLIGHT
TZOFFSETFROM:-0800
TZOFFSETTO:-0700
TZNAME:PDT
DTSTART:20250309T100000
END:DAYLIGHT
BEGIN:STANDARD
TZOFFSETFROM:-0700
TZOFFSETTO:-0800
TZNAME:PST
DTSTART:20251102T090000
END:STANDARD
END:VTIMEZONE
BEGIN:VEVENT
DTSTART;TZID=America/Los_Angeles:20240112T203000
DTEND;TZID=America/Los_Angeles:20240112T235900
DTSTAMP:20260425T085123
CREATED:20231223T235524Z
LAST-MODIFIED:20231223T235526Z
UID:10001306-1705091400-1705103940@izprveruke.com
SUMMARY:Viki Miljkovic & Nermin Hadzic - Indiana
DESCRIPTION:Vise informacija 847-489-6236 & 219-736-9191
URL:https://izprveruke.com/event/viki-miljkovic-nermin-hadzic-indiana/
LOCATION:St. Sava Indiana\, 9191 Mississippi St.\, Merrillville\, Indiana\, United States
CATEGORIES:Koncerti
ATTACH;FMTTYPE=image/png:https://izprveruke.com/wp-content/uploads/2022/11/viki_nerminhadzic.png
GEO:41.4519685;-87.314687
X-APPLE-STRUCTURED-LOCATION;VALUE=URI;X-ADDRESS=St. Sava Indiana 9191 Mississippi St. Merrillville Indiana United States;X-APPLE-RADIUS=500;X-TITLE=9191 Mississippi St.:geo:-87.314687,41.4519685
END:VEVENT
BEGIN:VEVENT
DTSTART;TZID=America/Los_Angeles:20240112T203000
DTEND;TZID=America/Los_Angeles:20240112T235900
DTSTAMP:20260425T085123
CREATED:20231224T001155Z
LAST-MODIFIED:20231224T001158Z
UID:10001310-1705091400-1705103940@izprveruke.com
SUMMARY:Neda Ukraden - Chicago
DESCRIPTION:Neda Ukraden VIP Night in Chicago. Vise informacija 847-489-6236
URL:https://izprveruke.com/event/neda-ukraden-chicago/
LOCATION:Pella Signature\, 720 Village Center Dr.\, Burr Ridge\, Illinois\, United States
CATEGORIES:Koncerti
ATTACH;FMTTYPE=image/jpeg:https://izprveruke.com/wp-content/uploads/2022/02/nedaukraden.jpg
GEO:41.7533067;-87.9116193
X-APPLE-STRUCTURED-LOCATION;VALUE=URI;X-ADDRESS=Pella Signature 720 Village Center Dr. Burr Ridge Illinois United States;X-APPLE-RADIUS=500;X-TITLE=720 Village Center Dr.:geo:-87.9116193,41.7533067
END:VEVENT
BEGIN:VEVENT
DTSTART;TZID=America/Los_Angeles:20240113T183000
DTEND;TZID=America/Los_Angeles:20240113T235900
DTSTAMP:20260425T085123
CREATED:20231224T001430Z
LAST-MODIFIED:20231224T001431Z
UID:10001311-1705170600-1705190340@izprveruke.com
SUMMARY:Neda Ukraden - Cleveland
DESCRIPTION:Docek pravoslavne nove godine. Vise informacija i rezervacije 216-816-8261
URL:https://izprveruke.com/event/neda-ukraden-cleveland/
LOCATION:St. Sava Broadview Heights\, 2151 West Wallings Road\, Broadview Heights\, Ohio\, United States
CATEGORIES:Koncerti
ATTACH;FMTTYPE=image/jpeg:https://izprveruke.com/wp-content/uploads/2022/02/nedaukraden.jpg
GEO:41.3402991;-81.6957923
X-APPLE-STRUCTURED-LOCATION;VALUE=URI;X-ADDRESS=St. Sava Broadview Heights 2151 West Wallings Road Broadview Heights Ohio United States;X-APPLE-RADIUS=500;X-TITLE=2151 West Wallings Road:geo:-81.6957923,41.3402991
END:VEVENT
BEGIN:VEVENT
DTSTART;TZID=America/Los_Angeles:20240113T203000
DTEND;TZID=America/Los_Angeles:20240113T235900
DTSTAMP:20260425T085123
CREATED:20231224T000608Z
LAST-MODIFIED:20231224T000611Z
UID:10001309-1705177800-1705190340@izprveruke.com
SUMMARY:Viki Miljkovic - Milwaukee
DESCRIPTION:Docek pravoslavne nove godine.  \n\n\n\nVise informacija 414-731-2003
URL:https://izprveruke.com/event/viki-miljkovic-milwaukee/
LOCATION:Americko-srpski Dom\, 5101 W Oklahoma Ave.\, Milwaukee\, Wisconsin\, United States
CATEGORIES:Koncerti
ATTACH;FMTTYPE=image/jpeg:https://izprveruke.com/wp-content/uploads/2023/12/vikimiljkovic.jpg
GEO:42.9878841;-87.97865
X-APPLE-STRUCTURED-LOCATION;VALUE=URI;X-ADDRESS=Americko-srpski Dom 5101 W Oklahoma Ave. Milwaukee Wisconsin United States;X-APPLE-RADIUS=500;X-TITLE=5101 W Oklahoma Ave.:geo:-87.97865,42.9878841
END:VEVENT
END:VCALENDAR