BEGIN:VCALENDAR
VERSION:2.0
PRODID:-//Iz Prve Ruke - Koncerti u Americi i Kanadi | Lokalna Dešavanja - ECPv6.15.20//NONSGML v1.0//EN
CALSCALE:GREGORIAN
METHOD:PUBLISH
X-WR-CALNAME:Iz Prve Ruke - Koncerti u Americi i Kanadi | Lokalna Dešavanja
X-ORIGINAL-URL:https://izprveruke.com
X-WR-CALDESC:Events for Iz Prve Ruke - Koncerti u Americi i Kanadi | Lokalna Dešavanja
REFRESH-INTERVAL;VALUE=DURATION:PT1H
X-Robots-Tag:noindex
X-PUBLISHED-TTL:PT1H
BEGIN:VTIMEZONE
TZID:America/Los_Angeles
BEGIN:DAYLIGHT
TZOFFSETFROM:-0800
TZOFFSETTO:-0700
TZNAME:PDT
DTSTART:20220313T100000
END:DAYLIGHT
BEGIN:STANDARD
TZOFFSETFROM:-0700
TZOFFSETTO:-0800
TZNAME:PST
DTSTART:20221106T090000
END:STANDARD
BEGIN:DAYLIGHT
TZOFFSETFROM:-0800
TZOFFSETTO:-0700
TZNAME:PDT
DTSTART:20230312T100000
END:DAYLIGHT
BEGIN:STANDARD
TZOFFSETFROM:-0700
TZOFFSETTO:-0800
TZNAME:PST
DTSTART:20231105T090000
END:STANDARD
BEGIN:DAYLIGHT
TZOFFSETFROM:-0800
TZOFFSETTO:-0700
TZNAME:PDT
DTSTART:20240310T100000
END:DAYLIGHT
BEGIN:STANDARD
TZOFFSETFROM:-0700
TZOFFSETTO:-0800
TZNAME:PST
DTSTART:20241103T090000
END:STANDARD
END:VTIMEZONE
BEGIN:VEVENT
DTSTART;TZID=America/Los_Angeles:20231008T203000
DTEND;TZID=America/Los_Angeles:20231008T235900
DTSTAMP:20260425T073030
CREATED:20230918T054752Z
LAST-MODIFIED:20230918T054754Z
UID:10001230-1696797000-1696809540@izprveruke.com
SUMMARY:Mile Kitic - Utica
DESCRIPTION:Mile Kitic live in Utica. Vise informacija 315-269-8447
URL:https://izprveruke.com/event/mile-kitic-utica/
LOCATION:Cafe Milano\, 1711 Bleecker Street\, Utica\, NY\, United States
CATEGORIES:Koncerti
ATTACH;FMTTYPE=image/jpeg:https://izprveruke.com/wp-content/uploads/2023/09/milekitic.jpg
GEO:43.093138;-75.199899
X-APPLE-STRUCTURED-LOCATION;VALUE=URI;X-ADDRESS=Cafe Milano 1711 Bleecker Street Utica NY United States;X-APPLE-RADIUS=500;X-TITLE=1711 Bleecker Street:geo:-75.199899,43.093138
END:VEVENT
BEGIN:VEVENT
DTSTART;TZID=America/Los_Angeles:20231008T203000
DTEND;TZID=America/Los_Angeles:20231008T235900
DTSTAMP:20260425T073030
CREATED:20230724T022838Z
LAST-MODIFIED:20230724T023739Z
UID:10001202-1696797000-1696809540@izprveruke.com
SUMMARY:Emir Djulovic - Boise
DESCRIPTION:Emir Djulovic live in Boise.  \n\n\n\nVise informacija 208-906-6274 & 986-210-4262
URL:https://izprveruke.com/event/emir-djulovic-boise/
LOCATION:BOEX\, 4846 W Emerald St.\, Boise\, ID\, United States
CATEGORIES:Koncerti
ATTACH;FMTTYPE=image/jpeg:https://izprveruke.com/wp-content/uploads/2023/07/emirdjulovic.jpg
GEO:43.6122348;-116.24172
X-APPLE-STRUCTURED-LOCATION;VALUE=URI;X-ADDRESS=BOEX 4846 W Emerald St. Boise ID United States;X-APPLE-RADIUS=500;X-TITLE=4846 W Emerald St.:geo:-116.24172,43.6122348
END:VEVENT
BEGIN:VEVENT
DTSTART;TZID=America/Los_Angeles:20231007T203000
DTEND;TZID=America/Los_Angeles:20231007T235900
DTSTAMP:20260425T073030
CREATED:20230918T055323Z
LAST-MODIFIED:20230918T055324Z
UID:10001234-1696710600-1696723140@izprveruke.com
SUMMARY:Elena & Mile Kitic - New York
DESCRIPTION:Mile Kitic live in New York. Vise informacija 917-568-3496 & 646-261-3252
URL:https://izprveruke.com/event/elena-mile-kitic-new-york/
LOCATION:Melrose Ballroom\, 36-08 33rd St.\, New York\, NY\, United States
CATEGORIES:Koncerti
ATTACH;FMTTYPE=image/jpeg:https://izprveruke.com/wp-content/uploads/2023/09/elena_mile_kitic.jpg
GEO:40.7555992;-73.9286147
X-APPLE-STRUCTURED-LOCATION;VALUE=URI;X-ADDRESS=Melrose Ballroom 36-08 33rd St. New York NY United States;X-APPLE-RADIUS=500;X-TITLE=36-08 33rd St.:geo:-73.9286147,40.7555992
END:VEVENT
BEGIN:VEVENT
DTSTART;TZID=America/Los_Angeles:20231007T203000
DTEND;TZID=America/Los_Angeles:20231007T235900
DTSTAMP:20260425T073030
CREATED:20230724T022636Z
LAST-MODIFIED:20230724T022642Z
UID:10001201-1696710600-1696723140@izprveruke.com
SUMMARY:Emir Djulovic - Portland
DESCRIPTION:Emir Djulovic live in Rip City.  \n\n\n\nVise informacija 503-936-9539
URL:https://izprveruke.com/event/emir-djulovic-portland/
LOCATION:SLA Club\, 11610 SE Holgate Blvd.\, Portland\, OR\, United States
CATEGORIES:Koncerti
ATTACH;FMTTYPE=image/jpeg:https://izprveruke.com/wp-content/uploads/2023/07/emirdjulovic.jpg
GEO:45.4894625;-122.5437097
X-APPLE-STRUCTURED-LOCATION;VALUE=URI;X-ADDRESS=SLA Club 11610 SE Holgate Blvd. Portland OR United States;X-APPLE-RADIUS=500;X-TITLE=11610 SE Holgate Blvd.:geo:-122.5437097,45.4894625
END:VEVENT
BEGIN:VEVENT
DTSTART;TZID=America/Los_Angeles:20231006T203000
DTEND;TZID=America/Los_Angeles:20231006T235900
DTSTAMP:20260425T073030
CREATED:20230918T055534Z
LAST-MODIFIED:20230918T055535Z
UID:10001236-1696624200-1696636740@izprveruke.com
SUMMARY:Elena & Mile Kitic - St. Louis
DESCRIPTION:Mile Kitic live in St. Louis. Vise informacija 314-707-3271 & 314-210-3665
URL:https://izprveruke.com/event/elena-mile-kitic-st-louis/
LOCATION:Red Flag\, 3040 Locust St.\, St. Louis\, Missouri\, United States
CATEGORIES:Koncerti
ATTACH;FMTTYPE=image/jpeg:https://izprveruke.com/wp-content/uploads/2023/09/elena_mile_kitic.jpg
GEO:38.6358526;-90.2233303
X-APPLE-STRUCTURED-LOCATION;VALUE=URI;X-ADDRESS=Red Flag 3040 Locust St. St. Louis Missouri United States;X-APPLE-RADIUS=500;X-TITLE=3040 Locust St.:geo:-90.2233303,38.6358526
END:VEVENT
BEGIN:VEVENT
DTSTART;TZID=America/Los_Angeles:20231006T203000
DTEND;TZID=America/Los_Angeles:20231006T235900
DTSTAMP:20260425T073030
CREATED:20230823T024118Z
LAST-MODIFIED:20230823T024126Z
UID:10001219-1696624200-1696636740@izprveruke.com
SUMMARY:Dragana Mirkovic - Calgary
DESCRIPTION:Dragana Mirkovic Live in Calgary. More information 403-607-2113
URL:https://izprveruke.com/event/dragana-mirkovic-calgary/
LOCATION:The Back Alley\, 4630 Macleod Trail\, Calgary\, AB\, Canada
CATEGORIES:Koncerti
ATTACH;FMTTYPE=image/png:https://izprveruke.com/wp-content/uploads/2023/01/draganamirkovic-e1673429271253.png
GEO:51.0120541;-114.064381
X-APPLE-STRUCTURED-LOCATION;VALUE=URI;X-ADDRESS=The Back Alley 4630 Macleod Trail Calgary AB Canada;X-APPLE-RADIUS=500;X-TITLE=4630 Macleod Trail:geo:-114.064381,51.0120541
END:VEVENT
BEGIN:VEVENT
DTSTART;TZID=America/Los_Angeles:20231006T203000
DTEND;TZID=America/Los_Angeles:20231006T235900
DTSTAMP:20260425T073030
CREATED:20230724T022413Z
LAST-MODIFIED:20230724T022419Z
UID:10001200-1696624200-1696636740@izprveruke.com
SUMMARY:Emir Djulovic - Salt Lake City
DESCRIPTION:Emir Djulovic live in Salt Lake City.  \n\n\n\nVise informacija 801-300-6011
URL:https://izprveruke.com/event/emir-djulovic-salt-lake-city/
LOCATION:Cafe Thao Mi\, 1773 W 4160 S\, Taylorsville\, UT\, United States
CATEGORIES:Koncerti
ATTACH;FMTTYPE=image/jpeg:https://izprveruke.com/wp-content/uploads/2023/07/emirdjulovic.jpg
GEO:40.6803239;-111.9400582
X-APPLE-STRUCTURED-LOCATION;VALUE=URI;X-ADDRESS=Cafe Thao Mi 1773 W 4160 S Taylorsville UT United States;X-APPLE-RADIUS=500;X-TITLE=1773 W 4160 S:geo:-111.9400582,40.6803239
END:VEVENT
BEGIN:VEVENT
DTSTART;TZID=America/Los_Angeles:20230930T203000
DTEND;TZID=America/Los_Angeles:20230930T235900
DTSTAMP:20260425T073030
CREATED:20230916T032645Z
LAST-MODIFIED:20230916T032646Z
UID:10001225-1696105800-1696118340@izprveruke.com
SUMMARY:Zvezde Granda - Grand Rapids
DESCRIPTION:Zvezde Granda Isak Sabanovic & Nenad Osmanovic live in Grand Rapids. \n\n\n\nVise informacija 616-272-1523
URL:https://izprveruke.com/event/zvezde-granda-grand-rapids/
LOCATION:Bar Down Grill\, 6209 Division Ave S\, Grand Rapids\, Michigan\, United States
CATEGORIES:Koncerti
ATTACH;FMTTYPE=image/jpeg:https://izprveruke.com/wp-content/uploads/2023/08/isak_nenad.jpg
GEO:42.8513387;-85.6642371
X-APPLE-STRUCTURED-LOCATION;VALUE=URI;X-ADDRESS=Bar Down Grill 6209 Division Ave S Grand Rapids Michigan United States;X-APPLE-RADIUS=500;X-TITLE=6209 Division Ave S:geo:-85.6642371,42.8513387
END:VEVENT
BEGIN:VEVENT
DTSTART;TZID=America/Los_Angeles:20230930T203000
DTEND;TZID=America/Los_Angeles:20230930T235900
DTSTAMP:20260425T073030
CREATED:20230909T165336Z
LAST-MODIFIED:20230909T165341Z
UID:10001223-1696105800-1696118340@izprveruke.com
SUMMARY:Dragana Mirkovic - Vancouver
DESCRIPTION:Dragana Mirkovic Live in Vancouver\, BC.
URL:https://izprveruke.com/event/dragana-mirkovic-vancouver/
LOCATION:Hellenic Community of Vancouver\, 4500 Arbutus St.\, Vancouver\, BC\, Canada
CATEGORIES:Koncerti
ATTACH;FMTTYPE=image/png:https://izprveruke.com/wp-content/uploads/2023/01/draganamirkovic-e1673429271253.png
GEO:49.2451661;-123.1526031
X-APPLE-STRUCTURED-LOCATION;VALUE=URI;X-ADDRESS=Hellenic Community of Vancouver 4500 Arbutus St. Vancouver BC Canada;X-APPLE-RADIUS=500;X-TITLE=4500 Arbutus St.:geo:-123.1526031,49.2451661
END:VEVENT
BEGIN:VEVENT
DTSTART;TZID=America/Los_Angeles:20230930T203000
DTEND;TZID=America/Los_Angeles:20230930T235900
DTSTAMP:20260425T073030
CREATED:20230724T021902Z
LAST-MODIFIED:20230925T010708Z
UID:10001199-1696105800-1696118340@izprveruke.com
SUMMARY:Emir Djulovic - San Jose
DESCRIPTION:Emir Djulovic live in San Francisco.  \n\n\n\nVise informacija 408-206-5483
URL:https://izprveruke.com/event/emir-djulovic-san-francisco/
LOCATION:Campbell Banquet Hall\, 1 W Campbell Ave.\, Campbell\, CA\, United States
CATEGORIES:Koncerti
ATTACH;FMTTYPE=image/jpeg:https://izprveruke.com/wp-content/uploads/2023/07/emirdjulovic.jpg
GEO:37.288189;-121.9514059
X-APPLE-STRUCTURED-LOCATION;VALUE=URI;X-ADDRESS=Campbell Banquet Hall 1 W Campbell Ave. Campbell CA United States;X-APPLE-RADIUS=500;X-TITLE=1 W Campbell Ave.:geo:-121.9514059,37.288189
END:VEVENT
BEGIN:VEVENT
DTSTART;TZID=America/Los_Angeles:20230930T203000
DTEND;TZID=America/Los_Angeles:20230930T235900
DTSTAMP:20260425T073030
CREATED:20230722T023705Z
LAST-MODIFIED:20230915T023025Z
UID:10001194-1696105800-1696118340@izprveruke.com
SUMMARY:Tea Tairovic - New Jersey
DESCRIPTION:Tea Tairovic live in New Jersey. Vise informacija 973-703-0105
URL:https://izprveruke.com/event/tea-tairovic-new-jersey/
LOCATION:Macedonian Cultural Center\, 1050 Prompton Avenue\, Cedar Grove\, NJ\, United States
CATEGORIES:Koncerti
ATTACH;FMTTYPE=image/jpeg:https://izprveruke.com/wp-content/uploads/2023/07/teatairovic.jpg
GEO:40.8517876;-74.2290319
X-APPLE-STRUCTURED-LOCATION;VALUE=URI;X-ADDRESS=Macedonian Cultural Center 1050 Prompton Avenue Cedar Grove NJ United States;X-APPLE-RADIUS=500;X-TITLE=1050 Prompton Avenue:geo:-74.2290319,40.8517876
END:VEVENT
BEGIN:VEVENT
DTSTART;TZID=America/Los_Angeles:20230929T203000
DTEND;TZID=America/Los_Angeles:20230929T235900
DTSTAMP:20260425T073030
CREATED:20230812T235221Z
LAST-MODIFIED:20230812T235225Z
UID:10001211-1696019400-1696031940@izprveruke.com
SUMMARY:Dragana Mirkovic - Toronto
DESCRIPTION:Dragana Mirkovic Live in Toronto.  \n\n\n\nAges 19+
URL:https://izprveruke.com/event/dragana-mirkovic-toronto/
LOCATION:Rebel\, 11 Polson St.\, Toronto\, ON\, Canada
CATEGORIES:Koncerti
ATTACH;FMTTYPE=image/png:https://izprveruke.com/wp-content/uploads/2023/01/draganamirkovic-e1673429271253.png
GEO:43.6407774;-79.3545752
X-APPLE-STRUCTURED-LOCATION;VALUE=URI;X-ADDRESS=Rebel 11 Polson St. Toronto ON Canada;X-APPLE-RADIUS=500;X-TITLE=11 Polson St.:geo:-79.3545752,43.6407774
END:VEVENT
BEGIN:VEVENT
DTSTART;TZID=America/Los_Angeles:20230929T203000
DTEND;TZID=America/Los_Angeles:20230929T235900
DTSTAMP:20260425T073030
CREATED:20230724T021506Z
LAST-MODIFIED:20230724T023700Z
UID:10001198-1696019400-1696031940@izprveruke.com
SUMMARY:Emir Djulovic - Phoenix
DESCRIPTION:Emir Djulovic live in Phoenix.  \n\n\n\nVise informacija 480-433-5505
URL:https://izprveruke.com/event/emir-djulovic-phoenix/
LOCATION:CB Live\, 21001 N Tatum Blvd.\, Phoenix\, AZ\, United States
CATEGORIES:Koncerti
ATTACH;FMTTYPE=image/jpeg:https://izprveruke.com/wp-content/uploads/2023/07/emirdjulovic.jpg
GEO:33.6765082;-111.9761103
X-APPLE-STRUCTURED-LOCATION;VALUE=URI;X-ADDRESS=CB Live 21001 N Tatum Blvd. Phoenix AZ United States;X-APPLE-RADIUS=500;X-TITLE=21001 N Tatum Blvd.:geo:-111.9761103,33.6765082
END:VEVENT
BEGIN:VEVENT
DTSTART;TZID=America/Los_Angeles:20230929T203000
DTEND;TZID=America/Los_Angeles:20230929T235900
DTSTAMP:20260425T073030
CREATED:20230722T023635Z
LAST-MODIFIED:20230925T010551Z
UID:10001193-1696019400-1696031940@izprveruke.com
SUMMARY:Tea Tairovic - St. Petersburg
DESCRIPTION:Tea Tairovic live in St. Petersburg. Vise informacija 561-268-6757 & 727-480-6367
URL:https://izprveruke.com/event/tea-tairovic-st-petersburg/
LOCATION:MK Event Hall\, 7599 Park Blvd. #400\, Pinellas Park\, Florida\, United States
CATEGORIES:Koncerti
ATTACH;FMTTYPE=image/jpeg:https://izprveruke.com/wp-content/uploads/2023/07/teatairovic.jpg
GEO:27.8396466;-82.7426582
X-APPLE-STRUCTURED-LOCATION;VALUE=URI;X-ADDRESS=MK Event Hall 7599 Park Blvd. #400 Pinellas Park Florida United States;X-APPLE-RADIUS=500;X-TITLE=7599 Park Blvd. #400:geo:-82.7426582,27.8396466
END:VEVENT
BEGIN:VEVENT
DTSTART;TZID=America/Los_Angeles:20230927T203000
DTEND;TZID=America/Los_Angeles:20230927T235900
DTSTAMP:20260425T073030
CREATED:20230724T024829Z
LAST-MODIFIED:20230915T023516Z
UID:10001207-1695846600-1695859140@izprveruke.com
SUMMARY:Emir Djulovic - Miami
DESCRIPTION:Emir Djulovic live in Miami.  \n\n\n\nVise informacija 305-922-3779
URL:https://izprveruke.com/event/emir-djulovic-miami/
LOCATION:Maxine’s\, 1756 Collins Ave.\, Miami Beach\, Florida\, United States
CATEGORIES:Koncerti
ATTACH;FMTTYPE=image/jpeg:https://izprveruke.com/wp-content/uploads/2023/07/emirdjulovic.jpg
GEO:25.7934453;-80.1299915
X-APPLE-STRUCTURED-LOCATION;VALUE=URI;X-ADDRESS=Maxine’s 1756 Collins Ave. Miami Beach Florida United States;X-APPLE-RADIUS=500;X-TITLE=1756 Collins Ave.:geo:-80.1299915,25.7934453
END:VEVENT
BEGIN:VEVENT
DTSTART;TZID=America/Los_Angeles:20230927T203000
DTEND;TZID=America/Los_Angeles:20230927T235900
DTSTAMP:20260425T073030
CREATED:20230722T023600Z
LAST-MODIFIED:20230915T022824Z
UID:10001192-1695846600-1695859140@izprveruke.com
SUMMARY:Tea Tairovic - Las Vegas
DESCRIPTION:Tea Tairovic live in La$ Vega$. Vise informacija 702-818-3613
URL:https://izprveruke.com/event/tea-tairovic-las-vegas/
LOCATION:Cafe Derbi\, 5920 W. Flamingo Rd.\, Las Vegas\, NV\, United States
CATEGORIES:Koncerti
ATTACH;FMTTYPE=image/jpeg:https://izprveruke.com/wp-content/uploads/2023/07/teatairovic.jpg
GEO:36.1154263;-115.2221234
X-APPLE-STRUCTURED-LOCATION;VALUE=URI;X-ADDRESS=Cafe Derbi 5920 W. Flamingo Rd. Las Vegas NV United States;X-APPLE-RADIUS=500;X-TITLE=5920 W. Flamingo Rd.:geo:-115.2221234,36.1154263
END:VEVENT
BEGIN:VEVENT
DTSTART;TZID=America/Los_Angeles:20230924T203000
DTEND;TZID=America/Los_Angeles:20230924T235900
DTSTAMP:20260425T073030
CREATED:20230722T023517Z
LAST-MODIFIED:20230915T022708Z
UID:10001191-1695587400-1695599940@izprveruke.com
SUMMARY:Tea Tairovic - Utica
DESCRIPTION:Tea Tairovic live in Utica. Vise informacija 315-527-3856
URL:https://izprveruke.com/event/tea-tairovic-utica/
LOCATION:Valentino’s Banquet Hall\, 3899 Oneida St.\, New Hartford\, NY\, United States
CATEGORIES:Koncerti
ATTACH;FMTTYPE=image/jpeg:https://izprveruke.com/wp-content/uploads/2023/07/teatairovic.jpg
GEO:43.051199;-75.2737
X-APPLE-STRUCTURED-LOCATION;VALUE=URI;X-ADDRESS=Valentino’s Banquet Hall 3899 Oneida St. New Hartford NY United States;X-APPLE-RADIUS=500;X-TITLE=3899 Oneida St.:geo:-75.2737,43.051199
END:VEVENT
BEGIN:VEVENT
DTSTART;TZID=America/Los_Angeles:20230923T203000
DTEND;TZID=America/Los_Angeles:20230923T235900
DTSTAMP:20260425T073030
CREATED:20230828T033053Z
LAST-MODIFIED:20230828T033102Z
UID:10001220-1695501000-1695513540@izprveruke.com
SUMMARY:Zvezde Granda - New York
DESCRIPTION:Zvezde Granda Isak Sabanovic & Nenad Osmanovic live in NYC.
URL:https://izprveruke.com/event/zvezde-granda-new-york/
LOCATION:Melrose Ballroom\, 36-08 33rd St.\, New York\, NY\, United States
CATEGORIES:Koncerti
ATTACH;FMTTYPE=image/jpeg:https://izprveruke.com/wp-content/uploads/2023/08/isak_nenad.jpg
GEO:40.7555992;-73.9286147
X-APPLE-STRUCTURED-LOCATION;VALUE=URI;X-ADDRESS=Melrose Ballroom 36-08 33rd St. New York NY United States;X-APPLE-RADIUS=500;X-TITLE=36-08 33rd St.:geo:-73.9286147,40.7555992
END:VEVENT
BEGIN:VEVENT
DTSTART;TZID=America/Los_Angeles:20230923T203000
DTEND;TZID=America/Los_Angeles:20230923T235900
DTSTAMP:20260425T073030
CREATED:20230724T024150Z
LAST-MODIFIED:20230724T024156Z
UID:10001206-1695501000-1695513540@izprveruke.com
SUMMARY:Emir Djulovic - Atlanta
DESCRIPTION:Emir Djulovic live in Atlanta.  \n\n\n\nVise informacija 770-743-5234
URL:https://izprveruke.com/event/emir-djulovic-atlanta/
LOCATION:Royal Ballroom\, 6185 Buford hwy Bldg C\, Peachtree Corners\, GA\, United States
CATEGORIES:Koncerti
ATTACH;FMTTYPE=image/jpeg:https://izprveruke.com/wp-content/uploads/2023/07/emirdjulovic.jpg
GEO:33.9320852;-84.2245905
X-APPLE-STRUCTURED-LOCATION;VALUE=URI;X-ADDRESS=Royal Ballroom 6185 Buford hwy Bldg C Peachtree Corners GA United States;X-APPLE-RADIUS=500;X-TITLE=6185 Buford hwy Bldg C:geo:-84.2245905,33.9320852
END:VEVENT
BEGIN:VEVENT
DTSTART;TZID=America/Los_Angeles:20230923T203000
DTEND;TZID=America/Los_Angeles:20230923T235900
DTSTAMP:20260425T073030
CREATED:20230722T023254Z
LAST-MODIFIED:20230915T022516Z
UID:10001189-1695501000-1695513540@izprveruke.com
SUMMARY:Tea Tairovic - St. Louis
DESCRIPTION:Tea Tairovic live in St. Louis. Vise informacija 314-489-4404
URL:https://izprveruke.com/event/tea-tairovic-st-louis/
LOCATION:Falls Convention Center\, 300 Admiral Weinel Blvd.\, Columbia\, Illinois\, United States
CATEGORIES:Koncerti
ATTACH;FMTTYPE=image/jpeg:https://izprveruke.com/wp-content/uploads/2023/07/teatairovic.jpg
GEO:38.4388745;-90.2114976
X-APPLE-STRUCTURED-LOCATION;VALUE=URI;X-ADDRESS=Falls Convention Center 300 Admiral Weinel Blvd. Columbia Illinois United States;X-APPLE-RADIUS=500;X-TITLE=300 Admiral Weinel Blvd.:geo:-90.2114976,38.4388745
END:VEVENT
BEGIN:VEVENT
DTSTART;TZID=America/Los_Angeles:20230922T203000
DTEND;TZID=America/Los_Angeles:20230922T235900
DTSTAMP:20260425T073030
CREATED:20230724T021416Z
LAST-MODIFIED:20230724T021421Z
UID:10001197-1695414600-1695427140@izprveruke.com
SUMMARY:Emir Djulovic - Bowling Green
DESCRIPTION:Emir Djulovic live in Bowling Green.  \n\n\n\nVise informacija 270-320-2180
URL:https://izprveruke.com/event/emir-djulovic-bowling-green/
LOCATION:La Gala\, 601 State St.\, Bowling Green\, KY\, United States
CATEGORIES:Koncerti
ATTACH;FMTTYPE=image/jpeg:https://izprveruke.com/wp-content/uploads/2023/07/emirdjulovic.jpg
GEO:36.9955127;-86.4372742
X-APPLE-STRUCTURED-LOCATION;VALUE=URI;X-ADDRESS=La Gala 601 State St. Bowling Green KY United States;X-APPLE-RADIUS=500;X-TITLE=601 State St.:geo:-86.4372742,36.9955127
END:VEVENT
BEGIN:VEVENT
DTSTART;TZID=America/Los_Angeles:20230922T203000
DTEND;TZID=America/Los_Angeles:20230922T235900
DTSTAMP:20260425T073030
CREATED:20230722T023226Z
LAST-MODIFIED:20230813T002015Z
UID:10001188-1695414600-1695427140@izprveruke.com
SUMMARY:Tea Tairovic - Detroit
DESCRIPTION:Tea Tairovic live in Detroit.
URL:https://izprveruke.com/event/tea-tairovic-detroit/
LOCATION:Imperial House\, 34701 Groesbeck Hwy.\, Clinton Twp\, Michigan\, United States
CATEGORIES:Koncerti
ATTACH;FMTTYPE=image/jpeg:https://izprveruke.com/wp-content/uploads/2023/07/teatairovic.jpg
GEO:42.5512531;-82.9268663
X-APPLE-STRUCTURED-LOCATION;VALUE=URI;X-ADDRESS=Imperial House 34701 Groesbeck Hwy. Clinton Twp Michigan United States;X-APPLE-RADIUS=500;X-TITLE=34701 Groesbeck Hwy.:geo:-82.9268663,42.5512531
END:VEVENT
BEGIN:VEVENT
DTSTART;TZID=America/Los_Angeles:20230922T203000
DTEND;TZID=America/Los_Angeles:20230922T235900
DTSTAMP:20260425T073030
CREATED:20230519T025825Z
LAST-MODIFIED:20230916T032535Z
UID:10001173-1695414600-1695427140@izprveruke.com
SUMMARY:Zvezde Granda - Chicago
DESCRIPTION:Zvezde Granda Isak Sabanovic & Nenad Osmanovic live in Chicago. \n\n\n\nVise informacija 773-336-3605
URL:https://izprveruke.com/event/zvezde-granda-chicago/
LOCATION:Congas Club\, 7021 W Higgins Avenue\, Chicago\, Illinois\, United States
CATEGORIES:Koncerti
ATTACH;FMTTYPE=image/jpeg:https://izprveruke.com/wp-content/uploads/2023/08/isak_nenad.jpg
GEO:41.9800797;-87.8033436
X-APPLE-STRUCTURED-LOCATION;VALUE=URI;X-ADDRESS=Congas Club 7021 W Higgins Avenue Chicago Illinois United States;X-APPLE-RADIUS=500;X-TITLE=7021 W Higgins Avenue:geo:-87.8033436,41.9800797
END:VEVENT
BEGIN:VEVENT
DTSTART;TZID=America/Los_Angeles:20230920T203000
DTEND;TZID=America/Los_Angeles:20230920T235900
DTSTAMP:20260425T073030
CREATED:20230722T023152Z
LAST-MODIFIED:20230915T022250Z
UID:10001187-1695241800-1695254340@izprveruke.com
SUMMARY:Tea Tairovic - Miami
DESCRIPTION:Tea Tairovic live in Miami. Vise informacija 305-922-3779
URL:https://izprveruke.com/event/tea-tairovic-miami/
LOCATION:GALA Miami\, 235 23rd St.\, Miami\, Florida\, United States
CATEGORIES:Koncerti
ATTACH;FMTTYPE=image/jpeg:https://izprveruke.com/wp-content/uploads/2023/07/teatairovic.jpg
GEO:25.799318;-80.1901516
X-APPLE-STRUCTURED-LOCATION;VALUE=URI;X-ADDRESS=GALA Miami 235 23rd St. Miami Florida United States;X-APPLE-RADIUS=500;X-TITLE=235 23rd St.:geo:-80.1901516,25.799318
END:VEVENT
BEGIN:VEVENT
DTSTART;TZID=America/Los_Angeles:20230917T203000
DTEND;TZID=America/Los_Angeles:20230917T235900
DTSTAMP:20260425T073030
CREATED:20230722T023127Z
LAST-MODIFIED:20230915T022122Z
UID:10001186-1694982600-1694995140@izprveruke.com
SUMMARY:Tea Tairovic - Jacksonville
DESCRIPTION:Tea Tairovic live in Jacksonville. Vise informacija 904-514-7304
URL:https://izprveruke.com/event/tea-tairovic-jacksonville/
LOCATION:Smash Whispers Lounge\, 8206 Philips Hwy Unit 6\, Jacksonville\, Florida\, United States
CATEGORIES:Koncerti
ATTACH;FMTTYPE=image/jpeg:https://izprveruke.com/wp-content/uploads/2023/07/teatairovic.jpg
GEO:30.2198384;-81.5869658
X-APPLE-STRUCTURED-LOCATION;VALUE=URI;X-ADDRESS=Smash Whispers Lounge 8206 Philips Hwy Unit 6 Jacksonville Florida United States;X-APPLE-RADIUS=500;X-TITLE=8206 Philips Hwy Unit 6:geo:-81.5869658,30.2198384
END:VEVENT
BEGIN:VEVENT
DTSTART;TZID=America/Los_Angeles:20230916T203000
DTEND;TZID=America/Los_Angeles:20230916T235900
DTSTAMP:20260425T073030
CREATED:20230821T042212Z
LAST-MODIFIED:20230821T054115Z
UID:10001218-1694896200-1694908740@izprveruke.com
SUMMARY:Zvezde Granda - St. Petersburg
DESCRIPTION:Zvezde Granda Isak Sabanovic & Nenad Osmanovic live in St. Petersburg. \n\n\n\nVise informacija 727-452-3215 & 727-221-2182
URL:https://izprveruke.com/event/zvezde-granda-st-petersburg/
LOCATION:Cafe ‘Allo ‘Allo!\, 6514 4th St. N.\, St. Petersburg\, Florida\, United States
CATEGORIES:Koncerti
ATTACH;FMTTYPE=image/jpeg:https://izprveruke.com/wp-content/uploads/2023/08/isak_nenad.jpg
GEO:27.8320828;-82.6392086
X-APPLE-STRUCTURED-LOCATION;VALUE=URI;X-ADDRESS=Cafe ‘Allo ‘Allo! 6514 4th St. N. St. Petersburg Florida United States;X-APPLE-RADIUS=500;X-TITLE=6514 4th St. N.:geo:-82.6392086,27.8320828
END:VEVENT
BEGIN:VEVENT
DTSTART;TZID=America/Los_Angeles:20230916T203000
DTEND;TZID=America/Los_Angeles:20230916T235900
DTSTAMP:20260425T073030
CREATED:20230724T021307Z
LAST-MODIFIED:20230822T010922Z
UID:10001196-1694896200-1694908740@izprveruke.com
SUMMARY:Emir Djulovic - St. Louis
DESCRIPTION:Emir Djulovic live in St. Louis.  \n\n\n\nVise informacija 314-707-3271
URL:https://izprveruke.com/event/emir-djulovic-st-louis/
LOCATION:Bistro Banquet Hall\, 5209 Gravois Rd\, Saint Louis\, 63116
CATEGORIES:Koncerti
ATTACH;FMTTYPE=image/jpeg:https://izprveruke.com/wp-content/uploads/2023/07/emirdjulovic.jpg
GEO:38.5798646;-90.2693313
X-APPLE-STRUCTURED-LOCATION;VALUE=URI;X-ADDRESS=Bistro Banquet Hall 5209 Gravois Rd Saint Louis 63116;X-APPLE-RADIUS=500;X-TITLE=5209 Gravois Rd:geo:-90.2693313,38.5798646
END:VEVENT
BEGIN:VEVENT
DTSTART;TZID=America/Los_Angeles:20230916T203000
DTEND;TZID=America/Los_Angeles:20230916T235900
DTSTAMP:20260425T073030
CREATED:20230722T023100Z
LAST-MODIFIED:20230915T022031Z
UID:10001185-1694896200-1694908740@izprveruke.com
SUMMARY:Tea Tairovic - Chicago
DESCRIPTION:Tea Tairovic live in Chicago. Vise informacija 773-425-3911
URL:https://izprveruke.com/event/tea-tairovic-chicago/
LOCATION:Stereo Nightclub\, 5616 W Diversey Ave.\, Chicago\, Illinois\, United States
CATEGORIES:Koncerti
ATTACH;FMTTYPE=image/jpeg:https://izprveruke.com/wp-content/uploads/2023/07/teatairovic.jpg
GEO:41.931541;-87.7669881
X-APPLE-STRUCTURED-LOCATION;VALUE=URI;X-ADDRESS=Stereo Nightclub 5616 W Diversey Ave. Chicago Illinois United States;X-APPLE-RADIUS=500;X-TITLE=5616 W Diversey Ave.:geo:-87.7669881,41.931541
END:VEVENT
BEGIN:VEVENT
DTSTART;TZID=America/Los_Angeles:20230915T203000
DTEND;TZID=America/Los_Angeles:20230915T235900
DTSTAMP:20260425T073030
CREATED:20230724T021155Z
LAST-MODIFIED:20230821T051356Z
UID:10001195-1694809800-1694822340@izprveruke.com
SUMMARY:Emir Djulovic - Des Moines
DESCRIPTION:Emir Djulovic live in Des Moines.  \n\n\n\nVise informacija 515-778-8348
URL:https://izprveruke.com/event/emir-djulovic-des-moines/
LOCATION:Ramada\, 5000 Merle Hay Rd.\, Des Moines\, IA\, United States
CATEGORIES:Koncerti
ATTACH;FMTTYPE=image/jpeg:https://izprveruke.com/wp-content/uploads/2023/07/emirdjulovic.jpg
GEO:41.650424;-93.6992533
X-APPLE-STRUCTURED-LOCATION;VALUE=URI;X-ADDRESS=Ramada 5000 Merle Hay Rd. Des Moines IA United States;X-APPLE-RADIUS=500;X-TITLE=5000 Merle Hay Rd.:geo:-93.6992533,41.650424
END:VEVENT
BEGIN:VEVENT
DTSTART;TZID=America/Los_Angeles:20230915T203000
DTEND;TZID=America/Los_Angeles:20230915T235900
DTSTAMP:20260425T073030
CREATED:20230722T023029Z
LAST-MODIFIED:20230916T032244Z
UID:10001184-1694809800-1694822340@izprveruke.com
SUMMARY:Tea Tairovic - Atlanta
DESCRIPTION:Tea Tairovic live in Atlanta
URL:https://izprveruke.com/event/tea-tairovic-atlanta/
LOCATION:Ehall Atlanta\, 1550 Beaver Ruin Rd.\, Norcross\, GA\, United States
CATEGORIES:Koncerti
ATTACH;FMTTYPE=image/jpeg:https://izprveruke.com/wp-content/uploads/2023/07/teatairovic.jpg
GEO:33.9316301;-84.1473473
X-APPLE-STRUCTURED-LOCATION;VALUE=URI;X-ADDRESS=Ehall Atlanta 1550 Beaver Ruin Rd. Norcross GA United States;X-APPLE-RADIUS=500;X-TITLE=1550 Beaver Ruin Rd.:geo:-84.1473473,33.9316301
END:VEVENT
END:VCALENDAR